{"text_format":"1","workbook":"xlsx","n_sheets":15,"sheets":["Dev","Title","1.Profile","+Prices","+Options","2.Strategy","Calcs","Chart2","Chart1","Bio results","3. Out Eco","3. Out Pop","3. Out C&G","3. Out Tab","Eco results"],"not_rendered":{"charts":21,"images":37,"macros":1,"external_links":0,"defined_names":74,"comments":11,"pivot_tables":0},"unopened":[{"sheet":"Chart2","index":7,"reason":"not_a_worksheet"},{"sheet":"Chart1","index":8,"reason":"not_a_worksheet"}],"bounds":{"document_bytes":16777216,"sheet_cells":100000,"rows_first":2000,"rows_last":500,"rows_between":2000,"halvings":0,"cell_chars":16384,"cell_head_chars":4096},"cells_cut":0,"cells_raw":0,"read":"whole","date_system":"1900"}

{"sheet":"Dev","index":0,"n_rows":93,"n_cols":62,"rows_kept":93,"cut":false,"hidden":false,"merged":[]}
[]
[]
[]
[]
[]
[]
[]
[null,null,null,null,null,null,null,"For at starte DK-RIM, tillad makroer  "]
[null,null,null,null,null,null,null,"at køre i dine sikkerhedsindstillinger"]
[]
[]
[]
[null,null,"RIM er software fr Aarhus Universitet, Afdeling for Agroøkologi"]
[null,null,"Modellen og programmet blev oprindeligt udviklet af Univeristy of Western Australia"]
[null,null,"© 2017 Ms Excel 2007® eller nyere anbefales  "]
[]
[]
[]
[]
[]
[]
[]
[]
[]
[]
[]
[]
[]
[]
[]
[]
[]
[]
[]
[]
[]
[]
[]
[]
[]
[]
[]
[]
[]
[]
[]
[]
[]
[]
[]
[]
[]
[]
[]
[]
[]
[null,null,null,"Before to screen-copy, zoom to 100% and make sure computer resolution settings are normal"]
[]
[]
[null,null," "]
[null,null,null,null,null,null,null,null,null,null,null,null,null,"Første trin er at tilpasse basis oplysningerne til netop din dyrkning.",null,null,null,null,null,null,null,"Det næste trin er at opbygge din strategi.",null,null,null,null,null,null,null,"I det næste trin kan du sammenligne strategierne",null,null,null,null,null,null,null,"Rajgræs population og frøpulje",null,null,null,null,null,null,null,"Udbytte og Konkurrence",null,null,null,null,null,null,null,"Export af resultater"]
[null,null,null,null,null,null,null,null,null,null,null,null,null,null,null,null,null,null,"For hvert af de viste 10 år, skal du vælge en afgrøde."]
[null,null,null,null,null,"Velkommen til DK-RIM!",null,null,null,null,null,null,null,"Du skal tænke på et gennemsnitsår.",null,null,null,null,"Hvis du vælger vintersæd inaktiveres vårsæd automatisk og omvendt",null,null,null,null,null,null,null,"Det kræver du har trykket på                     eller   ",null,null,null,null,null,null,null,null,null,null,null,null,null,null,null,null,null,null,null,null,null,null,null,null,null,null,null,null,null,null,null,null,null,null,"At låse DK-RIM op…"]
[null,null,null,null,null,null,null,null,null,null,null,null,null,null,null,null,null,null,"Den nederste del \"Alle\" hører til både vinter- og vårsæd",null,null,null,null,null,null,null,null,null,null,null,null,null,null,null,null,null,null,"Graferne på denne fane giver yderligere sammenligninger, "]
[null,null,null,null,null,null,null,null,null,null,null,null,null,"Start med at tilpasse dine udbytter og salgspriser…",null,null,null,null,null,null,null,null,null,null,null,null,null,null,null,null,null,null,null,null,null,null,null,"med fokus på udviklingenr over tid af: ",null,null,null,null,null,null,null,"Denne fane fokuserer på indflydelse af dyrkningspraksis",null,null,null,null,null,null,null,"Hvis du har problemer med at printe eller gemme,"]
[null,null,null,null,null,null,null,null,null,null,null,null,null,null,null,null,null,null,null,null,null,null,null,null,null,null,null,null,null,"Du kan sammenligne to strategier med samme basis oplysninger:",null,null,null,null,null,"- antallet af rajgræsplanter (fuld optrukket linje); og",null,null,null,null,null,null,null,null,null,"og rajgræsmængdens effekt på dine afgrøder.",null,null,null,null,null,null,null,"kan du prøve at kører DK-RIM i en nyere version af Excel."]
[null,null,null,null,null,"RIM giver dig mulighed for at prøve, hvordan rajgræs og udbytter ",null,null,null,null,null,null,null,null,null,null,null,null,null,null,null,null,null,null,null,null,null,null,"Jensen, Mark 1 - Herbicider",null,null,null,null,null,null,"- frøpuljen (skraveret område)."]
[null,null,null,null,null,"udvikler sig over tid afhængig af dyrkningsstrategi.",null,null,null,null,null,null,null,null,null,null,null,null,null,null,null,null,null,null,null,null,null,null,"Jensen, Mark 1 - Ingen herbicider",null,null,null,null,null,null,null,null,null,null,null,null,null,null,null,null,null,null,null,null,null,null,null,null,"Du kan også gå tilbage til startsiden og gå til \"Information\""]
[null,null,null,null,null,null,null,null,null,null,null,null,null,null,null,null,null,null,null,null,null,null,null,null,null,null,null,null,null,null,null,null,null,null,null,null,null,"I den foregående graf (Oversigt og økonomi)",null,null,null,null,null,null,null,"DK-RIM bruger ukrudtsfrit udbytte, som",null,null,null,null,null,null,null,"Her kan du låse DK-RIM op.",null,null,null,null,null,null,null,"… kan ændre indhold og functionalitet"]
[null,null,null,null,null,"RIM kan vise hvilken udvikling er mest sandsynlig ",null,null,null,null,"  Der er mere hjælp at hente",null,null,"  Alle bælgsædsafgrøder (ærter,",null,null,null,null,null,null,null,null,null,null,null,null,null,null,null,null,null,null,null,null,null,null,null,"vises kun antallet ved slutningen af sæsonen.",null,null,null,null,null,null,null,"du har angivet i \"Basis oplysninger\", som udgangspunkt. ",null,null,null,null,null,null,null,"Hermed kan du se det ubeskyttede indhold.",null,null,null,null,null,null,null,"og anbefales generelt ikke!"]
[null,null,null,null,null,"ud fra de valg du foretager?",null,null,null,null,"ved at holde musen over de røde",null,null," bønner m. fl.) ",null,null,null,null,null,null,null,null,null,null,null,null,null,null,null,"..med forskellige basis oplysninger (samme strategi, eller en anden) ",null,null,null,null,null,null,null,"Her vises planter og frø gennem årene.",null,null,null,null,null,null,null,null,null,null,null,null,null,null,null,"Du kan printe eller gemme dele af resultatsiderne "]
[null,null,null,null,null,null,null,null,null,null,"hjørner",null,null,"  Som udgangspunkt er ærter lagt ind",null,null,null,null,null,null,null,null,null,null,null,null,null,null,"Jensen, Mark 1 - Herbicider",null,null,null,null,null,null,null,null,null,null,null,null,null,null,null,null,"Dette \"Udbytte potentiale\" (           ) påvirkes af praksis",null,null,null,null,null,null,null,"(\"Bio Results\" og \"Eco Results)."]
[null,null,null,null,null,null,null,null,null,null,"…fortsæt med de andre tal. Du kan ændre herbicider, doseringer ",null,null,null,null,null,null,null,"Derefter vælger du resten af dyrkningsstrategien…",null,null,null,null,null,null,null,null,null,"Jensen, Resistens  - Herbicider",null,null,null,null,null,null,null,null,"Typisk vil antallet af rajgræsplanter øges i starten af",null,null,null,null,null,null,null," og sædskifte (           ). Korn vil foreksempel have gavn af",null,null,null,null,null,"Vær opmærksom på at dette indhold er på engelsk"]
[null,null,null,null,null,null,null,null,null,null,"og effekt i denne tabel",null,null,null,null,null,null,null,null,null,null,null,null,null,null,null,null,null,null,null,null,null,null,null,null,null,null,"vækstsæsonen, og falde i takt med at bekæmpelse udføres.",null,null,null,null,null,null,null,"forfrugt af bælgsæd, mens et ensidigt sædskifte kan resultere",null,null,null,null,null,null,null,null,null,null,null,null,null,"Du kan evt. låse DK-RIM op, hvis:"]
[null,null,null,null,null,null,null,null,null,null,null,null,"…og yderligere muligheder og priser i:",null,null,null,null,null,null,null,null,null,null,null,null,null,null,null,null,null,null,null,null,null,null,null,null,"Fremspiring, bekæmpelse og dødelighed af frø vil ",null,null,null,null,null,null,null,"i tab. Nogle gange vil fordele og ulemper udligne hinanden."]
[null,null,null,null,null,null,null,null,null,null,null,null,null,null,null,null,null,null,null,null,null,null,null,null,null,null,null,"Klik på denne knap for at tilpasse grafens akser: ",null,null,null,null,null,null,null,null,null,"gradvist udtømme frøpuljen.",null,null,null,null,null,null,null,null,null,null,null,null,null,null,null,null,null,null,null,null,null,"-du har problemer med at eksportere resultater"]
[null,null,null,null,null,null,null,null,null,null,null,null,null,null,null,null,null,null,null,null,null,null,null,null,null,null,null," Auto","- for at justere til værdierne"]
[null,null,null,null,null,null,null,null,null,null,null,null,null,null,null,null,null,null,null,null,null,null,null,null,null,null,null,null,null,null,null,null,null,null,null,null,null,null,null,null,null,null,null,null,null,"Det endelige udbytte (           ) tager hensyn til konkurrence.",null,null,null,null,null,null,null,null,null,null,null,null,null,"- du ønsker at tilpasse yderligere parametre"]
[null,null,null,null,null,"Kan du holde rajgræs populationen under kontrol?",null,null,null,null,null,"Når du mener det stemmer, navngiv dine oplysninger. ",null,null,null,null,null,null,null,null,null,null,null,null,null,null,null,null,null,null,null,null,null,null,"Note:",null,null,null,null,null,null,null,null,null,null,"hvis du har rajgræspopulationen under kontrol vil tabet pga. af dette "]
[null,null,null,null,null,"Vil du øge eller miste udbytte?",null,null,null,null,null,"Du kan gemme dem her og hente dem igen senere:",null,null,null,null,null,null,null,null,null,null,null,null,null,null,null,null,null,null,null,null,null,null,null,"- hver markering på den horisontale akse angiver sommer",null,null,null,null,null,null,null,null,null,"være tæt på nul.",null,null,null,null,null,null,null,"Henvendelser, kommentarer og feedback,",null,null,null,null,null,"- du ønsker at se de bagvedliggende udregninger"]
[null,null,null,null,null,"Hvad sker der, når resistens opstår?",null,null,null,null,null,null,null,null,null,null,null,null,"…og se effekten på rajgræsantal og udbytte.",null,null,null,null,null,null,null,null,null,null,"for at se flere resultater, klik på fanerne i toppen:",null,null,null,null,null,null,null,null,null,null,null,null,null,null,null,null,null,null,null,null,null,null,null,"skal rettes til Institut for Agroøkologi, Aarhus Universitet.",null,null,null,null,null,"og forudsætninger"]
[null,null,null,null,null,"Skal du ændre din strategi?"]
[null,null,null,null,null,"Hvilket sædskifte kan give størst udbytte over tid?",null,null,null,null,"gå videre til næste trin ved at bruge Næste knappen:",null,null,null,null,null,null,null,"Når du er færdig, navngiv din strategi.",null,null,null,null,null,null,null,null,null,null,null,null,null,null,null,null,null,null,null,null,null,null,null,null,null,null,null,null,null,null,null,null,null,null,null,null,null,null,null,null,"- du ønsker at tilpasse DK-RIM og/eller bruge DK-RIM "]
[null,null,null,null,null,null,null,null,null,null,null,null,null,null,null,null,null,null,"Du kan gemme dem her og hente dem igen senere:",null,null,null,null,null,null,null,null,null,null,null,null,null,"Den sidste fane viser tabeller",null,null,null,null,null,null,null,null,null,null,null,null,null,null,null,null,null,null,null,null,null,null,null,null,null,null,"i forskningssammenhæng. I begge tilfælde anerkendes "]
[null,null,null,null,null,null,null,null,null,null,null,null,null,null,null,null,null,null,null,null,null,null,null,null,null,null,null,null,null,null,null,null,"over de værdier alle grafer er baseret på",null,null,null,null,null,null,null,null,null,null,null,"Grafen til højre er vist som reference.",null,null,null,null,null,null,null,null,null,null,null,null,null,null,"copyright og forbehold nævnt andetsteds"]
[null,null,null,null,null,null,null,null,null,null,null,null,null,null,null,null,null,null,"Du kan sammeligne to strategier ved at trykke på ",null,null,null,null,null,null,null,null,null,null,null,null,null,null,null,null,null,null,null,null,null,null,null,null,null,"Den illustrerer betydningen af konkurrence "]
[null,null,null,null,null,null,null,null,null,null,"Du kan altid klikke på DK-RIM logoet og komme tilbage til startsiden. ",null,null,null,null,null,null,null,"hhv. den røde og blå knap efter at have planlagt strategierne",null,null,null,null,null,null,null,"for at printe eller eksportere resultater, klik på",null,null,null,null,null,null,null,"For at se resultaterne i et andet perspektiv, prøv",null,null,null,null,null,null,null,null,null,"og hvordan betydnignen variere afhængig af afgrøde",null,null,null,null,null,"Du kan altid klikke på DK-RIM logoet og komme tilbage til startsiden. "]
[null,null,null,null,null,null,null,null,null,null,"Så længe programmet ikke er lukket er dine ændringer gemt.",null,null,null,null,null,null,null,null,null,null,null,null,null,null,null,null,null,null,null,null,null,null,null,null,null,null,null,null,null,null,null,null,null,"og rajgræstæthed.",null,null,null,null,null,"Så længe programmet ikke er lukket er dine ændringer gemt."]
[]
[null,null,null,null,null,null,null,"Fortsæt!"]
[null,null,null,null,null,null,null,null,null,null,null,null,"Zoom to 80% only"]
[]
[null,null,null,null,null,"With the support of"]

{"sheet":"Title","index":1,"n_rows":113,"n_cols":39,"rows_kept":113,"cut":false,"hidden":false,"merged":[]}
[]
[]
[]
[]
[]
[]
[]
[]
[]
[]
[]
[null,null,null,null,null,null,null,null,null,null,null,"Danmark"]
[null,null,null,null,null,null,null,null,null,null,null,null,"Integreret bekæmpelse af italiensk rajgræs   "]
[]
[]
[]
[]
[]
[]
[]
[]
[null,null,"Et beslutningsstøtteværktøj til at evaluere strategier for rajgræsbekæmpelse"]
[null,null,"både på kort og lang sigt i 3 simple trin:"]
[]
[]
[null,null,"1. Definér basisoplysninger     2. Opbyg din strategi      3. Sammenlign resultater"]
[]
[null,null,"Husk at se efter nyere version på Landbrugsinfo inden du bruger DK-RIM. Programmet vil løbende blive opdateret!"]
[]
[]
[]
[]
[null,null,null,null,null,null,null,null,null,null,null,null,null,null,null,null,null,null,null,null,null,null,null,null,null,null,null,null,null,null,null,null,null,null,null,null,null,null,0]
[]
[null,null,null,null,null,null,null,null,null,null,null,null,null,null,null,null,null,null,null,null,"Version 2019.1",null,null,null,null,null,null,null,null,null,null,null,null,null,null,null,null,null,false]
[]
[]
[]
[]
[]
[]
[]
[]
[]
[]
[]
[]
[]
[]
[]
[]
[]
[]
[]
[]
[]
[]
[]
[null,null,null,null,null,null,null,null,null,null,null,null,null,null,null,null,null,null,null,"Her kan du låse op "]
[null,null,null,null,null,null,null,null,null,null,null,null,null,null,null,null,null,null,null,"for programkoden"]
[]
[]
[]
[]
[]
[]
[]
[]
[]
[]
[]
[]
[]
[]
[]
[]
[]
[]
[]
[]
[]
[]
[]
[]
[]
[null,null,null,null,null,null,null,null,null,null,null,null,null,null,null,null,null,null,null,null,null,null,null,null,null," "]
[]
[]
[]
[]
[]
[]
[]
[]
[]
[]
[]
[]
[]
[]
[]
[]
[]
[]
[]
[]
[null,"Log since official release 2018 in DK:"]
[null,"version 2019.1: en lang række rettelser og forbedringer"]
[null,null,"- tilpasning af effekt af såtidstidpunkt"]
[null,null,"- tilpasning af udregning for frøproduktion"]
[null,null,"- flere rettelser på procedurer, der kører i baggrunden"]
[null,"version 03.08.2020: korrektion på frøproduktion og herbicideffektudregning"]
[null,"version 29.09.2020: korrektion afgrøde tæthed"]

{"sheet":"1.Profile","index":2,"n_rows":236,"n_cols":71,"rows_kept":236,"cut":false,"hidden":false,"merged":[[31,14,31,16],[32,14,32,16],[34,14,34,16],[61,2,61,3],[78,14,78,16],[71,14,71,16],[72,14,72,16],[75,14,75,16],[76,14,76,16],[15,2,15,3],[25,14,25,16],[26,14,26,16],[29,14,29,16],[30,14,30,16],[152,14,152,16],[153,14,153,16],[226,14,226,16],[227,14,227,16],[216,2,216,3],[187,14,187,16],[188,14,188,16],[114,14,114,16],[115,14,115,16],[177,2,177,3],[77,14,77,16],[154,14,154,16],[155,14,155,16],[148,14,148,16],[149,14,149,16],[110,14,110,16],[111,14,111,16],[100,2,100,3],[138,2,138,3],[80,14,80,16],[116,14,116,16],[117,14,117,16],[119,14,119,16],[233,14,233,16],[235,14,235,16],[157,14,157,16],[191,14,191,16],[192,14,192,16],[193,14,193,16],[194,14,194,16],[196,14,196,16],[230,14,230,16],[231,14,231,16],[232,14,232,16]]}
[]
[]
["1. Basisoplysninger"]
[null,"Brugeren kan ændre alle felter i lys-grøn. Der kan bl.a. slettes og tilføjes herbicider"]
[null,"Basis tal",null,"Vinter\nhvede","Vinter\nbyg","Vinter\nrug","Vinter\nraps","Vårbyg","Havre","Vår\nhvede","Bælgsæd"]
[]
[null,null,"Ukrudtsfrit udbytte",10,8,8,4.5,7,7.5,6,4.5,"t/ha",null,"Bekæmpelse fra"]
[null,null,"Pris ved salg",1200,1200,1050,2600,1200,1000,1200,1400,"kr/t",null,"efterafgrøder",0.02]
[null,null,null,null,null,null,null,null,null,null,null,null,null,null,null,null,null,null,null,null,null,null,null,null,null,null,null,null,null,null,null,null,null,null,null,null,null,null,null,null,null,null,null,null,null,null,null,null,null,null,null,null,null,null,null,null,null,null,null,null,null,null,null,null,null,null,"Gennemsnitsareal dyrket",null,null,1,"ha"]
[null,null,"Udgift til sprøjtning",null,null,75,"kr/ha","EU støtte pr hektar",null,null,0,"kr/ha",null,null,null," Modne rajgræsplanter sidste"]
[null,null,null,null,null,null,null,null,null,null,null,null,null,null," sæson:",2,"planter/m2"]
[]
[]
[null,"Bekæmpelsesmuligheder",null,null,"Vinter sæd","Vårsæd","Raps","Bælg\nsæd","Vinter sæd","Vårsæd","Raps","Bælg\nsæd"]
[null,"Udfyld herbicidnavn, pris og effektivitetsniveau (% kontrol af rajgræs):",null,null,null,null,"Pris (kr/ha)",null,null,null,"% kontrol af rajgræs"]
[null,"Glyphosat","540",null,75,75,75,75,0.85,0.85,0.85,0.85]
[null,"(g as)","1080","3 l a' 360 g",150,150,150,150,0.95,0.95,0.95,0.95]
[]
[null,"Før","Boxer 1 l",null,180,null,null,null,0.63]
[null,"fremspiring","Boxer 2 l",null,360,null,null,null,0.85,null,null,null,{"$f":"IF($AC$50<19,$AD$50,IF($AC$51<45,$AD$51,IF($AC$52<32,$AD$52,\"\")))","v":""}]
[null,null,null,null,null,null,null,null,null,null,null,null,"  "]
[null,"Herbicider","Topik","0,2 l",248,null,null,null,0.67]
[null,"Efter","Atlantis OD","0,75 l",258,null,null,null,0.97,null,null,null,"Gem Profilen"]
[null,"fremspiring","Hussar Plus OD","0,07 - 0,14 l",176,88,null,null,0.94,0.82]
[null,"Følg ","Broadway","130 g",160,null,null,null,0.86]
[null,"produkternes ","Cossack OD","0,93 l",344,null,null,null,0.98,null,null,null,"Filnavn",null,"Danmark",null,null," "]
[null,"brugsanvisning!","Focus Ultra","1,5 - 2 l",null,null,270,360,null,null,0.95,0.92,"Strategiens navn:",null,"Ingen resistens",null,null," "]
[null,null,"Kerb","1,25 l",null,null,394,null,null,null,0.92]
[]
[null,null,null,null,null,null,null,null,null,null,null,null,null,null,"ALS/SU resistens, Danmark",null,null," "]
[null,"Du kan indsætter dine egne strategier her",null,null,null,null,null,null,null,null,null,null,null,null,"Fop/dim resistens, Danmark",null,null," "]
[null,"Yderligere","Mulighed 1",null,null,null,null,null,null,null,null,null,null,null,"Metabolisk resistens, Danmark",null,null," "]
[null,"muligheder","Mulighed 2",null,null,null,null,null,null,null,null,null,null,null,"Ingen resistens, Danmark",null,null," "]
[]
[null,null,null,null,null,null,null,null,null,null,null,null,null,null,"Ingen resistens, Default",null,null," "]
[null,"Bemærk! Der kan findes forklaring i programmet ved at holde musen over de røde hjørnemarkeringer",null,null,null,null,null,null,null,null,null,null,null,null,null,null,null," "]
[]
[]
[null,null,null,null,null,null,null,null,null,null,null,null,null,null,null,null,null,null,null,null,null,null,null,null,null,null,null,null,null,null,null,null,null,null,null,null,null,null,null,null,null,null,null,{"$f":"P_1P","v":true},null,"indicator for printing"]
[]
[]
[]
[]
[]
[]
[null,null,null,null,null,null,null,null,null,null,null,null,null,null,null,null,null,null,null,null,null,null,null,null,null,null,null,null,null,null,null,null,null,null,null,null,null,null,null,null,null,null,null,false,null,"indicator for tutorials"]
[]
[null,null,null,null,null,null,null,null,null,null,null,null,null,null,null,null,null,"Note: careful with deleting/inserting lines, could stuff up the saving/loading macros"]
[null,"Profile_0",{"$f":"O35","v":"Ingen resistens, Default"}]
[null,null,null,null,null,null,null,null,null,null,null,null,null,null,null,null,null,null,null,null,null,null,null,null,null,null,null,null,{"$f":"COUNT(D7:K8,'1.Profile'!F10,O8,SeedNos_SH,O26:Q27)","v":19},"Der mangler informationer på denne side"]
[null,"Basis tal",null,"Vinter\nhvede","Vinter\nbyg","Vinter\nrug","Vinter\nraps","Vårbyg","Havre","Vår\nhvede","Bælgsæd",null,null,null,null,null,null,null,null,null,null,null,null,null,null,null,null,null,{"$f":"'+Prices'!AC46","v":45},"Der mangler information i \"Flere priser\""]
[null,null,null,null,null,null,null,null,null,null,null,null,null,null,null,null,null,null,null,null,null,null,null,null,null,null,null,null,{"$f":"'+Options'!AC48","v":42},"Der mangler information i \"Flere muligheder\""]
[null,null,"Ukrudtsfrit udbytte",10,8,8,4.5,7,7.5,6,4.5,"t/ha",null,"Bekæmpelse fra"]
[null,null,"Pris ved salg",1200,1200,1050,2600,1200,1000,1200,1400,"kr/t",null,"efterafgrøder",0.02]
[]
[null,null,"Udgift til sprøjtning",null,null,75,"kr/ha","EU støtte pr hektar",null,null,0,"kr/ha",null,null,null," Modne rajgræsplanter sidste"]
[null,null,null,null,null,null,null,null,null,null,null,null,null,null," sæson:",2,"planter/m2"]
[]
[]
[null,"Bekæmpelsesmuligheder",null,null,"Vinter sæd","Vårsæd","Raps","Bælg\nsæd","Vinter sæd","Vårsæd","Raps","Bælg\nsæd"]
[null,"Udfyld herbicidnavn, pris og effektivitetsniveau (% kontrol af rajgræs):",null,null,null,null,"Pris (kr/ha)",null,null,null,"% kontrol af rajgræs"]
[null,"Glyphosat","540",null,75,75,75,75,0.85,0.85,0.85,0.85]
[null,"(g as)","1080","3 l a' 360 g",150,150,150,150,0.95,0.95,0.95,0.95]
[]
[null,"Før","Boxer 1 l",null,180,null,null,null,0.63]
[null,"fremspiring","Boxer 2 l",null,360,null,null,null,0.85,null,null,null,{"$f":"IF($AC$50<19,$AD$50,IF($AC$51<45,$AD$51,IF($AC$52<32,$AD$52,\"\")))","v":""}]
[null,null,null,null,null,null,null,null,null,null,null,null,"  "]
[null,"Herbicider","Topik","0,2 l",248,null,null,null,0.67]
[null,"Efter","Atlantis OD","0,75 l",258,null,null,null,0.97,null,null,null,"Gem Profilen"]
[null,"fremspiring","Hussar Plus OD","0,07 - 0,14 l",176,88,null,null,0.94,0.82]
[null,"Følg ","Broadway","130 g",160,null,null,null,0.86]
[null,"produkternes ","Cossack OD","0,93 l",344,null,null,null,0.98,null,null,null,"Filnavn",null,"Danmark",null,null," "]
[null,"brugsanvisning!","Focus Ultra","1,5 - 2 l",null,null,270,360,null,null,0.95,0.92,"Strategiens navn:",null,"Ingen resistens",null,null," "]
[null,null,"Kerb","1,25 l",null,null,394,null,null,null,0.9]
[]
[null,null,null,null,null,null,null,null,null,null,null,null,null,null,"ALS/SU resistens, Danmark",null,null," "]
[null,"Du kan indsætter dine egne strategier her",null,null,null,null,null,null,null,null,null,null,null,null,"fop/dim resistens, Danmark",null,null," "]
[null,"Yderligere","Mulighed 1",null,null,null,null,null,null,null,null,null,null,null,"Metabolisk resistens, Danmark",null,null," "]
[null,"muligheder","Mulighed 2",null,null,null,null,null,null,null,null,null,null,null,null,null,null," "]
[]
[null,null,null,null,null,null,null,null,null,null,null,null,null,null,"Ingen resistens, Default",null,null," "]
[null,"Bemærk! Der kan findes forklaring i programmet ved at holde musen over de røde hjørnemarkeringer"]
[]
[]
[]
[]
[]
[null,"Profile_1",{"$f":"O30","v":"ALS/SU resistens, Danmark"}]
[]
[null,"Basis tal",null,"Vinter\nhvede","Vinter\nbyg","Vinter\nrug","Vinter\nraps","Vårbyg","Havre","Vår\nhvede","Bælgsæd"]
[]
[null,null,"Ukrudtsfrit udbytte",10,8,8,4.5,7,7.5,6,4.5,"t/ha",null,"Bekæmpelse fra"]
[null,null,"Pris ved salg",1200,1200,1050,2600,1200,1000,1200,1400,"kr/t",null,"efterafgrøder",0.02]
[]
[null,null,"Udgift til sprøjtning",null,null,75,"kr/ha","EU støtte pr hektar",null,null,0,"kr/ha",null,null,null," Modne rajgræsplanter sidste"]
[null,null,null,null,null,null,null,null,null,null,null,null,null,null," sæson:",2,"planter/m2"]
[]
[]
[null,"Bekæmpelsesmuligheder",null,null,"Vinter sæd","Vårsæd","Raps","Bælg\nsæd","Vinter sæd","Vårsæd","Raps","Bælg\nsæd"]
[null,"Udfyld herbicidnavn, pris og effektivitetsniveau (% kontrol af rajgræs):",null,null,null,null,"Pris (kr/ha)",null,null,null,"% kontrol af rajgræs"]
[null,"Glyphosat","540",null,75,75,75,75,0.85,0.85,0.85,0.85]
[null,"(g as)","1080","3 l a' 360 g",150,150,150,150,0.95,0.95,0.95,0.95]
[]
[null,"Før","Boxer 1 l",null,180,null,null,null,0.63]
[null,"fremspiring","Boxer 2 l",null,360,null,null,null,0.85,null,null,null,{"$f":"IF($AC$50<19,$AD$50,IF($AC$51<45,$AD$51,IF($AC$52<32,$AD$52,\"\")))","v":""}]
[null,null,null,null,null,null,null,null,null,null,null,null,"  "]
[null,"Herbicider","Topik","0,2 l",248,null,null,null,0.67]
[null,"Efter","Atlantis OD","0,75 l",258,null,null,null,0.05,null,null,null,"Gem Profilen"]
[null,"fremspiring","Hussar Plus OD","0,07 - 0,14 l",176,88,null,null,0.05,0.05]
[null,"Følg ","Broadway","130 g",160,null,null,null,0.05]
[null,"produkternes ","Cossack OD","0,93 l",344,null,null,null,0.05,null,null,null,"Filnavn",null,"Danmark",null,null," "]
[null,"brugsanvisning!","Focus Ultra","1,5 - 2 l",null,null,270,360,null,null,0.95,0.92,"Strategiens navn:",null,"ALS/SU resistens",null,null," "]
[null,null,"Kerb","1,25 l",null,null,394]
[]
[null,null,null,null,null,null,null,null,null,null,null,null,null,null,"ALS/SU resistens, Danmark",null,null," "]
[null,"You may enter additional end of season weed control options here:",null,null,null,null,null,null,null,null,null,null,null,null,"fop/dim resistens, Danmark",null,null," "]
[null,"Additional ","Mulighed 1",null,null,null,null,null,null,null,null,null,null,null,"Metabolisk resistens, Danmark",null,null," "]
[null,"control options","Mulighed 2",null,null,null,null,null,null,null,null,null,null,null,null,null,null," "]
[]
[null,null,null,null,null,null,null,null,null,null,null,null,null,null,"Ingen resistens, Default",null,null," "]
[]
[]
[]
[]
[]
[null,"Profile_2",{"$f":"O31","v":"Fop/dim resistens, Danmark"}]
[]
[null,"Basis tal",null,"Vinter\nhvede","Vinter\nbyg","Vinter\nrug","Vinter\nraps","Vårbyg","Havre","Vår\nhvede","Bælgsæd"]
[]
[null,null,"Ukrudtsfrit udbytte",10,8,8,4.5,7,7.5,6,4.5,"t/ha",null,"Bekæmpelse fra"]
[null,null,"Pris ved salg",1200,1200,1050,2600,1200,1000,1200,1400,"kr/t",null,"efterafgrøder",0.02]
[]
[null,null,"Udgift til sprøjtning",null,null,75,"kr/ha","EU støtte pr hektar",null,null,0,"kr/ha",null,null,null," Modne rajgræsplanter sidste"]
[null,null,null,null,null,null,null,null,null,null,null,null,null,null," sæson:",2,"planter/m2"]
[]
[]
[null,"Bekæmpelsesmuligheder",null,null,"Vinter sæd","Vårsæd","Raps","Bælg\nsæd","Vinter sæd","Vårsæd","Raps","Bælg\nsæd"]
[null,"Udfyld herbicidnavn, pris og effektivitetsniveau (% kontrol af rajgræs):",null,null,null,null,"Pris (kr/ha)",null,null,null,"% kontrol af rajgræs"]
[null,"Glyphosat","540",null,75,75,75,75,0.85,0.85,0.85,0.85]
[null,"(g as)","1080","3 l a' 360 g",150,150,150,150,0.95,0.95,0.95,0.95]
[]
[null,"Før","Boxer 1 l",null,180,null,null,null,0.63]
[null,"fremspiring","Boxer 2 l",null,360,null,null,null,0.85,null,null,null,{"$f":"IF($AC$50<19,$AD$50,IF($AC$51<45,$AD$51,IF($AC$52<32,$AD$52,\"\")))","v":""}]
[null,null,null,null,null,null,null,null,null,null,null,null,"  "]
[null,"Herbicider","Topik","0,2 l",248,null,null,null,0.05]
[null,"Efter","Atlantis OD","0,75 l",258,null,null,null,0.97,null,null,null,"Gem Profilen"]
[null,"fremspiring","Hussar Plus OD","0,07 - 0,14 l",176,88,null,null,0.94,0.82]
[null,"Følg ","Broadway","130 g",160,null,null,null,0.86]
[null,"produkternes ","Cossack OD","0,93 l",344,null,null,null,0.98,null,null,null,"Filnavn",null,"Danmark",null,null," "]
[null,"brugsanvisning!","Focus Ultra","1,5 - 2 l",null,null,270,360,null,null,0.95,0.92,"Strategiens navn:",null,"Fop/dim resistens",null,null," "]
[null,null,"Kerb","1,25 l",null,null,394]
[]
[null,null,null,null,null,null,null,null,null,null,null,null,null,null,"ALS/SU resistens, Danmark",null,null," "]
[null,"You may enter additional end of season weed control options here:",null,null,null,null,null,null,null,null,null,null,null,null,"fop/dim resistens, Danmark",null,null," "]
[null,"Additional ","Mulighed 1",null,null,null,null,null,null,null,null,null,null,null,"Metabolisk resistens, Danmark",null,null," "]
[null,"control options","Mulighed 2",null,null,null,null,null,null,null,null,null,null,null,null,null,null," "]
[]
[null,null,null,null,null,null,null,null,null,null,null,null,null,null,"Ingen resistens, Default",null,null," "]
[]
[]
[]
[]
[]
[]
[null,"Profile_3",{"$f":"O32","v":"Metabolisk resistens, Danmark"}]
[]
[null,"Basis tal",null,"Vinter\nhvede","Vinter\nbyg","Vinter\nrug","Vinter\nraps","Vårbyg","Havre","Vår\nhvede","Bælgsæd"]
[]
[null,null,"Ukrudtsfrit udbytte",10,8,8,4.5,7,7.5,6,4.5,"t/ha",null,"Bekæmpelse fra"]
[null,null,"Pris ved salg",1200,1200,1050,2600,1200,1000,1200,1400,"kr/t",null,"efterafgrøder",0.02]
[]
[null,null,"Udgift til sprøjtning",null,null,75,"kr/ha","EU støtte pr hektar",null,null,0,"kr/ha",null,null,null," Modne rajgræsplanter sidste"]
[null,null,null,null,null,null,null,null,null,null,null,null,null,null," sæson:",2,"planter/m2"]
[]
[]
[null,"Bekæmpelsesmuligheder",null,null,"Vinter sæd","Vårsæd","Raps","Bælg\nsæd","Vinter sæd","Vårsæd","Raps","Bælg\nsæd"]
[null,"Udfyld herbicidnavn, pris og effektivitetsniveau (% kontrol af rajgræs):",null,null,null,null,"Pris (kr/ha)",null,null,null,"% kontrol af rajgræs"]
[null,"Glyphosat","540",null,75,75,75,75,0.85,0.85,0.85,0.85]
[null,"(g as)","1080","3 l a' 360 g",150,150,150,150,0.95,0.95,0.95,0.95]
[]
[null,"Før","Boxer 1 l",null,180,null,null,null,0.3]
[null,"fremspiring","Boxer 2 l",null,360,null,null,null,0.5,null,null,null,{"$f":"IF($AC$50<19,$AD$50,IF($AC$51<45,$AD$51,IF($AC$52<32,$AD$52,\"\")))","v":""}]
[null,null,null,null,null,null,null,null,null,null,null,null,"  "]
[null,"Herbicider","Topik","0,2 l",248,null,null,null,0.4]
[null,"Efter","Atlantis OD","0,75 l",258,null,null,null,0.5,null,null,null,"Gem Profilen"]
[null,"fremspiring","Hussar Plus OD","0,07 - 0,14 l",176,88,null,null,0.5,0.5]
[null,"Følg ","Broadway","130 g",160,null,null,null,0.5]
[null,"produkternes ","Cossack OD","0,93 l",344,null,null,null,0.5,null,null,null,"Filnavn",null,"Danmark",null,null," "]
[null,"brugsanvisning!","Focus Ultra","1,5 - 2 l",null,null,270,360,null,null,0.95,0.92,"Strategiens navn:",null,"Metabolisk resistens",null,null," "]
[null,null,"Kerb","1,25 l",null,null,394]
[]
[null,null,null,null,null,null,null,null,null,null,null,null,null,null,"ALS/SU resistens, Danmark",null,null," "]
[null,"You may enter additional end of season weed control options here:",null,null,null,null,null,null,null,null,null,null,null,null,"fop/dim resistens, Danmark",null,null," "]
[null,"Additional ","Mulighed 1",null,null,null,null,null,null,null,null,null,null,null,"Metabolisk resistens, Danmark",null,null," "]
[null,"control options","Mulighed 2",null,null,null,null,null,null,null,null,null,null,null,null,null,null," "]
[]
[null,null,null,null,null,null,null,null,null,null,null,null,null,null,"Ingen resistens, Default",null,null," "]
[]
[]
[]
[]
[]
[]
[null,"Profile_4",{"$f":"O33","v":"Ingen resistens, Danmark"}]
[]
[null,"Basis tal",null,"Vinter\nhvede","Vinter\nbyg","Vinter\nrug","Vinter\nraps","Vårbyg","Havre","Vår\nhvede","Bælgsæd"]
[]
[null,null,"Ukrudtsfrit udbytte",10,8,8,4.5,7,7.5,6,4.5,"t/ha",null,"Bekæmpelse fra"]
[null,null,"Pris ved salg",1200,1200,1050,2600,1200,1000,1200,1400,"kr/t",null,"efterafgrøder",0.02]
[]
[null,null,"Udgift til sprøjtning",null,null,75,"kr/ha","EU støtte pr hektar",null,null,0,"kr/ha",null,null,null," Modne rajgræsplanter sidste"]
[null,null,null,null,null,null,null,null,null,null,null,null,null,null," sæson:",2,"planter/m2"]
[]
[]
[null,"Bekæmpelsesmuligheder",null,null,"Vinter sæd","Vårsæd","Raps","Bælg\nsæd","Vinter sæd","Vårsæd","Raps","Bælg\nsæd"]
[null,"Udfyld herbicidnavn, pris og effektivitetsniveau (% kontrol af rajgræs):",null,null,null,null,"Pris (kr/ha)",null,null,null,"% kontrol af rajgræs"]
[null,"Glyphosat","540",null,75,75,75,75,0.85,0.85,0.85,0.85]
[null,"(g as)","1080","3 l a' 360 g",150,150,150,150,0.95,0.95,0.95,0.95]
[]
[null,"Før","Boxer 1 l",null,180,null,null,null,0.63]
[null,"fremspiring","Boxer 2 l",null,360,null,null,null,0.85,null,null,null,{"$f":"IF($AC$50<19,$AD$50,IF($AC$51<45,$AD$51,IF($AC$52<32,$AD$52,\"\")))","v":""}]
[null,null,null,null,null,null,null,null,null,null,null,null,"  "]
[null,"Herbicider","Topik","0,2 l",248,null,null,null,0.67]
[null,"Efter","Atlantis OD","0,75 l",258,null,null,null,0.97,null,null,null,"Gem Profilen"]
[null,"fremspiring","Hussar Plus OD","0,07 - 0,14 l",176,88,null,null,0.94,0.82]
[null,"Følg ","Broadway","130 g",160,null,null,null,0.86]
[null,"produkternes ","Cossack OD","0,93 l",344,null,null,null,0.98,null,null,null,"Filnavn",null,"Danmark",null,null," "]
[null,"brugsanvisning!","Focus Ultra","1,5 - 2 l",null,null,270,360,null,null,0.95,0.92,"Strategiens navn:",null,"Ingen resistens",null,null," "]
[null,null,"Kerb","1,25 l",null,null,394]
[]
[null,null,null,null,null,null,null,null,null,null,null,null,null,null,"ALS/SU resistens, Danmark",null,null," "]
[null,"You may enter additional end of season weed control options here:",null,null,null,null,null,null,null,null,null,null,null,null,"fop/dim resistens, Danmark",null,null," "]
[null,"Additional ","Mulighed 1",null,null,null,null,null,null,null,null,null,null,null,"Metabolisk resistens, Danmark",null,null," "]
[null,"control options","Mulighed 2",null,null,null,null,null,null,null,null,null,null,null,null,null,null," "]
[]
[null,null,null,null,null,null,null,null,null,null,null,null,null,null,"Ingen resistens, Default",null,null," "]

{"sheet":"+Prices","index":3,"n_rows":210,"n_cols":56,"rows_kept":210,"cut":false,"hidden":false,"merged":[[91,5,91,6],[91,7,91,8],[91,9,91,10],[91,11,91,12],[92,5,92,6],[92,7,92,8],[92,9,92,10],[92,11,92,12],[19,5,19,6],[19,7,19,8],[19,9,19,10],[19,11,19,12],[18,9,18,10],[18,5,18,6],[18,7,18,8],[18,11,18,12],[58,5,58,6],[58,7,58,8],[58,9,58,10],[58,11,58,12],[59,5,59,6],[59,7,59,8],[59,9,59,10],[59,11,59,12],[125,5,125,6],[125,7,125,8],[125,9,125,10],[125,11,125,12],[126,5,126,6],[126,7,126,8],[126,9,126,10],[126,11,126,12],[159,5,159,6],[159,7,159,8],[159,9,159,10],[159,11,159,12],[160,5,160,6],[160,7,160,8],[160,9,160,10],[160,11,160,12],[192,5,192,6],[192,7,192,8],[192,9,192,10],[192,11,192,12],[193,5,193,6],[193,7,193,8],[193,9,193,10],[193,11,193,12]]}
[]
[]
[]
[]
[]
[]
[null,"Flere priser…",null,null,null,null,null,null,{"$f":"'1.Profile'!O27&\", \"&'1.Profile'!O26","v":"Ingen resistens, Danmark"},null,null,null,null,null,null,null,null,null,null,null,null,null,null,null,null,null,null,null,null,null,null," "]
[]
[]
[null,"Etableringsomkostninger",null,null,null,"V.hvede","V.byg","V.rug","Raps","Vårbyg","Havre","Vårhvede","Bælgsæd","Græs","Græs/kløver"]
[]
[null,null,"Udsædsmængde (standard)",null,"kr/ha ",442,448,360,360,378,428,374,560,400,800]
[null,null,"inkl. udgifter relateret til udsæd"]
[null,null,"Gødning - standard, almindelig praksis",null,"kr/ha ",2250,2250,2000,3500,1900,2000,2000,1000,2000,0]
[]
[]
[null,null,"Yderligere omkostninger ",null,"kr/ha ",1000,1000,1000,1000,1000,1000,1000,2000,200,200]
[null,null,"insekticider, fungicider, anden ukrudtskontrol, tørring, transport m.m."]
[null,null,null,null,null,"Efter/i vintersæd",null,"Efter/i vårsæd",null,"Efter/i raps",null,"Efter bælgsæd"]
[null,null,"Udgifter til efterafgrøder",null,"kr/ha ",500,null,600,null,0,null,300]
[]
[]
[null,"Andre udgifter",null,null,null,null,null,null,"Udgifter til høst"]
[]
[null,"Jordbearbejdning og såning, priser med maskinstation:",null,null,null,null,null,null,"Baseret på maskinstationpriser"]
[null,"Pløjning, harvning og såning",null,null,"kr/ha",1150,null,null,"Korn, mejetærsker og presning",null,null,null,null,"kr/ha",1200]
[null,"Reduceret jordbearbejdning og såning",null,null,"kr/ha",480,null,null,"Korn, mejetærsker og snitter",null,null,null,null,"kr/ha",1125]
[null,"Direkte såning",null,null,"kr/ha",160,null,null,"Raps, høst",null,null,null,null,"kr/ha",850]
[null,null,null,null,null,null,null,null,"Raps, høst med skårlægning",null,null,null,null,"kr/ha",1350]
[null,null,null,null,null,null,null,null,"Bælgsæd, høst",null,null,null,null,"kr/ha",1300]
[]
[null,null,null,null,null,null,null,null,"Purchase cost of:"]
[null,null,null,null,null,null,null,null,"Harrington seed destructor (HSD)",null,null,null,null,"kr",0]
[null,null,null,null,null,null,null,null,"HSD repayments:"]
[null,null,null,null,null,null,null,null,"Loan duration",null,null,null,null,"years",8]
[null,null,null,null,null,null,null,null,"Interest rate",null,null,null,null,null,0.06]
[]
[]
[null,null,null,null,null,null,null,null,null,null,null,null,null,null,null,null,null,null,null,null,null,null,null,null,null,null,null,null,null,null,null,null,null,null,null,null,null,null,null,null,null,null,null,{"$f":"P_1P","v":true}]
[]
[]
[]
[]
[]
[]
[null,null,null,null,null,null,null,null,null,null,null,null,null,null,null,null,null,null,null,null,null,null,null,null,null,null,null,null,{"$f":"COUNT(F12:O12,F14:O14,F17:O17,F20:M20,F26:F28,O26:O30,O33,O35:O36)","v":45},null,"NB Feltet til HSD er skjult bag billede"]
[]
[null,"Prices_0",{"$f":"'1.Profile'!O35","v":"Ingen resistens, Default"}]
[]
[null,"Etableringsomkostninger",null,null,null,"V.hvede","V.byg","V.rug","Raps","Vårbyg","Havre","Vårhvede","Bælgsæd","Græs","Græs/kløver",null,null,null,null,null,null,null,null,null,null,null,null,null,null,null,null,null,null,null,"Establishment costs - machinery"]
[]
[null,null,"Udsædsmængde (standard)",null,"kr/ha ",442,448,360,360,378,428,374,560,400,800]
[null,null,"inkl. udgifter relateret til udsæd"]
[null,null,"Gødning - standard, almindelig praksis",null,"kr/ha ",2250,2250,2000,3500,1900,2000,2000,1000,2000,0]
[]
[null,null,null,null,null,null,null,null,null,null,null,null,null,null,null,null,null,null,null,null,null,null,null,null,null,null,null,null,null,null,null,null,null,null,"Priser er taget fra Farmtal Online 2016"]
[null,null,"Yderligere omkostninger ",null,"kr/ha ",1000,1000,1000,1000,1000,1000,1000,2000,200,200,null,null,null,null,null,null,null,null,null,null,null,null,null,null,null,null,null," "," ","DK, jordbearbejdning",null,null,null,null,null,null,null,null,null,null,null,"Legend:",22,"linked to interface (current page or otherwise specified)"]
[null,null,"insekticider, fungicider, anden ukrudtskontrol, tørring, transport m.m.",null,null,null,null,null,null,null,null,null,null,null,null,null,null,null,null,null,null,null,null,null,null,null,null,null,null,null,null,null,null,null,null,null,null,null,null,null,null,null,null,null,null,null,null,22,"calculation"]
[null,null,null,null,null,"Efter/i vintersæd",null,"Efter/i vårsæd",null,"Efter/i raps",null,"Efter bælgsæd",null,null,null,null,null,null,null,null,null,null,null,null,null,null,null,null,null,null,null,null,null,null,"Vendeplov m. jordpakning fulgt af rotorharve; 700 + 450 kr/ha",null,null,null,null,null,null,null,null,null,null,null,null,null,"n.a."]
[null,null,"Udgifter til efterafgrøder",null,"kr/ha ",500,null,600,null,0,null,300,null,null,null,null,null,null,null,null,null,null,null,null,null,null,null,null,null,null,null,null,null,null,"Stubharvning + såbedsharvning; 325 + 160 kr/ha",null,null,null,null,null,null,null,null,null,null,null,null,0.22,"not linked (direct input)"]
[null,null,null,null,null,null,null,null,null,null,null,null,null,null,null,null,null,null,null,null,null,null,null,null,null,null,null,null,null,null,null,null,null,null,"såbedsharvning; 160 kr/ha",null,null,null,null,null,null,null,null,null,null,null,null,0.22,"not linked, do not change without good advice"]
[null,null,null,null,null,null,null,null,null,null,null,null,null,null,null,null,null,null,null,null,null,null,null,null,null,null,null,null,null,null,null,null,null,null,null,null,null,null,null,null,null,null,null,null,null,null,null,0.22,"reference data, in cases used for ratios"]
[null,"Andre udgifter",null,null,null,null,null,null,"Udgifter til høst",null,null,null,null,null,null,null,null,null,null,null,null,null,null,null,null,null,null,null,null,null,null,null,null,null,"Handelsgødning udbringning; 140 kr/ha"]
[null,null,null,null,null,null,null,null,null,null,null,null,null,null,null,null,null,null,null,null,null,null,null,null,null,null,null,null,null,null,null,null,null,null,null,null,null,null,null,null,null,null,null,null,null,null,"Financial values"]
[null,"Jordbearbejdning og såning, priser med maskinstation:",null,null,null,null,null,null,"Baseret på maskinstationpriser",null,null,null,null,null,null,null,null,null,null,null,null,null,null,null,null,null,null,null,null,null,null,null,null,null,null,"Cost",null,null,null,null,null,null,null,null,null,null,"These rates apply for the whole 10 year period"]
[null,"Pløjning, harvning og såning",null,null,"kr/ha",1150,null,null,"Korn, mejetærsker og presning",null,null,null,null,"kr/ha",1200,null,null,null,null,null,null,null,null,null,null,null,null,null,null,null,null,null,null,null,null,"(kr/ha)",null,null,null,null,null,null,null,null,null,null,"Da den danske version udelukkende kører med maskinstationpriser er dette sat ud af funktion"]
[null,"Reduceret jordbearbejdning og såning",null,null,"kr/ha",480,null,null,"Korn, mejetærsker og snitter",null,null,null,null,"kr/ha",1125,null,null,null,null,null,null,null,null,null,null,null,null,null,null,null,null,null,null,null,"Mouldboard ploughing",{"$f":"F26","v":1150},null,null,null,null,null,null,null,null,null,null,"Rates of Price and Yield Increase",null,null,"Reviewed 2012, australian values"]
[null,"Direkte såning",null,null,"kr/ha",160,null,null,"Raps, høst",null,null,null,null,"kr/ha",850,null,null,null,null,null,null,null,null,null,null,null,null,null,null,null,null,null,null,null,"Reduced tillage",{"$f":"F27","v":480},null,null,null,null,null,null,null,null,null,null,"Rate of increase of potential crop yield (%/year)",0.01,null,0.01]
[null,null,null,null,null,null,null,null,"Raps, høst med skårlægning",null,null,null,null,"kr/ha",1350,null,null,null,null,null,null,null,null,null,null,null,null,null,null,null,null,null,null,null,"No-till",{"$f":"F28","v":160},null,null,null,null,null,null,null,null,null,null,"Inflation rate for crop sale prices (%/year)",0.01,null,0.01]
[null,null,null,null,null,null,null,null,"Bælgsæd, høst",null,null,null,null,"kr/ha",1300,null,null,null,null,null,null,null,null,null,null,null,null,null,null,null,null,null,null,null,"Harvest, bale",{"$f":"O26","v":1200},"Høst 800 + bigballer 80 pr stk",null,null,null,null,null,null,null,null,null,"Inflation rate for input costs (%/year)",0.03,null,0.03]
[null,null,null,null,null,null,null,null,null,null,null,null,null,null,null,null,null,null,null,null,null,null,null,null,null,null,null,null,null,null,null,null,null,null,"Harvest, straw chopped",{"$f":"O27","v":1125},"Høst + snitning 850 + Nedmuldning 275",null,null,null,null,null,null,null,null,null,"Long-term interest rate (%) *",0,"sat til 0",0.08]
[null,null,null,null,null,null,null,null,"Purchase cost of:",null,null,null,null,null,null,null,null,null,null,null,null,null,null,null,null,null,null,null,null,null,null,null,null,null,"Oilseed rape, harvest",{"$f":"O28","v":850},null,null,null,null,null,null,null,null,null,null,"Marginal tax rate (%)",0,"sat til 0",0.21]
[null,null,null,null,null,null,null,null,"Harrington seed destructor (HSD)",null,null,null,null,"kr",0,null,null,null,null,null,null,null,null,null,null,null,null,null,null,null,null,null,null,null,"Oilseed rape, harvest, with swathing",{"$f":"O29","v":1350},null,null,null,null,null,null,null,null,null,null,"* Note: Use the raw interest rate (do not deduct the inflation rate to express "]
[null,null,null,null,null,null,null,null,"HSD repayments:",null,null,null,null,null,null,null,null,null,null,null,null,null,null,null,null,null,null,null,null,null,null,null,null,null,"Legumes, harvest with chopping",{"$f":"O30","v":1300},null,null,null,"Repayments",null,null,null,null,null,null," it in \"real\" terms) as all calculations are done in \"nominal\" terms."]
[null,null,null,null,null,null,null,null,"Loan duration",null,null,null,null,"years",8,null,null,null,null,null,null,null,null,null,null,null,null,null,null,null,null,null,null,null,"HSD = Harrington seed destructor",{"$f":"((AJ70+AJ71)/2)+((AJ70+AJ71)/2)*0.2","v":1395},null,null," to Calc",{"$f":"AI75","v":"HSD = Harrington seed destructor"},null,{"$f":"-PMT('+Prices'!$O$36,'+Prices'!$O$35,'+Prices'!O33,0,0)/'+Prices'!$AL$80","v":0}]
[null,null,null,null,null,null,null,null,"Interest rate",null,null,null,null,null,0.06,null,null,null,null,null,null,null,null,null,null,null,null,null,null,null,null,null,null,null,"Option for later additions",null,null,null,null,null,null,null,null,null,null,null,"Note also that the model's main calculations are done on the basis that prices "]
[null,null,null,null,null,null,null,null,null,null,null,null,null,null,null,null,null,null,null,null,null,null,null,null,null,null,null,null,null,null,null,null,null,null,null,null,null,null,null,null,null,null,null,null,null,null,"and potential yields don't change over time. In the \"Economic results\" sheet "]
[null,null,null,null,null,null,null,null,null,null,null,null,null,null,null,null,null,null,null,null,null,null,null,null,null,null,null,null,null,null,null,null,null,null,null,null,null,null,null,null,null,null,null,null,null,null,"the above rates of increase are applied to the results."]
[]
[null,null,null,null,null,null,null,null,null,null,null,null,null,null,null,null,null,null,null,null,null,null,null,null,null,null,null,null,null,null,null,null,null,null,"Average area (ha) on which machinery is used ",null,null,{"$f":"'1.Profile'!BR9","v":1}]
[null,"Prices_1",{"$f":"'1.Profile'!O30","v":"ALS/SU resistens, Danmark"},null,null,null,null,null,null,null,null,null,null,null,null,null,null,null,null,null,null,null,null,null,null,null,null,null,null,null,null,null,null,null,null,null,null,"from Profile"]
[]
[null,"Etableringsomkostninger",null,null,null,"V.hvede","V.byg","V.rug","Raps","Vårbyg","Havre","Vårhvede","Bælgsæd","Græs","Græs/kløver",null,null,null,null,null,null,null,null,null,null,null,null,null,null,null,null,null,null,null,"Establishment costs - crops",null,null,null,null,null,null,null,null,null,null,null,null,null,"References used for ratios Expert evaluation used in DK"]
[null,null,null,null,null,null,null,null,null,null,null,null,null,null,null,null,null,null,null,null,null,null,null,null,null,null,null,null,null,null,null,null,null,null,null,null,null,null,null,null,null,null,null,null,null,null,null,"Savings in kg/ha of N after a legume:"]
[null,null,"Udsædsmængde (standard)",null,"kr/ha ",442,448,360,360,378,428,374,560,400,800,null,null,null,null,null,null,null,null,null,null,null,null,null,null,null,null,null,null,null,"Fertilisers","W.wheat","W.Barley","W.Rye","S.Barley","S.Oat","S.Wheat","Oilseed","Legumes",null,null,null,null,null,"Wheat","Barley","Canola","In DK: about 1/3 of the fertilser amount",null,null,null,"reference for Australian RIM"]
[null,null,"inkl. udgifter relateret til udsæd",null,null,null,null,null,null,null,null,null,null,null,null,null,null,null,null,null,null,null,null,null,null,null,null,null,null,null,null,null,null,null,"Total cost of all fertilisers (kr/ha)",{"$f":"F14","v":2250},{"$f":"G14","v":2250},{"$f":"H14","v":2000},{"$f":"J14","v":1900},{"$f":"K14","v":2000},{"$f":"L14","v":2000},{"$f":"I14","v":3500},{"$f":"M14","v":1000},null,null,null,null,"1st year",30,30,40,"Planfarm and Bankwest (2012) Planfarm Bankwest Benchmarks 2011/2012. Planfarm Pty. Ltd. and BankWest Agribusiness Centre, West Perth and Wembley, Western Australia, 81pp."]
[null,null,"Gødning - standard, almindelig praksis",null,"kr/ha ",2250,2250,2000,3500,1900,2000,2000,1000,2000,0,null,null,null,null,null,null,null,null,null,null,null,null,null,null,null,null,null,null,null,"Saving in N fertiliser application 1 year after legumes",{"$f":"AJ86/3","v":750},750,666.66666666666663,633.33333333333337,666.66666666666663,666.66666666666663,1166.6666666666667,null,"not included in the calculations here, but included Calcs table 9",null,null,null,"In DK",{"$f":"AJ86/3","v":750},{"$f":"AM86/3","v":633.33333333333337},{"$f":"AP86/3","v":1166.6666666666667}]
[null,null,null,null,null,null,null,null,null,null,null,null,null,null,null,null,null,null,null,null,null,null,null,null,null,null,null,null,null,null,null,null,null,null,"Saving in N fertiliser application 1 year after grass/clover",{"$f":"AW87/2","v":375},{"$f":"AX87/2","v":316.66666666666669},{"$f":"AY87/2","v":583.33333333333337},{"$f":"AM87/2","v":316.66666666666669},{"$f":"AN87/2","v":333.33333333333331},{"$f":"AO87/2","v":333.33333333333331},{"$f":"AP87/2","v":583.33333333333337},null,"not included in the calculations here, but included Calcs table 9"]
[null,null,null,null,null,null,null,null,null,null,null,null,null,null,null,null,null,null,null,null,null,null,null,null,null,null,null,null,null,null,null,null,null,null,null,"Note: this data also used for crop following pasture"]
[null,null,"Yderligere omkostninger ",null,"kr/ha ",1000,1000,1000,1000,1000,1000,1000,2000,200,200,null,null,null,null,null,null,null,null,null,null,null,null,null,null,null,null,null,null,null,"Seed and other inputs"]
[null,null,"insekticider, fungicider, anden ukrudtskontrol, tørring, transport m.m.",null,null,null,null,null,null,null,null,null,null,null,null,null,null,null,null,null,null,null,null,null,null,null,null,null,null,null,null,null,null,null,"Cost of seed (including dressing/cleaning/inoculum/etc.) (kr/ha)",{"$f":"F12","v":442},{"$f":"G12","v":448},360,360,378,428,374,560]
[null,null,null,null,null,"Efter/i vintersæd",null,"Efter/i vårsæd",null,"Efter/i raps",null,"Efter bælgsæd",null,null,null,null,null,null,null,null,null,null,null,null,null,null,null,null,null,null,null,null,null,null,"Cost of additional input (kr/ha)",{"$f":"F17","v":1000},{"$f":"G17","v":1000},1000,1000,1000,1000,1000,2000]
[null,null,"Udgifter til efterafgrøder",null,"kr/ha ",500,null,600,null,0,null,300]
[]
[null,null,null,null,null,null,null,null,null,null,null,null,null,null,null,null,null,null,null,null,null,null,null,null,null,null,null,null,null,null,null,null,null,null,"Cost of mouldboard ploughing (kr/ha)",{"$f":"$F$26+AJ86+AJ91+AJ92","v":4842},{"$f":"$F$26+AK86+AK91+AK92","v":4848},4510,4410,4528,4578,6024,4710]
[null,"Andre udgifter",null,null,null,null,null,null,"Udgifter til høst",null,null,null,null,null,null,null,null,null,null,null,null,null,null,null,null,null,null,null,null,null,null,null,null,null,"Cost of reduced tillage",{"$f":"$F$27+AJ86+AJ91+AJ92","v":4172},4178,3840,3740,3858,3908,5354,4040]
[null,null,null,null,null,null,null,null,null,null,null,null,null,null,null,null,null,null,null,null,null,null,null,null,null,null,null,null,null,null,null,null,null,null,"Cost of direct seeding",{"$f":"$F$28+AJ86+AJ91+AJ92","v":3852},3858,3520,3420,3538,3588,5034,3720]
[null,"Jordbearbejdning og såning, priser med maskinstation:",null,null,null,null,null,null,"Baseret på maskinstationpriser",null,null,null,null,null,null,null,null,null,null,null,null,null,null,null,null,null,null,null,null,null,null,null,null,null,"Extra cost of Intermediate seeding rate",{"$f":"('+Options'!AG57-'+Options'!AG56)/'+Options'!AG56*AJ91","v":190.06},{"$f":"('+Options'!AH57-'+Options'!AH56)/'+Options'!AH56*AK91","v":42.442105263157899},{"$f":"('+Options'!AI57-'+Options'!AI56)/'+Options'!AI56*AL91","v":40},{"$f":"('+Options'!AJ57-'+Options'!AJ56)/'+Options'!AJ56*AM91","v":25.714285714285712},{"$f":"('+Options'!AK57-'+Options'!AK56)/'+Options'!AK56*AN91","v":27},{"$f":"('+Options'!AL57-'+Options'!AL56)/'+Options'!AL56*AO91","v":12.588235294117647},{"$f":"('+Options'!AM57-'+Options'!AM56)/'+Options'!AM56*AP91","v":74.8},{"$f":"('+Options'!AN57-'+Options'!AN56)/'+Options'!AN56*AQ91","v":76.36363636363636},"Included in Calcs Table 9"]
[null,"Pløjning, harvning og såning",null,null,"kr/ha",1150,null,null,"Korn, mejetærsker og presning",null,null,null,null,"kr/ha",1200,null,null,null,null,null,null,null,null,null,null,null,null,null,null,null,null,null,null,null,"Extra cost of high seeding rate",{"$f":"('+Options'!AG58-'+Options'!AG56)/'+Options'!AG56*AJ91","v":375.7},{"$f":"('+Options'!AH58-'+Options'!AH56)/'+Options'!AH56*AK91","v":82.526315789473685},{"$f":"('+Options'!AI58-'+Options'!AI56)/'+Options'!AI56*AL91","v":80},{"$f":"('+Options'!AJ58-'+Options'!AJ56)/'+Options'!AJ56*AM91","v":51.428571428571423},{"$f":"('+Options'!AK58-'+Options'!AK56)/'+Options'!AK56*AN91","v":54},{"$f":"('+Options'!AL58-'+Options'!AL56)/'+Options'!AL56*AO91","v":45.317647058823532},{"$f":"('+Options'!AM58-'+Options'!AM56)/'+Options'!AM56*AP91","v":149.6},{"$f":"('+Options'!AN58-'+Options'!AN56)/'+Options'!AN56*AQ91","v":152.72727272727272},"Included in Calcs Table 9"]
[null,"Reduceret jordbearbejdning og såning",null,null,"kr/ha",480,null,null,"Korn, mejetærsker og snitter",null,null,null,null,"kr/ha",1125,null,null,null,null,null,null,null,null,null,null,null,null,null,null,null,null,null,null,null,"Cost of cover crop",{"$f":"$F$20","v":500},{"$f":"$F$20","v":500},{"$f":"$F$20","v":500},{"$f":"$H$20","v":600},{"$f":"$H$20","v":600},{"$f":"$H$20","v":600},{"$f":"$J$20","v":0},{"$f":"$L$20","v":300},"Included in Calcs Table 3"]
[null,"Direkte såning",null,null,"kr/ha",160,null,null,"Raps, høst",null,null,null,null,"kr/ha",850]
[null,null,null,null,null,null,null,null,"Raps, høst med skårlægning",null,null,null,null,"kr/ha",1350]
[null,null,null,null,null,null,null,null,"Bælgsæd, høst",null,null,null,null,"kr/ha",1500]
[null,null,null,null,null,null,null,null,null,null,null,null,null,null,null,null,null,null,null,null,null,null,null,null,null,null,null,null,null,null,null,null,null,null,"Establishment costs - pastures"]
[null,null,null,null,null,null,null,null,"Purchase cost of:"]
[null,null,null,null,null,null,null,null,"Harrington seed destructor (HSD)",null,null,null,null,"kr",0]
[null,null,null,null,null,null,null,null,"HSD repayments:",null,null,null,null,null,null,null,null,null,null,null,null,null,null,null,null,null,null,null,null,null,null,null,null,null,"Grass"]
[null,null,null,null,null,null,null,null,"Loan duration",null,null,null,null,"years",8,null,null,null,null,null,null,null,null,null,null,null,null,null,null,null,null,null,null,null,"Cost of sowing (seed + machinery) (kr/ha)",{"$f":"N12+AL67","v":400}]
[null,null,null,null,null,null,null,null,"Interest rate",null,null,null,null,null,0.06,null,null,null,null,null,null,null,null,null,null,null,null,null,null,null,null,null,null,null,"Cost of fertilisers (kr/ha/year)",{"$f":"N14","v":2000}]
[null,null,null,null,null,null,null,null,null,null,null,null,null,null,null,null,null,null,null,null,null,null,null,null,null,null,null,null,null,null,null,null,null,null,"Additional costs, incl. insecticide appl. (kr/ha)",{"$f":"N17","v":200}]
[null,null,null,null,null,null,null,null,null,null,null,null,null,null,null,null,null,null,null,null,null,null,null,null,null,null,null,null,null,null,null,null,null,null,"Total, inputs (kr/ha)",{"$f":"SUM(AJ108:AJ110)","v":2600}]
[]
[]
[null,null,null,null,null,null,null,null,null,null,null,null,null,null,null,null,null,null,null,null,null,null,null,null,null,null,null,null,null,null,null,null,null,null,null,null,null,null,null,null," "]
[null,"Prices_2",{"$f":"'1.Profile'!O31","v":"Fop/dim resistens, Danmark"},null,null,null,null,null,null,null,null,null,null,null,null,null,null,null,null,null,null,null,null,null,null,null,null,null,null,null,null,null,null,null,"Grass/clover"]
[null,null,null,null,null,null,null,null,null,null,null,null,null,null,null,null,null,null,null,null,null,null,null,null,null,null,null,null,null,null,null,null,null,null,"Cost of sowing (seed + machinery) (kr/ha)",{"$f":"O12+AL67","v":800}]
[null,"Etableringsomkostninger",null,null,null,"V.hvede","V.byg","V.rug","Raps","Vårbyg","Havre","Vårhvede","Bælgsæd","Græs","Græs/kløver",null,null,null,null,null,null,null,null,null,null,null,null,null,null,null,null,null,null,null,"Cost of fertilisers (kr/ha/year)",{"$f":"$O$14","v":0}]
[null,null,null,null,null,null,null,null,null,null,null,null,null,null,null,null,null,null,null,null,null,null,null,null,null,null,null,null,null,null,null,null,null,null,"Additional costs, incl. insecticide appl. (kr/ha)",{"$f":"J17","v":1000}]
[null,null,"Udsædsmængde (standard)",null,"kr/ha ",442,448,360,360,378,428,374,560,400,800,null,null,null,null,null,null,null,null,null,null,null,null,null,null,null,null,null,null,null,"Total, inputs (kr/ha)",{"$f":"SUM(AJ116:AJ118)","v":1800}]
[null,null,"inkl. udgifter relateret til udsæd"]
[null,null,"Gødning - standard, almindelig praksis",null,"kr/ha ",2250,2250,2000,3500,1900,2000,2000,1000,2000,0]
[]
[]
[null,null,"Yderligere omkostninger ",null,"kr/ha ",1000,1000,1000,1000,1000,1000,1000,2000,200,200]
[null,null,"insekticider, fungicider, anden ukrudtskontrol, tørring, transport m.m."]
[null,null,null,null,null,"Efter/i vintersæd",null,"Efter/i vårsæd",null,"Efter/i raps",null,"Efter bælgsæd"]
[null,null,"Udgifter til efterafgrøder",null,"kr/ha ",500,null,600,null,0,null,300]
[]
[]
[null,"Andre udgifter",null,null,null,null,null,null,"Udgifter til høst"]
[]
[null,"Jordbearbejdning og såning, priser med maskinstation:",null,null,null,null,null,null,"Baseret på maskinstationpriser"]
[null,"Pløjning, harvning og såning",null,null,"kr/ha",1150,null,null,"Korn, mejetærsker og presning",null,null,null,null,"kr/ha",1200]
[null,"Reduceret jordbearbejdning og såning",null,null,"kr/ha",480,null,null,"Korn, mejetærsker og snitter",null,null,null,null,"kr/ha",1125]
[null,"Direkte såning",null,null,"kr/ha",160,null,null,"Raps, høst",null,null,null,null,"kr/ha",850]
[null,null,null,null,null,null,null,null,"Raps, høst med skårlægning",null,null,null,null,"kr/ha",1350]
[null,null,null,null,null,null,null,null,"Bælgsæd, høst",null,null,null,null,"kr/ha",1500]
[]
[null,null,null,null,null,null,null,null,"Purchase cost of:"]
[null,null,null,null,null,null,null,null,"Harrington seed destructor (HSD)",null,null,null,null,"kr",0]
[null,null,null,null,null,null,null,null,"HSD repayments:"]
[null,null,null,null,null,null,null,null,"Loan duration",null,null,null,null,"years",8]
[null,null,null,null,null,null,null,null,"Interest rate",null,null,null,null,null,0.06]
[]
[]
[]
[]
[]
[null,"Prices_3",{"$f":"'1.Profile'!O32","v":"Metabolisk resistens, Danmark"}]
[]
[null,"Etableringsomkostninger",null,null,null,"V.hvede","V.byg","V.rug","Raps","Vårbyg","Havre","Vårhvede","Bælgsæd","Græs","Græs/kløver"]
[]
[null,null,"Udsædsmængde (standard)",null,"kr/ha ",442,448,360,360,378,428,374,560,400,800]
[null,null,"inkl. udgifter relateret til udsæd"]
[null,null,"Gødning - standard, almindelig praksis",null,"kr/ha ",2250,2250,2000,3500,1900,2000,2000,1000,2000,0]
[]
[]
[null,null,"Yderligere omkostninger ",null,"kr/ha ",1000,1000,1000,1000,1000,1000,1000,2000,200,200]
[null,null,"insekticider, fungicider, anden ukrudtskontrol, tørring, transport m.m."]
[null,null,null,null,null,"Efter/i vintersæd",null,"Efter/i vårsæd",null,"Efter/i raps",null,"Efter bælgsæd"]
[null,null,"Udgifter til efterafgrøder",null,"kr/ha ",500,null,600,null,0,null,300]
[]
[]
[null,"Andre udgifter",null,null,null,null,null,null,"Udgifter til høst"]
[]
[null,"Jordbearbejdning og såning, priser med maskinstation:",null,null,null,null,null,null,"Baseret på maskinstationpriser"]
[null,"Pløjning, harvning og såning",null,null,"kr/ha",1150,null,null,"Korn, mejetærsker og presning",null,null,null,null,"kr/ha",1200]
[null,"Reduceret jordbearbejdning og såning",null,null,"kr/ha",480,null,null,"Korn, mejetærsker og snitter",null,null,null,null,"kr/ha",1125]
[null,"Direkte såning",null,null,"kr/ha",160,null,null,"Raps, høst",null,null,null,null,"kr/ha",850]
[null,null,null,null,null,null,null,null,"Raps, høst med skårlægning",null,null,null,null,"kr/ha",1350]
[null,null,null,null,null,null,null,null,"Bælgsæd, høst",null,null,null,null,"kr/ha",1500]
[]
[null,null,null,null,null,null,null,null,"Purchase cost of:"]
[null,null,null,null,null,null,null,null,"Harrington seed destructor (HSD)",null,null,null,null,"kr",0]
[null,null,null,null,null,null,null,null,"HSD repayments:"]
[null,null,null,null,null,null,null,null,"Loan duration",null,null,null,null,"years",8]
[null,null,null,null,null,null,null,null,"Interest rate",null,null,null,null,null,0.06]
[]
[]
[]
[]
[null,"Prices_4",{"$f":"'1.Profile'!O33","v":"Ingen resistens, Danmark"}]
[]
[null,"Etableringsomkostninger",null,null,null,"V.hvede","V.byg","V.rug","Raps","Vårbyg","Havre","Vårhvede","Bælgsæd","Græs","Græs/kløver"]
[]
[null,null,"Udsædsmængde (standard)",null,"kr/ha ",442,448,360,360,378,428,374,560,400,800]
[null,null,"inkl. udgifter relateret til udsæd"]
[null,null,"Gødning - standard, almindelig praksis",null,"kr/ha ",2250,2250,2000,3500,1900,2000,2000,1000,2000,0]
[]
[]
[null,null,"Yderligere omkostninger ",null,"kr/ha ",1000,1000,1000,1000,1000,1000,1000,2000,200,200]
[null,null,"insekticider, fungicider, anden ukrudtskontrol, tørring, transport m.m."]
[null,null,null,null,null,"Efter/i vintersæd",null,"Efter/i vårsæd",null,"Efter/i raps",null,"Efter bælgsæd"]
[null,null,"Udgifter til efterafgrøder",null,"kr/ha ",500,null,600,null,0,null,300]
[]
[]
[null,"Andre udgifter",null,null,null,null,null,null,"Udgifter til høst"]
[]
[null,"Jordbearbejdning og såning, priser med maskinstation:",null,null,null,null,null,null,"Baseret på maskinstationpriser"]
[null,"Pløjning, harvning og såning",null,null,"kr/ha",1150,null,null,"Korn, mejetærsker og presning",null,null,null,null,"kr/ha",1200]
[null,"Reduceret jordbearbejdning og såning",null,null,"kr/ha",480,null,null,"Korn, mejetærsker og snitter",null,null,null,null,"kr/ha",1125]
[null,"Direkte såning",null,null,"kr/ha",160,null,null,"Raps, høst",null,null,null,null,"kr/ha",850]
[null,null,null,null,null,null,null,null,"Raps, høst med skårlægning",null,null,null,null,"kr/ha",1350]
[null,null,null,null,null,null,null,null,"Bælgsæd, høst",null,null,null,null,"kr/ha",1300]
[]
[null,null,null,null,null,null,null,null,"Purchase cost of:"]
[null,null,null,null,null,null,null,null,"Harrington seed destructor (HSD)",null,null,null,null,"kr",0]
[null,null,null,null,null,null,null,null,"HSD repayments:"]
[null,null,null,null,null,null,null,null,"Loan duration",null,null,null,null,"years",8]
[null,null,null,null,null,null,null,null,"Interest rate",null,null,null,null,null,0.06]

{"sheet":"+Options","index":4,"n_rows":212,"n_cols":53,"rows_kept":212,"cut":false,"hidden":false,"merged":[]}
[]
[]
[]
[]
[]
[]
["Flere muligheder…",null,null,null,null,null,null,null,null,{"$f":"'1.Profile'!O27&\", \"&'1.Profile'!O26","v":"Ingen resistens, Danmark"}]
[]
[]
[null,"Afgrøder",null,null,"V.hvede","V.byg","V.rug","Raps","Vårbyg","Havre","Vårhvede","Bælgsæd","Græs","Græs/kløver"]
[]
[null,null,"Udsædsmængde standard","kg/ha ",100,190,90,2.5,140,140,170,110,90,110]
[null,null,"Udsædsmængde medium","kg/ha ",143,208,100,3,150,150,175,125,98,123]
[null,null,"Udsædsmængde høj     ","kg/ha ",185,225,110,3.5,160,160,188,140,105,135]
[null,null,"Ved sen såning er det standard praksis at forhøje udsædsmængden for at opnå det samme plantetal pr m2. "]
[null,null,"Der vil derfor ikke pånås højere plantetal ved kombinationen sen såning og høj udsædsmængde end ved tidlig såning og standard udsædsmængde"]
[null,null,"Der kan vælges medium eller høj udsædsmængde for tidlig eller mellemtidlig såning, dette vil forhøje plantetal pr. m2"]
[]
[]
[null,"Udbytte fordele",null,null,null,null,null,null,null,null,null,"Rajgræs bekæmpelse"]
[null,null,null,null,null,null,null,null,null,null,null,"Andel af rajgræsplanter, der bekæmpes: "]
[null,null,"   - for raps efter bælgsæd",null,null,null,null,0.05,null,null,null,null,"Behovsbaseret pløjning",null,null,null,0.98]
[null,null,"   - for korn efter bælgsæd",null,null,null,null,0.2,null,null,null,null,"Pløjning",null,null,null,0.9]
[null,null,"   - for alle afgrøder efter efterafgrøder",null,null,null,null,0.02,null,null,null,null,"Reduceret jordbearbejdning",null,null,null,0.6]
[null,null,null,null,null,null,null,null,null,null,null,null,"No-till",null,null,null,0.4]
[null,null,null,null,null,null,null,null,null,null,null,null,"Nedvisning",null,null,null,0.05]
[null,"Udbytte straf"]
[null,null,null,null,null,null,null,null,null,null,null,null,"Afskriving af afgrøde",null,null,null,0.95]
[null,null,"For bælgsæd, effekt af herbicider brugt\n i foregående afgrøde",null,null,null,null,0.02,null,null,null,null,null,null,null,null,null,null,null,null,null,null,null,null,null,null,null,null,null,null,null,null,null,null,null,null,null,null,null,null,null,null,"Opsamling og HSD",null,null,null,0.85,"Flyttet herud for at skjule"]
[null,null,null,null,null,null,null,null,null,null,null,null,null,null,null,null,null,null,null,null,null,null,null,null,null,null,null,null,null,null,null,null,null,null,null,null,null,null,null,null,null,null,null,null,null,null,null,"Kan genaktiveres"]
[null,null,"   - for raps, hvis pause mellem rapsafgrøder er 1 år",null,null,null,null,0.5]
[null,null,"   - for bælgsæd, hvis pause mellem rapsafgrøder er 1 år",null,null,null,null,0.4]
[]
[]
[]
[]
[]
[]
[null,null,null,null,null,null,null,null,null,null,null,null,null,null,null,null,null,null,null,null,null,null,null,null,null,null,null,null,null,null,null,null,null,null,null,null,null,null,null,null,null,null,null,{"$f":"P_1P","v":true}]
[]
[]
[]
[]
[]
[]
[]
[null,null,null,null,null,null,null,null,null,null,null,null,null,null,null,null,null,null,null,null,null,null,null,null,null,null,null,null,null,null,null,null,null,null,null,null,null,null,null,null,null,null,"Legend:",22,"linked to interface (current page or otherwise specified)"]
[null,null,null,null,null,null,null,null,null,null,null,null,null,null,null,null,null,null,null,null,null,null,null,null,null,null,null,null,{"$f":"COUNT(E12:N14,H22:H24,H29,H31:H32,Q22:Q26,Q28)","v":42},null,null,"Mulighed med HSD er flyttet fra M29 og langt ud til højre for at skjule den",null,null,null,null,null,null,null,null,null,null,null,22,"calculation"]
[null,null,null,null,null,null,null,null,null,null,null,null,null,null,null,null,null,null,null,null,null,null,null,null,null,null,null,null,null,null,null,"Fejlmeddelelse i AB48 er rettet ",null,null,null,null,null,null,null,null,null,null,null,null,"n.a."]
[null,null,null,null,null,null,null,null,null,null,null,null,null,null,null,null,null,null,null,null,null,null,null,null,null,null,null,null,null,null,null,null,null,null,null,null,null,null,null,null,null,null,null,0.22,"not linked (direct input)"]
[null,"Options_0",{"$f":"'1.Profile'!O35","v":"Ingen resistens, Default"},null,0,null,null,null,null,null,null,null,null,null,null,null,null,null,null,null,null,null,null,null,null,null,null,null,null,null,null,null,null,null,null,null,null,null,null,null,null,null,null,0.22,"not linked, and do not change without good advice"]
[null,null,null,null,null,null,null,null,null,null,null,null,null,null,null,null,null,null,null,null,null,null,null,null,null,null,null,null,null,null,null,"Crops",null,null,null,null,null,null,null,null,null,null,null,0.22,"reference data"]
[null,"Afgrøder",null,null,"V.hvede","V.byg","V.rug","Raps","Vårbyg","Havre","Vårhvede","Bælgsæd","Græs","Græs/kløver",null,null,null,null,null,null,null,null,null,null,null,null,null,null,null,null,null,"Boost and penalties ",null,null,null,null,null,null,null,null,null,null,null,0.22,"reference data used for ratios"]
[null,null,null,null,null,null,null,null,null,null,null,null,null,null,null,null,null,null,null,null,null,null,null,null,null,null,null,null,null,null,null,"Crop Variables","W. Wheat","W. Barley","W. rye","S. Barley","S.Oat","S. Wheat","Oilseed","Legumes",null,null,null,"blabla","information / tracking data (not involved in calculations)"]
[null,null,"Udsædsmængde standard","kg/ha ",100,190,90,2.5,140,140,170,110,90,110,null,null,null,null,null,null,null,null,null,null,null,null,null,null,null,null,null,"Weed-free yield (after long break with no legume) (t/ha)",{"$f":"'1.Profile'!D7","v":10},{"$f":"'1.Profile'!E7","v":8},{"$f":"'1.Profile'!F7","v":8},{"$f":"'1.Profile'!H7","v":7},{"$f":"'1.Profile'!I7","v":7.5},{"$f":"'1.Profile'!J7","v":6},{"$f":"'1.Profile'!G7","v":4.5},{"$f":"'1.Profile'!G7","v":4.5},"From Profile","Wheat","Barley","Canola","Legumes"]
[null,null,"Udsædsmængde medium","kg/ha ",143,208,100,3,150,150,175,125,98,123,null,null,null,null,null,null,null,null,null,null,null,null,null,null,null,null,null,"Standard seeding rate (kg/ha)",{"$f":"E12","v":100},{"$f":"F12","v":190},{"$f":"G12","v":90},{"$f":"I12","v":140},140,170,{"$f":"H12","v":2.5},{"$f":"L12","v":110},"Options",2,2.2000000000000002,1,1]
[null,null,"Udsædsmængde høj     ","kg/ha ",185,225,110,3.5,160,160,188,140,105,135,null,null,null,null,null,null,null,null,null,null,null,null,null,null,null,null,null,"Intermediate seeding rate (kg/ha)",{"$f":"E13","v":143},{"$f":"F13","v":208},100,150,150,175,{"$f":"H13","v":3},125,null,60,70,3,100]
[null,null,"Ved sen såning er det standard praksis at forhøje udsædsmængden for at opnå det samme plantetal pr m2. ",null,null,null,null,null,null,null,null,null,null,null,null,null,null,null,null,null,null,null,null,null,null,null,null,null,null,null,null,"High seeding rate (kg/ha)",{"$f":"E14","v":185},{"$f":"F14","v":225},{"$f":"G14","v":110},160,160,188,{"$f":"H14","v":3.5},{"$f":"L14","v":140},"Options",90,100,"5-6",125]
[null,null,"Der vil derfor ikke pånås højere plantetal ved kombinationen sen såning og høj udsædsmængde end ved tidlig såning og standard udsædsmængde",null,null,null,null,null,null,null,null,null,null,null,null,null,null,null,null,null,null,null,null,null,null,null,null,null,null,null,null,"Standard density (plants/m2)",{"$f":"AG56*100/AG$83*AG$84","v":226.19047619047618},305.93220338983048,212.30769230769232,266,332.5,358.88888888888886,49.999999999999993,58.666666666666664,null,120,"145-150",60,50]
[null,null,"Der kan vælges medium eller høj udsædsmængde for tidlig eller mellemtidlig såning, dette vil forhøje plantetal pr. m2",null,null,null,null,null,null,null,null,null,null,null,null,null,null,null,null,null,null,null,null,null,null,null,null,null,null,null,null,"Intermediate density (plants/m2)",{"$f":"AG57*100/AG$83*AG$84","v":323.45238095238096},{"$f":"AH57*100/AH$83*AH$84","v":334.91525423728814},235.89743589743591,285,356.25,369.44444444444446,60,66.666666666666671,null,165,195,"90-100","60-65"]
[null,null,null,null,null,null,null,null,null,null,null,null,null,null,null,null,null,null,null,null,null,null,null,null,null,null,null,null,null,null,null,"High density (plants/m2)",{"$f":"AG58*100/AG$83*AG$85","v":396.42857142857144},343.22033898305085,245.38461538461539,288,360,376,64.166666666666671,70]
[]
[null,"Udbytte fordele",null,null,null,null,null,null,null,null,null,"Rajgræs bekæmpelse",null,null,null,null,null,null,null,null,null,null,null,null,null,null,null,null,null,null,null,"Yield benefits"]
[null,null,null,null,null,null,null,null,null,null,null,"Andel af rajgræsplanter, der bekæmpes: ",null,null,null,null,null,null,null,null,null,null,null,null,null,null,null,null,null,null,null,"Yield benefit 1st year after legumes",{"$f":"$H$23","v":0.2},0.2,0.2,0.2,0.2,0.2,{"$f":"H22","v":0.05},null,"all based on wheat",0.2,0.20000000000000004,0]
[null,null,"   - for raps efter bælgsæd",null,null,null,null,0.05,null,null,null,null,"Behovsbaseret pløjning",null,null,null,0.98,null,null,null,null,null,null,null,null,null,null,null,null,null,null,"Yield benefit 1st year after oilseed",0.05,0.05,0.05,{"$f":"AG65","v":0.05},{"$f":"AH65","v":0.05},{"$f":"AI65","v":0.05},null,{"$f":"AG65*0.75","v":3.7500000000000006E-2},null,0.05,5.000000000000001E-2,null,null," "]
[null,null,"   - for korn efter bælgsæd",null,null,null,null,0.2,null,null,null,null,"Pløjning",null,null,null,0.9,null,null,null,null,null,null,null,null,null,null,null,null,null,null,"Yield benefit 1st year after spring cereals, not oat",0.08,0.08,0.08,null,null,null,{"$f":"AG66*0.75","v":0.06},{"$f":"AG66*0.75","v":0.06},"Expert assessment"]
[null,null,"   - for alle afgrøder efter efterafgrøder",null,null,null,null,0.02,null,null,null,null,"Reduceret jordbearbejdning",null,null,null,0.6,null,null,null,null,null,null,null,null,null,null,null,null,null,null,"Yield benefit 1st year after spring oat",0.2,0.2,0.2,null,null,null,0.15,0.15,"Expert assessment, but should be higher than spring barley and spring wheat"]
[null,null,null,null,null,null,null,null,null,null,null,null,"No-till",null,null,null,0.4,null,null,null,null,null,null,null,null,null,null,null,null,null,null,"Yield benefit from following grass",0.05,0.05,0.05,0.05,0.05,0.05,0.05,0.05]
[null,null,null,null,null,null,null,null,null,null,null,null,"Nedvisning",null,null,null,0.05,null,null,null,null,null,null,null,null,null,null,null,null,null,null,"Yield benefit from following grass/clover",0.08,0.08,0.08,0.08,0.08,0.08,0.08,0.08]
[null,"Udbytte straf",null,null,null,null,null,null,null,null,null,null,null,null,null,null,null,null,null,null,null,null,null,null,null,null,null,null,null,null,null,"Benefit for later option added",0,0,0,0,0,0,0,0,"to keep option for later"]
[null,null,null,null,null,null,null,null,null,null,null,null,"Afskriving af afgrøde",null,null,null,0.95,null,null,null,null,null,null,null,null,null,null,null,null,null,null,"Yield benefit for all crops, after cover crops",null,null,null,null,null,null,null,{"$f":"H24","v":0.02}]
[null,null,"For bælgsæd, effekt af herbicider brugt\n i foregående afgrøde",null,null,null,null,0.02,null,null,null,null,null,null,null,null,null,null,null,null,null,null,null,null,null,null,null,null,null,null,null,"Yield penalties"]
[null,null,null,null,null,null,null,null,null,null,null,null,null,null,null,null,null,null,null,null,null,null,null,null,null,null,null,null,null,null,null,"Second year crop",0.2,0.2,0.2,0.05,0.05,0.05,{"$f":"H31","v":0.5},{"$f":"H32","v":0.4}]
[null,null,"   - for raps, hvis pause mellem rapsafgrøder er 1 år",null,null,null,null,0.5,null,null,null,null,null,null,null,null,null,null,null,null,null,null,null,null,null,null,null,null,null,null,null,"Third year crop",0.15,0.15,0.15,0.03,0.03,0.03,{"$f":"AM73+(AM73*0.2)","v":0.6},{"$f":"AN73+(AN73*0.2)","v":0.48000000000000004}]
[null,null,"   - for bælgsæd, hvis pause mellem rapsafgrøder er 1 år",null,null,null,null,0.4,null,null,null,null,null,null,null,null,null,null,null,null,null,null,null,null,null,null,null,null,null,null,null,"Fourth year crop",0.1,0.1,0.1,0.03,0.03,0.03,{"$f":"AM74+(AM74*0.2)","v":0.72},{"$f":"AN74+(AN74*0.2)","v":0.57600000000000007}]
[null,null,null,null,null,null,null,null,null,null,null,null,null,null,null,null,null,null,null,null,null,null,null,null,null,null,null,null,null,null,null,"Penalty for later option added",0,0,0,0,0,0,0,0,"to keep option for later"]
[null,null,null,null,null,null,null,null,null,null,null,null,null,null,null,null,null,null,null,null,null,null,null,null,null,null,null,null,null,null,null,"Penalty for later option added",0,0,0,0,0,0,0,0,"to keep option for later"]
[null,null,null,null,null,null,null,null,null,null,null,null,null,null,null,null,null,null,null,null,null,null,null,null,null,null,null,null,null,null,null,"Penalty for later option added",0,0,0,0,0,0,0,0,"to keep option for later"]
[]
[]
[null,null,null,null,null,null,null,null,null,null,null,null,null,null,null,null,null,null,null,null,null,null,null,null,null,null,null,null,null,null,null,"Average yield penalty from phytotoxic effect herbicides (of pre- and post-emergents)",null,null,null,null,null,null,null,{"$f":"H29","v":0.02},null,null,null,null,null,null,null,null,null,null,0.02]
[null,null,null,null,null,null,null,null,null,null,null,null,null,null,null,null,null,null,null,null,null,null,null,null,null,null,null,null,null,null,null,"Critical factors"," Do not change without good advice",null,null,null,null,null,null,null,null,null,null,null,null,null,null,"Australian reference data"]
[null,null,null,null,null,null,null,null,null,null,null,null,null,null,null,null,null,null,null,null,null,null,null,null,null,null,null,null,null,null,null,"Average kernel weight (mg)",42,59,39,50,40,45,3,150,null,null,null,null,null,null,null,37,35,3,150,null,"From the TKV found, it seems that the kernels are larger here than in AU."]
[null,null,null,null,null,null,null,null,null,null,null,null,null,null,null,null,null,null,null,null,null,null,null,null,null,null,null,null,null,null,null,"Expected standard rates seedling establishment (% of seeds)",0.95,0.95,0.92,0.95,0.95,0.95,0.6,0.8,null,null,null,null,null,null,null,0.75,0.75,0.6,0.8,null,"And have higher establishment rate"]
[null,"Options_1",{"$f":"'1.Profile'!O30","v":"ALS/SU resistens, Danmark"},null,null,null,null,null,null,null,null,null,null,null,null,null,null,null,null,null,null,null,null,null,null,null,null,null,null,null,null,"Expected high rates seedling establishment (% of seeds)",0.9,0.9,0.87,0.9,0.9,0.9,0.55000000000000004,0.75,null,null,null,null,null,null,null,0.7,0.7,0.55000000000000004,0.75,null,"Ditto"]
[null,null,null,null,null,null,null,null,null,null,null,null,null,null,null,null,null,null,null,null,null,null,null,null,null,null,null,null,null,null,null,"Maximum proportion of yield lost at high weed density (∞)(Cousens a)",0.6,0.6,0.6,0.45,0.4,0.4,0.45,0.95,"DK ref: Lemerle et al 1995 (several crops, rigidum), Izquierdo et al 2003 (high losses in barley, not integrated pt, rigidum), Stone et al 1999 (wheat, multiflorum)",null,null,null,null,null,null,0.6,0.45,0.6,0.6,null,"Goggin, D.E., Powles, S.B. and Steadman, K,J. (2012) Understanding Lolium rigidum Seeds: The Key to Managing a Problem Weed? Agronomy 2:222-239"]
[null,"Afgrøder",null,null,"V.hvede","V.byg","V.rug","Raps","Vårbyg","Havre","Vårhvede","Bælgsæd","Græs","Græs/kløver",null,null,null,null,null,null,null,null,null,null,null,null,null,null,null,"Used in seed production",null,"Competition factor on ryegrass from crop",0.09,0.09,0.15,0.25,0.3,0.2,0.2,7.0000000000000007E-2,null,null,null,null,null,null,null,3,3.3,2.6,3.9,"*","Doole, G.J. (2009) Increased cropping activity and herbicide resistance: the case of rigid ryegrass in Western Australian dryland agriculture. In: Berklian, Y.U. (Ed.), Crop Rotation: Economics, Impact, and Management. Nova Science Publishers, Hauppauge, pp. 1–40."]
[null,null,null,null,null,null,null,null,null,null,null,null,null,null,null,null,null,null,null,null,null,null,null,null,null,null,null,null,null,"Used in Table 12 & graph",null,"Density standard (not the actual density - a standard level for comparison) (plants/m2)",110,110,110,145,145,145,60,50,null,null,null,null,null,null,null,110,145,60,50]
[null,null,"Udsædsmængde standard","kg/ha ",100,190,90,2.5,140,140,170,110,90,110,null,null,null,null,null,null,null,null,null,null,null,null,null,null,null,"Used in Table 12 & graph",null,"Background competition factor",5,5,5,3,3,3,5,9,null,null,null,null,null,null,null,5,3,5,9,"*"]
[null,null,"Udsædsmængde medium","kg/ha ",143,208,100,3,150,150,175,125,98,123,null,null,null,null,null,null,null,null,null,null,null,null,null,null,null,null,null,"% Yield loss/weed plant/unit area as weed density -> 0 (cousens i)",0.01,0.01,0.01,0.01,0.01,0.01,0.01,0.01,null,null,null,null,null,null,null," * A. Diggle, D.Pannell, John Moore, 1999."]
[null,null,"Udsædsmængde høj     ","kg/ha ",185,225,110,3.5,160,160,188,140,105,135]
[null,null,"Ved sen såning er det standard praksis at forhøje udsædsmængden for at opnå det samme plantetal pr m2. "]
[null,null,"Der vil derfor ikke pånås højere plantetal ved kombinationen sen såning og høj udsædsmængde end ved tidlig såning og standard udsædsmængde"]
[null,null,"Der kan vælges medium eller høj udsædsmængde for tidlig eller mellemtidlig såning, dette vil forhøje plantetal pr. m2",null,null,null,null,null,null,null,null,null,null,null,null,null,null,null,null,null,null,null,null,null,null,null,null,null,null,null,null,"Ryegrass"]
[]
[null,null,null,null,null,null,null,null,null,null,null,null,null,null,null,null,null,null,null,null,null,null,null,null,null,null,null,null,null,null,null,"Ryegrass plants in September year 1 (pl/m2) ",{"$f":"SeedNos_SH","v":2},"From Profile",null,null,0.05,"Australian","For Australia"]
[null,"Udbytte fordele",null,null,null,null,null,null,null,null,null,"Rajgræs bekæmpelse",null,null,null,null,null,null,null,null,null,null,null,null,null,null,null,null,null,null,null,null,null,null,null,null,0.4,"Standard","Note: Germination is:"]
[null,null,null,null,null,null,null,null,null,null,null,"Andel af rajgræsplanter, der bekæmpes: ",null,null,null,null,null,null,null,null,null,null,null,null,null,null,null,null,null,null,null,"For Denmark",null,null,null,null,0.4,null,"- the least in regenerating pasture without tickle (minimal disturbance)"]
[null,null,"   - for raps efter bælgsæd",null,null,null,null,0.05,null,null,null,null,"Behovsbaseret pløjning",null,null,null,0.98,null,null,null,null,null,null,null,null,null,null,null,null,null,null,"LOLMU can emerge from Feb to Nov with peaks in Apr-May and Aug-Oct",null,null,null,null,0.4,null,"- skewed earlier if tickle (and slight change in amount )"]
[null,null,"   - for korn efter bælgsæd",null,null,null,null,0.2,null,null,null,null,"Pløjning",null,null,null,0.9,null,null,null,null,null,null,null,null,null,null,null,null,null,null,"These numbers reflect the emergence in autumn from Aug to Nov following the division into 6 parts from below",null,null,null,null,0.1,0.82,"- a bit greater with full-cut compared to no-till"]
[null,null,"   - for alle afgrøder efter efterafgrøder",null,null,null,null,0.02,null,null,null,null,"Reduceret jordbearbejdning",null,null,null,0.6,null,null,null,null,null,null,null,null,null,null,null,null,null,null,"The emergence in spring will be scewed more to the left",null,null,null,null," "]
[null,null,null,null,null,null,null,null,null,null,null,null,"No-till",null,null,null,0.4,null,null,null,null,null,null,null,null,null,null,null,null,null,null,null,0.3,"Dansk","Ichihara et al 2009 (Japan), LOLMU, more emergence on surface than burried with harrow (5 cm)"]
[null,null,null,null,null,null,null,null,null,null,null,null,"Nedvisning",null,null,null,0.05,null,null,null,null,null,null,null,null,null,null,null,null,null,null,null,0.4,"Standard","Kryger Jensen 2010 (DK); larger decay when left on soil surface; Poa trivialis and Vulpia myuros"]
[null,"Udbytte straf",null,null,null,null,null,null,null,null,null,null,null,null,null,null,null,null,null,null,null,null,null,null,null,null,null,null,null,null,null,null,0.25,null,"Chauhan et al 2006 (Australia); rigidum; ",null,null,"\"The seedling recruitment of rigid ryegrass was lower under the low–soildisturbance tillage systems"]
[null,null,null,null,null,null,null,null,null,null,null,null,"Afskriving af afgrøde",null,null,null,0.95,null,null,null,null,null,null,null,null,null,null,null,null,null,null,null,0.1,null,null,null,null," than under the high–soil-disturbance tillage systems at both locations. "]
[null,null,"For bælgsæd, effekt af herbicider brugt\n i foregående afgrøde",null,null,null,null,0.02,null,null,null,null,null,null,null,null,null,null,null,null,null,null,null,null,null,null,null,null,null,null,null,null,0.1,0.82,null,null,null,"The seedling recruitment was two- to fourfold greater under minimum tillage than under no-till. "]
[null,null,null,null,null,null,null,null,null,null,null,null,null,null,null,null,null,null,null,null,null,null,null,null,null,null,null,null,null,null,null,null,0.05,null,null,null,null,"The carryover of residual viable seeds from one season to the next was similar between the tillage systems. "]
[null,null,"   - for raps, hvis pause mellem rapsafgrøder er 1 år",null,null,null,null,0.5,null,null,null,null,null,null,null,null,null,null,null,null,null,null,null,null,null,null,null,null,null,null,null,null,null,null,null,null,null,"However, seed decay under no-till (48 to 60%) was much greater than under minimum tillage (12 to 39%).\""]
[null,null,"   - for bælgsæd, hvis pause mellem rapsafgrøder er 1 år",null,null,null,null,0.4]
[]
[null,null,null,null,null,null,null,null,null,null,null,null,null,null,null,null,null,null,null,null,null,null,null,null,null,null,null,null,null,null,null,null,"The relation ship among the tillage practices are somewhat documented, but not the actutal numbers"]
[null,null,null,null,null,null,null,null,null,null,null,null,null,null,null,null,null,null,null,null,null,null,null,null,null,null,null,null,null,null,null,null,"See above references + pers comments Jens Erik jensen SEGES"]
[null,null,null,null,null,null,null,null,null,null,null,null,null,null,null,null,null,null,null,null,null,null,null,null,null,null,null,null,null,null,null,"Germination - Sowing (crop or pasture) and:","Autumn sown crops",null,null,"Spring sown crops",null,null,null,null,"Autumn crops",null,null,"Autumn crops",null,null,"Autumn crops"]
[null,null,null,null,null,null,null,null,null,null,null,null,null,null,null,null,null,null,null,null,null,null,null,null,null,null,null,null,null,null,null,"These show the % of remaining seed which germ in this period","Plough","Red. Till","No-till","Plough","Red. Till","No-till",null,null,"Plough",null,null,"Reduced tillage",null,null,"No-till"]
[null,null,null,null,null,null,null,null,null,null,null,null,null,null,null,null,null,null,null,null,null,null,null,null,null,null,null,null,null,null,null,"Period for early sowing 1.-15. sep /before 20. Mar.",0.25,0.15,0.08,0.72,0.47,0.45,null,null,{"$f":"AG115","v":0.25},{"$f":"1*(1-AG115)","v":0.75},null,{"$f":"AH115","v":0.15},{"$f":"1*(1-AH115)","v":0.85},null,{"$f":"AI115","v":0.08},{"$f":"1*(1-AI115)","v":0.92}]
[null,null,null,null,null,null,null,null,null,null,null,null,null,null,null,null,null,null,null,null,null,null,null,null,null,null,null,null,null,null,null,"Period for medium sowing 15.-20. sep /20. mar - 15. apr",0.35,0.2,0.15,0.25,0.15,0.1,null,null,{"$f":"AP115-AP116","v":0.26249999999999996},{"$f":"AP115*(1-AG116)","v":0.48750000000000004},null,{"$f":"AS115-AS116","v":0.16999999999999993},{"$f":"AS115*(1-AH116)","v":0.68},null,{"$f":"AV115-AV116","v":0.13800000000000001},{"$f":"AV115*(1-AI116)","v":0.78200000000000003}]
[null,null,null,null,null,null,null,null,null,null,null,null,null,null,null,null,null,null,null,null,null,null,null,null,null,null,null,null,null,null,null,"Period for late sowing after 20. sep / after 15. apr.",0.25,0.25,0.2,0.15,0.1,0.15,null,null,{"$f":"AP116-AP117","v":0.12187500000000001},{"$f":"AP116*(1-AG117)","v":0.36562500000000003},null,{"$f":"AS116-AS117","v":0.17000000000000004},{"$f":"AS116*(1-AH117)","v":0.51},null,{"$f":"AV116-AV117","v":0.15639999999999998},{"$f":"AV116*(1-AI117)","v":0.62560000000000004}]
[null,null,null,null,null,null,null,null,null,null,null,null,null,null,null,null,null,null,null,null,null,null,null,null,null,null,null,null,null,null,null,"Before Pre-E spraying (late emerging ) /not relevant in spring",0.1,0.1,0.08,0,0,0,null,null,{"$f":"AP117-AP118","v":3.6562499999999998E-2},{"$f":"AP117*(1-AG118)","v":0.32906250000000004},null,{"$f":"AS117-AS118","v":5.099999999999999E-2},{"$f":"AS117*(1-AH118)","v":0.45900000000000002},null,{"$f":"AV117-AV118","v":5.0047999999999981E-2},{"$f":"AV117*(1-AI118)","v":0.57555200000000006}]
[null,"Options_2",{"$f":"'1.Profile'!O31","v":"Fop/dim resistens, Danmark"},null,null,null,null,null,null,null,null,null,null,null,null,null,null,null,null,null,null,null,null,null,null,null,null,null,null,null,null,"Before Post-E spraying, both seasons",0.1,0.1,0.08,0.1,0.08,0.05,null,null,{"$f":"AP118-AP119","v":3.290624999999997E-2},{"$f":"AP118*(1-AG119)","v":0.29615625000000007},null,{"$f":"AS118-AS119","v":4.5899999999999996E-2},{"$f":"AS118*(1-AH119)","v":0.41310000000000002},null,{"$f":"AV118-AV119","v":4.6044160000000001E-2},{"$f":"AV118*(1-AI119)","v":0.52950784000000006}]
[null,null,null,null,null,null,null,null,null,null,null,null,null,null,null,null,null,null,null,null,null,null,null,null,null,null,null,null,null,null,null,"Spring germination,  both winter and spring crop",0.05,0.05,0.02,0.05,0.02,0.02,null,null,{"$f":"AP119-AP120","v":1.4807812500000017E-2},{"$f":"AP119*(1-AG120)","v":0.28134843750000005},null,{"$f":"AS119-AS120","v":2.0655000000000034E-2},{"$f":"AS119*(1-AH120)","v":0.39244499999999999},null,{"$f":"AV119-AV120","v":1.0590156799999972E-2},{"$f":"AV119*(1-AI120)","v":0.51891768320000009}]
[null,"Afgrøder",null,null,"V.hvede","V.byg","V.rug","Raps","Vårbyg","Havre","Vårhvede","Bælgsæd","Græs","Græs/kløver",null,null,null,null,null,null,null,null,null,null,null,null,null,null,null,null,null,null,null,null,null,null,null,null,null,null,"total:",{"$f":"1-AP120","v":0.71865156249999995},{"$f":"SUM(AO115:AO120)+AP120","v":0.99999999999999989},"total:",{"$f":"1-AS120","v":0.60755500000000007},{"$f":"SUM(AR115:AR120)+AS120","v":1},"total:",{"$f":"1-AV120","v":0.48108231679999991},{"$f":"SUM(AU115:AU120)+AV120","v":1}]
[null,null,null,null,null,null,null,null,null,null,null,null,null,null,null,null,null,null,null,null,null,null,null,null,null,null,null,null,null,null,null,"Ryegrass Variables",{"$f":"1-AP120","v":0.71865156249999995},{"$f":"1-AS120","v":0.60755500000000007},{"$f":"1-AV120","v":0.48108231679999991},{"$f":"1-AP129","v":0.84738249999999993},{"$f":"1-AS129","v":0.63444627999999992},{"$f":"1-AV129","v":0.60828174999999995},null,null,"Spring crops",null,null,"spring crops",null,null,"spring crops"]
[null,null,"Udsædsmængde standard","kg/ha ",100,190,90,2.5,140,140,170,110,90,110,null,null,null,null,null,null,null,null,null,null,null,null,null,null,null,null,null,"Nb of viable seeds at start (Yr1) per mature plant last year ",50,null,50,"Steve Powles, 2012",null,"Australian data in blue",null,null,"Plough",null,null,"Reduced tillage",null,null,"No-till"]
[null,null,"Udsædsmængde medium","kg/ha ",143,208,100,3,150,150,175,125,98,123,null,null,null,null,null,null,null,null,null,null,null,null,null,null,null,null,null,"Mouldboard plough: % emerged plants controlled",{"$f":"Q23","v":0.9},null,1,"GRDC, 2012",null,"European data in dark blue",null,null,{"$f":"AJ115","v":0.72},{"$f":"1*(1-AJ115)","v":0.28000000000000003},null,{"$f":"AK115","v":0.47},{"$f":"1*(1-AK115)","v":0.53},null,{"$f":"AL115","v":0.45},{"$f":"1*(1-AL115)","v":0.55000000000000004}]
[null,null,"Udsædsmængde høj     ","kg/ha ",185,225,110,3.5,160,160,188,140,105,135,null,null,null,null,null,null,null,null,null,null,null,null,null,null,null,null,"proportion germinated","Need-based ploughing to bury grass seeds if 4-5 yrs between plough",{"$f":"1-Q22","v":2.0000000000000018E-2},"Expert assessment",0.3,"adapted from Goggin et al. 2012",null,null,null,null,{"$f":"AP124-AP125","v":7.0000000000000007E-2},{"$f":"AP124*(1-AJ116)","v":0.21000000000000002},null,{"$f":"AS124-AS125","v":7.9500000000000015E-2},{"$f":"AS124*(1-AK116)","v":0.45050000000000001},null,{"$f":"AV124-AV125","v":5.4999999999999993E-2},{"$f":"AV124*(1-AL116)","v":0.49500000000000005}]
[null,null,"Ved sen såning er det standard praksis at forhøje udsædsmængden for at opnå det samme plantetal pr m2. ",null,null,null,null,null,null,null,null,null,null,null,null,null,null,null,null,null,null,null,null,null,null,null,null,null,null,null,null,"Natural mortality of seedlings (% of total seedlings)",0.05,null,0.05,"Cheam, AgWA 1999",null,null,null,null,{"$f":"AP125-AP126","v":3.15E-2},{"$f":"AP125*(1-AJ117)","v":0.17850000000000002},null,{"$f":"AS125-AS126","v":4.5049999999999979E-2},{"$f":"AS125*(1-AK117)","v":0.40545000000000003},null,{"$f":"AV125-AV126","v":7.4250000000000038E-2},{"$f":"AV125*(1-AL117)","v":0.42075000000000001}]
[null,null,"Der vil derfor ikke pånås højere plantetal ved kombinationen sen såning og høj udsædsmængde end ved tidlig såning og standard udsædsmængde",null,null,null,null,null,null,null,null,null,null,null,null,null,null,null,null,null,null,null,null,null,null,null,null,null,null,null,null,"Natural mortality of dormant seeds during season",0.2,"Might need to be adjusted for DK conditions?",0.2," J. Holmes, RTC & M. Monjardino, UWA 1999",null,null,null,null,{"$f":"AP126-AP127","v":0},{"$f":"AP126*(1-AJ118)","v":0.17850000000000002},null,{"$f":"AS126-AS127","v":0},{"$f":"AS126*(1-AK118)","v":0.40545000000000003},null,{"$f":"AV126-AV127","v":0},{"$f":"AV126*(1-AL118)","v":0.42075000000000001}]
[null,null,"Der kan vælges medium eller høj udsædsmængde for tidlig eller mellemtidlig såning, dette vil forhøje plantetal pr. m2",null,null,null,null,null,null,null,null,null,null,null,null,null,null,null,null,null,null,null,null,null,null,null,null,null,null,null,null,"Natural mortality of seeds over the season",0.3,"Expert assessment",0.3,"M. Monjardino, UWA 1999",null,"Maia et al. 2009, Brazilian data on LOLMU",null,null,{"$f":"AP127-AP128","v":1.7850000000000005E-2},{"$f":"AP127*(1-AJ119)","v":0.16065000000000002},null,{"$f":"AS127-AS128","v":3.2435999999999965E-2},{"$f":"AS127*(1-AK119)","v":0.37301400000000007},null,{"$f":"AV127-AV128","v":2.1037500000000042E-2},{"$f":"AV127*(1-AL119)","v":0.39971249999999997}]
[null,null,null,null,null,null,null,null,null,null,null,null,null,null,null,null,null,null,null,null,null,null,null,null,null,null,null,null,null,null,null,"Sub-lethal effect of selective herbicides - lower seed production of surviving weeds.",0.33,null,0.33,"D. Pannell & V. Stewart, 1999",null,null,null,null,{"$f":"AP128-AP129","v":8.032499999999998E-3},{"$f":"AP128*(1-AJ120)","v":0.15261750000000002},null,{"$f":"AS128-AS129","v":7.4602799999999858E-3},{"$f":"AS128*(1-AK120)","v":0.36555372000000008},null,{"$f":"AV128-AV129","v":7.9942499999999805E-3},{"$f":"AV128*(1-AL120)","v":0.39171824999999999}]
[null,null,null,null,null,null,null,null,null,null,null,null,null,null,null,null,null,null,null,null,null,null,null,null,null,null,null,null,null,null,null,"Effect of late-season application of non-selective herbicide - lower viability of newly produced seeds",0.5,null,0.5,"Steadman et al., 2006",null,null,null,null,"total:",{"$f":"1-AP129","v":0.84738249999999993},{"$f":"SUM(AO124:AO129)+AP129","v":1},"total:",{"$f":"1-AS129","v":0.63444627999999992},{"$f":"SUM(AR124:AR129)+AS129","v":0.99999999999999989},"total:",{"$f":"1-AV129","v":0.60828174999999995},{"$f":"SUM(AU124:AU129)+AV129","v":1}]
[null,"Udbytte fordele",null,null,null,null,null,null,null,null,null,"Rajgræs bekæmpelse",null,null,null,null,null,null,null,null,null,null,null,null,null,null,null,null,null,null,null,"Maximum ryegrass seed production (seeds/m2/year)",35000,null,35000,"M. Monjardino, UWA 1999",null,null,null,null,"A number of those ryegrass parameters are reviewed in:"]
[null,null,null,null,null,null,null,null,null,null,null,"Andel af rajgræsplanter, der bekæmpes: ",null,null,null,null,null,null,null,null,null,null,null,null,null,null,null,null,null,null,null,"Removal of weed seed in grain with normal harvesting",0.05,null,0.05,"Michael Walsh, 2012",null,null,null,null,"Goggin, D.E., Powles, S.B. and Steadman, K,J. (2012) Understanding Lolium rigidum Seeds: The Key to Managing a Problem Weed? Agronomy 2:222-239"]
[null,null,"   - for raps efter bælgsæd",null,null,null,null,0.05,null,null,null,null,"Behovsbaseret pløjning",null,null,null,0.98,null,null,null,null,null,null,null,null,null,null,null,null,null,"Added in Dk version","Ryegrass germination in grass",0.3,"Expert assessment",null,null,null,null,null,null,"Doole, G.J. (2009) Increased cropping activity and herbicide resistance: the case of rigid ryegrass in Western Australian dryland agriculture. In: Berklian, Y.U. (Ed.), Crop Rotation: Economics, Impact, and Management. Nova Science Publishers, Hauppauge, pp. 1–40."]
[null,null,"   - for korn efter bælgsæd",null,null,null,null,0.2,null,null,null,null,"Pløjning",null,null,null,0.9,null,null,null,null,null,null,null,null,null,null,null,null,null,null,"Ryegrass background comp. Factor (intra-specific)",0.04,"Changed, see comment",33,"A. Diggle, AgWA",null,"Renton et al 2011, Hashem et al. 1998?"]
[null,null,"   - for alle afgrøder efter efterafgrøder",null,null,null,null,0.02,null,null,null,null,"Reduceret jordbearbejdning",null,null,null,0.6,null,null,null,null,null,null,null,null,null,null,null,null,null,"Not in use at the moment","Ryegrass competition factor in wheat",0.33,null,0.33,"D. Pannell, UWA 1999",null,"Not used in DK-RIM because we changed the yield function"]
[null,null,null,null,null,null,null,null,null,null,null,null,"No-till",null,null,null,0.4,null,null,null,null,null,null,null,null,null,null,null,null,null,"Not in use at the moment","Ryegrass competition factor in s barley",0.3,null,0.3,"D. Pannell, UWA 1999"]
[null,null,null,null,null,null,null,null,null,null,null,null,"Nedvisning",null,null,null,0.05,null,null,null,null,null,null,null,null,null,null,null,null,null,"Not in use at the moment","Ryegrass competition factor in oilseed rape",0.35,null,0.35,"D. Pannell, UWA 1999"]
[null,"Udbytte straf",null,null,null,null,null,null,null,null,null,null,null,null,null,null,null,null,null,null,null,null,null,null,null,null,null,null,null,null,"Not in use at the moment","Ryegrass competition factor in legumes",0.24,null,0.24,"D. Pannell, UWA 1999"]
[null,null,null,null,null,null,null,null,null,null,null,null,"Afskriving af afgrøde",null,null,null,0.95,null,null,null,null,null,null,null,null,null,null,null,null,null,null,"Ryegrass competition factor in pasture",0.99]
[null,null,"For bælgsæd, effekt af herbicider brugt\n i foregående afgrøde",null,null,null,null,0.02,null,null,null,null,null,null,null,null,null,null,null,null,null,null,null,null,null,null,null,null,null,null,null,"Needs-based ploughing extra ungerminated seed mortality",0.8]
[null,null,null,null,null,null,null,null,null,null,null,null,null,null,null,null,null,null,null,null,null,null,null,null,null,null,null,null,null,null,null,"Don't change red numbers without good advice"]
[null,null,"   - for raps, hvis pause mellem rapsafgrøder er 1 år",null,null,null,null,0.5]
[null,null,"   - for bælgsæd, hvis pause mellem rapsafgrøder er 1 år",null,null,null,null,0.4]
[]
[null,null,null,null,null,null,null,null,null,null,null,null,null,null,null,null,null,null,null,null,null,null,null,null,null,null,null,null,null,null,null,null,"The number of seeds produced per plant in % relative to the maximum possible amount"]
[null,null,null,null,null,null,null,null,null,null,null,null,null,null,null,null,null,null,null,null,null,null,null,null,null,null,null,null,null,null,null,null,null,"Autumn",null,null,"Spring",null,null,null,"Australian data"]
[null,null,null,null,null,null,null,null,null,null,null,null,null,null,null,null,null,null,null,null,null,null,null,null,null,null,null,null,null,null,null,"Progeny index for ryegrass","Early sow","Medium sow","Late sow","Early sow","Medium sow","Late sow",null,null,"John Moore, DAWA, Dec 2000"]
[null,null,null,null,null,null,null,null,null,null,null,null,null,null,null,null,null,null,null,null,null,null,null,null,null,null,null,null,null,null,null,"Period for early sowing 1.-15. sep /before 20. Mar.",1,0.8,0.6,0.5,0.4,0.3,null,null,"Seed day 0","Seed day 10","Seed day 20",null,"Første udgave af DK-RIM brugte disse værdier"]
[null,null,null,null,null,null,null,null,null,null,null,null,null,null,null,null,null,null,null,null,null,null,null,null,null,null,null,null,null,null,null,"Period for medium sowing 15.-20. sep /20. mar - 15. apr",0.4,0.6,0.4,0.25,0.25,0.2,null,null,1,1,1,null,1,1,1,0.5,0.6,0.7]
[null,null,null,null,null,null,null,null,null,null,null,null,null,null,null,null,null,null,null,null,null,null,null,null,null,null,null,null,null,null,null,"Period for late sowing after 20. sep / after 15. apr.",0.3,0.25,0.15,0.05,0.05,0.02,null,null,0.3,1,1,null,0.25,1,1,0.25,0.55000000000000004,0.6]
[null,null,null,null,null,null,null,null,null,null,null,null,null,null,null,null,null,null,null,null,null,null,null,null,null,null,null,null,null,null,null,"Before Pre-E spraying (late emerging ) /not relevant in spring crops",0.1,0.1,0.1,0,0,0,null,null,0.1,0.3,0.45,null,0.15,0.25,1,0.1,0.3,0.45]
[null,null,null,null,null,null,null,null,null,null,null,null,null,null,null,null,null,null,null,null,null,null,null,null,null,null,null,null,null,null,null,"Before Post-E spraying, both seasons",0.05,0.05,0.05,0.02,0.02,0.02,null,null,0.02,0.1,0.1,null,0.1,0.1,0.2,0.05,0.15,0.1]
[null,"Options_3",{"$f":"'1.Profile'!O32","v":"Metabolisk resistens, Danmark"},null,null,null,null,null,null,null,null,null,null,null,null,null,null,null,null,null,null,null,null,null,null,null,null,null,null,null,null,"Spring germination,  both winter and spring crop",0.02,0.02,0.02,0.02,0.02,0.02,null,null,null,null,null,null,0.05,0.05,0.15,0.02,0.03,0.05]
[null,null,null,null,null,null,null,null,null,null,null,null,null,null,null,null,null,null,null,null,null,null,null,null,null,null,null,null,null,null,null,null,null,null,null,null,null,null,null,null,null,null,null,null,0.02,0.02,0.05,0.02,0.02,0.05]
[null,"Afgrøder",null,null,"V.hvede","V.byg","V.rug","Raps","Vårbyg","Havre","Vårhvede","Bælgsæd","Græs","Græs/kløver",null,null,null,null,null,null,null,null,null,null,null,null,null,null,null,null,null,null,{"$f":"AVERAGE(AG148:AG153)","v":0.3116666666666667},0.30333333333333334,0.22,0.14000000000000001,0.12333333333333335,9.3333333333333338E-2]
[]
[null,null,"Udsædsmængde standard","kg/ha ",100,190,90,2.5,140,140,170,110,90,110,null,null,null,null,null,null,null,null,null,null,null,null,null,null,null,null,null,null,"Expert assessment, might need adjustment later"]
[null,null,"Udsædsmængde medium","kg/ha ",143,208,100,3,150,150,175,125,98,123]
[null,null,"Udsædsmængde høj     ","kg/ha ",185,225,110,3.5,160,160,188,140,105,135]
[null,null,"Ved sen såning er det standard praksis at forhøje udsædsmængden for at opnå det samme plantetal pr m2. "]
[null,null,"Der vil derfor ikke pånås højere plantetal ved kombinationen sen såning og høj udsædsmængde end ved tidlig såning og standard udsædsmængde"]
[null,null,"Der kan vælges medium eller høj udsædsmængde for tidlig eller mellemtidlig såning, dette vil forhøje plantetal pr. m2"]
[]
[]
[null,"Udbytte fordele",null,null,null,null,null,null,null,null,null,"Rajgræs bekæmpelse"]
[null,null,null,null,null,null,null,null,null,null,null,"Andel af rajgræsplanter, der bekæmpes: "]
[null,null,"   - for raps efter bælgsæd",null,null,null,null,0.05,null,null,null,null,"Behovsbaseret pløjning",null,null,null,0.98]
[null,null,"   - for korn efter bælgsæd",null,null,null,null,0.2,null,null,null,null,"Pløjning",null,null,null,0.9]
[null,null,"   - for alle afgrøder efter efterafgrøder",null,null,null,null,0.02,null,null,null,null,"Reduceret jordbearbejdning",null,null,null,0.6]
[null,null,null,null,null,null,null,null,null,null,null,null,"No-till",null,null,null,0.4]
[null,null,null,null,null,null,null,null,null,null,null,null,"Nedvisning",null,null,null,0.05]
[null,"Udbytte straf"]
[null,null,null,null,null,null,null,null,null,null,null,null,"Afskriving af afgrøde",null,null,null,0.95]
[null,null,"For bælgsæd, effekt af herbicider brugt\n i foregående afgrøde",null,null,null,null,0.02]
[]
[null,null,"   - for raps, hvis pause mellem rapsafgrøder er 1 år",null,null,null,null,0.5]
[null,null,"   - for bælgsæd, hvis pause mellem rapsafgrøder er 1 år",null,null,null,null,0.4]
[]
[]
[]
[]
[]
[]
[]
[]
[]
[]
[null,"Options_4",{"$f":"'1.Profile'!O33","v":"Ingen resistens, Danmark"}]
[]
[null,"Afgrøder",null,null,"V.hvede","V.byg","V.rug","Raps","Vårbyg","Havre","Vårhvede","Bælgsæd","Græs","Græs/kløver"]
[]
[null,null,"Udsædsmængde standard","kg/ha ",100,190,90,2.5,140,140,170,110,90,110]
[null,null,"Udsædsmængde medium","kg/ha ",143,208,100,3,150,150,175,125,98,123]
[null,null,"Udsædsmængde høj     ","kg/ha ",185,225,110,3.5,160,160,188,140,105,135]
[null,null,"Ved sen såning er det standard praksis at forhøje udsædsmængden for at opnå det samme plantetal pr m2. "]
[null,null,"Der vil derfor ikke pånås højere plantetal ved kombinationen sen såning og høj udsædsmængde end ved tidlig såning og standard udsædsmængde"]
[null,null,"Der kan vælges medium eller høj udsædsmængde for tidlig eller mellemtidlig såning, dette vil forhøje plantetal pr. m2"]
[]
[]
[null,"Udbytte fordele",null,null,null,null,null,null,null,null,null,"Rajgræs bekæmpelse"]
[null,null,null,null,null,null,null,null,null,null,null,"Andel af rajgræsplanter, der bekæmpes: "]
[null,null,"   - for raps efter bælgsæd",null,null,null,null,0.05,null,null,null,null,"Behovsbaseret pløjning",null,null,null,0.98]
[null,null,"   - for korn efter bælgsæd",null,null,null,null,0.2,null,null,null,null,"Pløjning",null,null,null,0.9]
[null,null,"   - for alle afgrøder efter efterafgrøder",null,null,null,null,0.02,null,null,null,null,"Reduceret jordbearbejdning",null,null,null,0.6]
[null,null,null,null,null,null,null,null,null,null,null,null,"No-till",null,null,null,0.4]
[null,null,null,null,null,null,null,null,null,null,null,null,"Nedvisning",null,null,null,0.05]
[null,"Udbytte straf"]
[null,null,null,null,null,null,null,null,null,null,null,null,"Afskriving af afgrøde",null,null,null,0.95]
[null,null,"For bælgsæd, effekt af herbicider brugt\n i foregående afgrøde",null,null,null,null,0.02]
[]
[null,null,"   - for raps, hvis pause mellem rapsafgrøder er 1 år",null,null,null,null,0.5]
[null,null,"   - for bælgsæd, hvis pause mellem rapsafgrøder er 1 år",null,null,null,null,0.4]

{"sheet":"2.Strategy","index":5,"n_rows":229,"n_cols":48,"rows_kept":229,"cut":false,"hidden":false,"merged":[[5,14,5,16],[12,14,12,15],[13,14,13,15],[7,14,7,15],[8,14,8,15],[9,14,9,15],[10,14,10,15],[11,14,11,15]]}
[null,"2. Planlæg strategien",null,null,null,null,null,null,null,{"$f":"'1.Profile'!O27&\", \"&'1.Profile'!O26","v":"Ingen resistens, Danmark"},null,null,"  ",null,null,null,null,null,null,null,null,null,null,null,null,null,null,null,null,null,null,null,null,null,null,null,null,null,null,{"$f":"AND(D$6<>\"\",D$13<>\"\")","v":false}]
[null,null,null,null,null,null,null,null,null,null,null,null,null,null,"Brug ikke copy-paste funktion til at udfylde strategien"]
[null,null,"Vælg afgrøde og dyrknings-","År 1","År 2","År 3","År 4","År 5","År 6","År 7","År 8","År 9","År 10",null,"Det ødelægger formateringen."]
[null,null,"-system for hvert høstår:","Vårbyg","Raps","V.hvede","V.hvede","Vårbyg","Raps","V.hvede","V.hvede","Vårbyg","Raps",null,"Gem & indlæs",null,null,null,null,null,null,null,null,null,null,null,null,null,null,null,null,null,null,null,null,null,null,null,null,null,null,null,null,null,null,null,null,"Excluded"]
[13,null,{"$f":"\"        \"&P71","v":"        Glyphosat & timing"},null,"Ingen","Ingen","Ingen",null,"Ingen","Ingen","Ingen",null,"Ingen"," ","Strateginavn: ",null,null,null,null,null,null,null,null,null,null,null,null,null,null,null,null,null,null,null,null,null,null,null,null,null,null,null,null,null,null,null,null,{"$f":"D93&D94&D95","v":"TidligMediumSen"}]
[10,null,{"$f":"\"        \"&C76","v":"        Jordbearbejdning"},null,"Pløjet","Pløjet","Pløjet",null,"Pløjet","Pløjet","Pløjet",null,"Pløjet"," "]
[1,null,{"$f":"\"        \"&C80","v":"        Såtid"},null,"Tidlig","Sen","Tidlig",null,"Tidlig","Sen","Tidlig",null,"Tidlig"," "]
[4,null,{"$f":"\"        \"&C84","v":"        Udsædsmængde"},null,"Standard","Høj","Standard",null,"Standard","Høj","Standard",null,"Standard"," "]
[11,null,{"$f":"\"        \"&P97","v":"        Mellem/Efterafgrøder"},null,"Nej","Nej","Nej",null,"Nej","Nej","Nej",null,"Nej"," ",null,null,null,null,null,null,null,null,null,null,null,null,null,null,null,null,null,null,null,null,null,null,null,null,null,null,null,null,null,null,null,null,null,{"$f":"H63","v":"Vårbyg"}]
[9,null,{"$f":"\"        \"&P81","v":"        Herbicid før fremspiring"},null,null,"Boxer 1 l","Boxer 1 l",null,null,"Boxer 1 l","Boxer 1 l",null,null," ",null,null,null,null,null,null,null,null,null,null,null,null,null,null,null,null,null,null,null,null,null,null,null,null,null,null,null,null,null,null,null,null,null,{"$f":"H63&I63&J63","v":"VårbygHavreVårhvede"}]
[15,null,{"$f":"\"        \"&P87","v":"        Herbicid efter fremspiring"},null,"Kerb",null,"Topik",null,"Kerb",null,"Topik",null,"Kerb"," "]
[16,null,{"$f":"\"        \"&P71","v":"        Glyphosat & timing"},"Ingen",null,null,null,"Ingen",null,null,null,"Ingen",null," "]
[17,null,{"$f":"\"        \"&C88","v":"        Jordbearbejdning"},"Pløjet",null,null,null,"Pløjet",null,null,null,"Pløjet",null," "]
[23,null,{"$f":"\"        \"&C93","v":"        Såtid"},"Tidlig",null,null,null,"Tidlig",null,null,null,"Tidlig",null," ","Default",null,null,null,null,null,null,null,null,null,null,null,null,null,null,null,null,null,null,null,null,null,null,null,null,null,null,null,null,null,null,null,null,{"$f":"D63&E63&F63&G63","v":"V.hvedeV.bygV.rugRaps"}]
[35,null,{"$f":"\"        \"&C97","v":"        Udsædsmængde"},"Standard",null,null,null,"Standard",null,null,null,"Standard",null," "]
[25,null,{"$f":"\"        \"&P97","v":"        Mellem/Efterafgrøder"},"Nej",null,null,null,"Nej",null,null,null,"Nej",null,null,null,{"$f":"IF(COUNTIF(D48:M48,\"Err NS\")>0,E50,IF(COUNTIF(D48:M48,\"Err E\")>0,E51,IF(COUNTIF(D48:M48,\"Err H\")>0,E52,\"\")))","v":""},null,null,null,null,null,null,null,null,null,null,null,null,null,null,null,null,null,null,null,null,null,null,null,null,null,null,null,null,null,null,null,{"$f":"H63&I63&J63","v":"VårbygHavreVårhvede"}]
[31,null,{"$f":"\"        \"&P87","v":"        Herbicid efter fremspiring"},"Hussar Plus OD",null,"Hussar Plus OD",null,"Hussar Plus OD",null,"Hussar Plus OD",null,"Hussar Plus OD",null,null,null,{"$f":"IF(COUNTIF(D48:M48,\"Err NS\")>0,H50,IF(COUNTIF(D48:M48,\"Err E\")>0,H51,IF(COUNTIF(D48:M48,\"Err H\")>0,H52,\"\")))","v":""}]
[35,null,{"$f":"\"        \"&C101","v":"        Yderligere muligheder"},null,null,null,null,null,null,null,null,null,null,null,null,{"$f":"IF(COUNTIF(D48:M48,\"Err NS\")>0,J50,IF(COUNTIF(D48:M48,\"Err E\")>0,J51,IF(COUNTIF(D48:M48,\"Err H\")>0,J52,\"\")))","v":""},null,null,null,null,null,null,null,null,null,null,null,null,null,null,null,null,null,null,null,null,null,null,null," ",null,null,null,null,null,null,null,{"$f":"L63&M63","v":"GræsGræs/kløver"}]
[null,null,{"$f":"\"        \"&C107","v":"        Høst"},"Korn+ snit","Raps","Korn+ snit","Korn+ snit","Korn+ snit","Raps","Korn+ snit","Korn+ snit","Korn+ snit","Raps"," "]
[null,null,"Rajgræsplanter m. frøsætning pr. m2:",{"$f":"IF('Bio results'!D$9>$O$67,\">\"&$O$67,'Bio results'!D$9)","v":3.2281380000000013},{"$f":"IF('Bio results'!E$9>$O$67,\">\"&$O$67,'Bio results'!E$9)","v":2.6336859499999989},{"$f":"IF('Bio results'!F$9>$O$67,\">\"&$O$67,'Bio results'!F$9)","v":1.8462774525000007},{"$f":"IF('Bio results'!G$9>$O$67,\">\"&$O$67,'Bio results'!G$9)","v":10.159331092312499},{"$f":"IF('Bio results'!H$9>$O$67,\">\"&$O$67,'Bio results'!H$9)","v":6.1334622000000012},{"$f":"IF('Bio results'!I$9>$O$67,\">\"&$O$67,'Bio results'!I$9)","v":5.2673718999999979},{"$f":"IF('Bio results'!J$9>$O$67,\">\"&$O$67,'Bio results'!J$9)","v":3.6925549050000015},{"$f":"IF('Bio results'!K$9>$O$67,\">\"&$O$67,'Bio results'!K$9)","v":20.318662184624998},{"$f":"IF('Bio results'!L$9>$O$67,\">\"&$O$67,'Bio results'!L$9)","v":12.266924400000002},{"$f":"IF('Bio results'!M$9>$O$67,\">\"&$O$67,'Bio results'!M$9)","v":10.158502949999995}]
[null,null,"Frø i jord følgende sæson pr. m2:",{"$f":"IF('Bio results'!D$22>$O$68,\">\"&$O$68,'Bio results'!D$22)","v":70},{"$f":"IF('Bio results'!E$22>$O$68,\">\"&$O$68,'Bio results'!E$22)","v":130},{"$f":"IF('Bio results'!F$22>$O$68,\">\"&$O$68,'Bio results'!F$22)","v":180},{"$f":"IF('Bio results'!G$22>$O$68,\">\"&$O$68,'Bio results'!G$22)","v":190},{"$f":"IF('Bio results'!H$22>$O$68,\">\"&$O$68,'Bio results'!H$22)","v":140},{"$f":"IF('Bio results'!I$22>$O$68,\">\"&$O$68,'Bio results'!I$22)","v":260},{"$f":"IF('Bio results'!J$22>$O$68,\">\"&$O$68,'Bio results'!J$22)","v":360},{"$f":"IF('Bio results'!K$22>$O$68,\">\"&$O$68,'Bio results'!K$22)","v":380},{"$f":"IF('Bio results'!L$22>$O$68,\">\"&$O$68,'Bio results'!L$22)","v":270},{"$f":"IF('Bio results'!M$22>$O$68,\">\"&$O$68,'Bio results'!M$22)","v":480}]
[null,null,"Årligt udbytte (kr/ha)",{"$f":"ROUND(('Eco results'!E81),-2)","v":2100},{"$f":"ROUND(('Eco results'!F81),-2)","v":4300},{"$f":"ROUND(('Eco results'!G81),-2)","v":5000},{"$f":"ROUND(('Eco results'!H81),-2)","v":1800},{"$f":"ROUND(('Eco results'!I81),-2)","v":1900},{"$f":"ROUND(('Eco results'!J81),-2)","v":4100},{"$f":"ROUND(('Eco results'!K81),-2)","v":4800},{"$f":"ROUND(('Eco results'!L81),-2)","v":1200},{"$f":"ROUND(('Eco results'!M81),-2)","v":1600},{"$f":"ROUND(('Eco results'!N81),-2)","v":3600}]
[]
[null,null,null,{"$f":"'Eco results'!E91","v":3000}]
[null,null,null,"kr/ha i gn.snit.",null,null,null,null,null,null,null,null,null,null,null,null,null,null,null,null,null,null,null,null,null,null,null,null,null,null,null,null,null,null,null,null,null,null,null,null,null,null,null,null,null,null,false]
[null,null,null,null,null,null,null,null,null,null,null,null,null,null,null,null,null,null,null,null,null,null,null,null,null,null,null,null,null,null,null,null,null,null,null,null,null,null,null,null,null,null,null,null,null,null,1]
[]
[null,null,null,null,null,null,null,null,null,null,null,null,null,null,{"$f":"IF(AND('Eco results'!Q5='Eco results'!Q25,'Eco results'!P5='Eco results'!P25),\"Aktiv\",\"\")","v":""},{"$f":"IF('3. Out Eco'!C10=0,\"\",'3. Out Eco'!C10)","v":""}]
[null,null,null,null,null,null,null,null,null,null,null,null,null,null,{"$f":"'3. Out Eco'!F10","v":"Ingen resistens, Danmark - "}]
[null,null,null,null,null,null,null,null,null,null,null,null,null,null,null,null,null,null,null,null,null,null,null,null,null,null,null,null,null,null,null,null,null,null,null,null,null,null,null,null,null,null,null,null,null,null,null," "]
[]
[]
[]
[]
[null,null,null,null,null,null,null,null,null,null,null,null,null,null,{"$f":"IF(AND('Eco results'!Q5='Eco results'!Q43,'Eco results'!P5='Eco results'!P43),\"Aktiv\",\"\")","v":""},{"$f":"IF('3. Out Eco'!C25=0,\"\",'3. Out Eco'!C25)","v":""}]
[null,null,null,null,null,null,null," ",null,null,null,null,null,null,{"$f":"'3. Out Eco'!F25","v":"Ingen resistens, Danmark - "}]
[null,null,null,null,null,null,null,null,null,null,null,null,null,null,null,null,null,null,null,null,null,null,null,null,null,null,null,null,null,null,null,null,null,null,null,null,null,null,null,null,null,null,null,2]
[null,null,null,null,null,null,null,null,null,null,null,null,null,null,null,"Auto"]
[null,null,null,null,null,null,null,null,null,null,null,null,null,null,null,null,null,null,null,null,null,null,null,null,null,null,null,null,null,null,null,null,null,null,null,null,null,null,null,null,null,null,null,{"$f":"P_2S","v":true}]
[]
[]
[]
[]
[]
[]
[null,null,"ERROR"]
[null,null,"Error handling","Yr 1","Yr 2","Yr 3","Yr 4","Yr 5","Yr 6","Yr 7","Yr 8","Yr 9","Yr 10",null,null," "]
[null,null,{"$f":"IF(OR(COUNTIF(D4:M4,D63)>9,COUNTIF(D4:M4,E63)>9,COUNTIF(D4:M4,F63)>9,COUNTIF(D4:M4,G63)>9,COUNTIF(D4:M4,H63)>9,COUNTIF(D4:M4,I63)>9,COUNTIF(D4:M4,J63)>9,COUNTIF(D4:M4,K63)>9,COUNTIF(D4:M4,L63)>9,COUNTIF(D4:M4,M63)>9),\"Err 1\",\"OK\")","v":"OK"},{"$f":" IF(OR(ISERROR(FIND(D5,$D$55,1))=TRUE,ISERROR(FIND(D12,$D$55,1))=TRUE),\"Err NS\",IF((ISERROR(FIND(D10,$D$57,1))=TRUE),\"Err E\", IF(OR(ISERROR(FIND(D11,$D$59,1))=TRUE,ISERROR(FIND(D17,$D$59,1))=TRUE),\"Err H\",\"OK\")))","v":"OK"},"OK","OK","OK","OK","OK","OK","OK","OK","OK"]
[null,null,null,4,"Error! Two consecutive years",null,null,"of canola or legumes",null,"(high disease risk)",null,"removed, to replace copy code from RIM Aus, change row nos"]
[null,null,null,"NS","Fejl! Et herbicid er ikke",null,null,"blevet opdateret",null,"i basale oplysninger",null,"Fejl! Et herbicid er ikke blevet opdateret i basale opslysninger"]
[null,null,null,"E","Fejl! Et herbicid er ikke",null,null,"blevet opdateret",null,"i basale oplysninger",null,"Fejl! Et herbicid er ikke blevet opdateret i basale opslysninger"]
[null,null,"Error messages","H","Fejl! Et herbicid er ikke",null,null,"blevet opdateret",null,"i basale oplysninger",null,"Fejl! Et herbicid er ikke blevet opdateret i basale opslysninger"]
[null,null,null,3,"Error! Too many Spring",null,null,"and/or Harvest options",null," ",null,"removed"]
[null,null,null,1,"Error! Please set a rotation",null,null,"which reflects your",null,"long-term yield averages",null,"removed"]
[null,null,null,{"$f":"CONCATENATE(O71,P72,P73,P74,P75,P76,P77,P78)","v":"Glyphosate rateIngen540Tidlig540Medium540Sen1080Tidlig1080Medium1080Sen"}]
[null,null,null,{"$f":"IF(OR(ISERROR(FIND(D5,$D$55,1))=TRUE,ISERROR(FIND(D12,$D$55,1))=TRUE),\"Err NS\",\"Found it\")","v":"Found it"},{"$f":"IF(OR(ISERROR(FIND(E5,$D$55,1))=TRUE,ISERROR(FIND(E12,$D$55,1))=TRUE),\"Err NS\",\"Found it\")","v":"Found it"},"Found it","Found it","Found it","Found it","Found it","Found it","Found it","Found it"]
[null,null,"Formulas for Err NS, E and H",{"$f":"CONCATENATE('2.Strategy'!P83,'2.Strategy'!P84)","v":"Boxer 1 lBoxer 2 l"}]
[null,null,null,{"$f":"IF((ISERROR(FIND(D10,$D$57,1))=TRUE),\"Err E\",\"Found it\")","v":"Found it"},{"$f":"IF((ISERROR(FIND(E10,$D$57,1))=TRUE),\"Err E\",\"Found it\")","v":"Found it"},{"$f":"IF((ISERROR(FIND(F10,$D$57,1))=TRUE),\"Err E\",\"Found it\")","v":"Found it"},{"$f":"IF((ISERROR(FIND(G8,$D$57,1))=TRUE),\"Err E\",\"Found it\")","v":"Err E"},{"$f":"IF((ISERROR(FIND(H10,$D$57,1))=TRUE),\"Err E\",\"Found it\")","v":"Found it"},{"$f":"IF((ISERROR(FIND(I10,$D$57,1))=TRUE),\"Err E\",\"Found it\")","v":"Found it"},{"$f":"IF((ISERROR(FIND(J10,$D$57,1))=TRUE),\"Err E\",\"Found it\")","v":"Found it"},{"$f":"IF((ISERROR(FIND(K8,$D$57,1))=TRUE),\"Err E\",\"Found it\")","v":"Err E"},{"$f":"IF((ISERROR(FIND(L10,$D$57,1))=TRUE),\"Err E\",\"Found it\")","v":"Found it"},{"$f":"IF((ISERROR(FIND(M10,$D$57,1))=TRUE),\"Err E\",\"Found it\")","v":"Found it"}]
[null,null,null,{"$f":"CONCATENATE('2.Strategy'!P89,'2.Strategy'!P90,'2.Strategy'!P91,'2.Strategy'!P92,'2.Strategy'!P93,'2.Strategy'!P94,'2.Strategy'!P95)","v":"TopikAtlantis ODHussar Plus ODBroadwayCossack ODFocus UltraKerb"}]
[null,null,null,{"$f":"IF(OR(ISERROR(FIND(D11,$D$59,1))=TRUE,ISERROR(FIND(D17,$D$59,1))=TRUE),\"Err H\",\"Found it\")","v":"Found it"},"Found it","Found it","Found it","Found it","Found it","Found it","Found it","Found it","Found it"]
[]
[null,null,"VARIOUS"]
[null,null,"Choice of enterprises","V.hvede","V.byg","V.rug","Raps","Vårbyg","Havre","Vårhvede","Bælgsæd","Græs","Græs/kløver"]
[null,null,"Enterprise+year for graphs",{"$f":"VLOOKUP(Calcs!E242,Calcs!$C254:$K352,2)&\"  1\"","v":"Vårbyg  1"},{"$f":"VLOOKUP(Calcs!F242,Calcs!$C254:$K352,2)&\"  2\"","v":"Raps  2"},{"$f":"VLOOKUP(Calcs!G242,Calcs!$C254:$K352,2)&\"  3\"","v":"V.hvede  3"},{"$f":"VLOOKUP(Calcs!H242,Calcs!$C254:$K352,2)&\"  4\"","v":"V.hvede  4"},{"$f":"VLOOKUP(Calcs!I242,Calcs!$C254:$K352,2)&\"  5\"","v":"Vårbyg  5"},{"$f":"VLOOKUP(Calcs!J242,Calcs!$C254:$K352,2)&\"  6\"","v":"Raps  6"},{"$f":"VLOOKUP(Calcs!K242,Calcs!$C254:$K352,2)&\"  7\"","v":"V.hvede  7"},{"$f":"VLOOKUP(Calcs!L242,Calcs!$C254:$K352,2)&\"  8\"","v":"V.hvede  8"},{"$f":"VLOOKUP(Calcs!M242,Calcs!$C254:$K352,2)&\"  9\"","v":"Vårbyg  9"},{"$f":"VLOOKUP(Calcs!N242,Calcs!$C254:$K352,2)&\" 10\"","v":"Raps 10"}]
[null,null,"Season",{"$f":"IF(OR(D4=$D$63,D4=$E$63,D4=$F$63,D4=$G$63),\"winter\",IF(OR(D4=$L$63,D4=$M$63), \"grass\",\"spring\"))","v":"spring"},{"$f":"IF(OR(E4=$D$63,E4=$E$63,E4=$F$63,E4=$G$63),\"winter\",IF(OR(E4=$L$63,E4=$M$63), \"grass\",\"spring\"))","v":"winter"},"winter","winter","spring","winter","winter","winter","spring","winter",null,"Critical densities"]
[null,null,null,null,null,null,null,null,null,null,null,null,null,null,"for warnings"]
[null,null,"Ryegrass setting seed, Nov. (per m2)",{"$f":"'Bio results'!D9","v":3.2281380000000013},{"$f":"'Bio results'!E9","v":2.6336859499999989},{"$f":"'Bio results'!F9","v":1.8462774525000007},{"$f":"'Bio results'!G9","v":10.159331092312499},{"$f":"'Bio results'!H9","v":6.1334622000000012},{"$f":"'Bio results'!I9","v":5.2673718999999979},{"$f":"'Bio results'!J9","v":3.6925549050000015},{"$f":"'Bio results'!K9","v":20.318662184624998},{"$f":"'Bio results'!L9","v":12.266924400000002},{"$f":"'Bio results'!M9","v":10.158502949999995},null,300]
[null,null,"Ryegrass seeds in soil next March. (per m2)",{"$f":"'Bio results'!D$22","v":70},{"$f":"'Bio results'!E$22","v":130},{"$f":"'Bio results'!F$22","v":180},{"$f":"'Bio results'!G$22","v":190},{"$f":"'Bio results'!H$22","v":140},{"$f":"'Bio results'!I$22","v":260},{"$f":"'Bio results'!J$22","v":360},{"$f":"'Bio results'!K$22","v":380},{"$f":"'Bio results'!L$22","v":270},{"$f":"'Bio results'!M$22","v":480},null,1000]
[]
[null,null,"CATEGORIES"]
[null,null,"Glyphosat timing",null,null,null,null,null,null,null,null,null,null,null,"Glyphosate rate","Glyphosat & timing"]
[null,null,null,"Tidlig",null,null,null,null,null,null,null,null,null,null,"Ingen","Ingen"]
[null,null,null,"Medium",null,null,null,null,null,null,null,null,null,null,{"$f":"LEFT('1.Profile'!C16,12)","v":"540"},{"$f":"CONCATENATE(O73,D72)","v":"540Tidlig"}]
[null,null,null,"Sen",null,null,null,null,null,null,null,null,null,null,{"$f":"LEFT('1.Profile'!C17,12)","v":"1080"},{"$f":"CONCATENATE(O73,D73)","v":"540Medium"}]
[null,null,null,null,null,null,null,null,null,null,null,null,null,null,null,{"$f":"CONCATENATE(O73,D74)","v":"540Sen"}]
[null,null,"Jordbearbejdning","Pløjet",null,null,null,null,null,null,null,null,null,null,null,{"$f":"CONCATENATE(O74,D72)","v":"1080Tidlig"}]
[null,null,null,"Reduceret",null,null,null,null,null,null,null,null,null,null,null,{"$f":"CONCATENATE(O74,D73)","v":"1080Medium"}]
[null,null,null,"No-till",null,null,null,null,null,null,null,null,null,null,null,{"$f":"CONCATENATE(O74,D74)","v":"1080Sen"}]
[]
[null,null,"Såtid","Tidlig"]
[null,null,null,"Medium",null,null,null,null,null,null,null,null,null,null,null,"Herbicid før fremspiring"]
[null,null,null,"Sen"]
[null,null,null,null,null,null,null,null,null,null,null,null,null,null,null,{"$f":"IF(LEFT('1.Profile'!C19,12)<>\"\",LEFT('1.Profile'!C19,12),\"\")","v":"Boxer 1 l"}]
[null,null,"Udsædsmængde","Standard",null,null,null,null,null,null,null,null,null,null,null,{"$f":"IF(LEFT('1.Profile'!C20,12)<>\"\",LEFT('1.Profile'!C20,12),\"\")","v":"Boxer 2 l"}]
[null,null,null,"Medium"]
[null,null,null,"Høj"]
[null,null,null,null,null,null,null,null,null,null,null,null,null,null,null,"Herbicid efter fremspiring"]
[null,null,"Jordbearbejdning","Behovsbaseret"]
[null,null,null,"Pløjet",null,null,null,null,null,null,null,null,null,null,null,{"$f":"LEFT('1.Profile'!C22,17)","v":"Topik"}]
[null,null,null,"Reduceret",null,null,null,null,null,null,null,null,null,null,null,{"$f":"LEFT('1.Profile'!C23,17)","v":"Atlantis OD"}]
[null,null,null,"No-till",null,null,null,null,null,null,null,null,null,null,null,{"$f":"LEFT('1.Profile'!C24,17)","v":"Hussar Plus OD"}]
[null,null,null,null,null,null,null,null,null,null,null,null,null,null,null,{"$f":"LEFT('1.Profile'!C25,17)","v":"Broadway"}]
[null,null,"Såtid","Tidlig",null,null,null,null,null,null,null,null,null,null,null,{"$f":"LEFT('1.Profile'!C26,17)","v":"Cossack OD"}]
[null,null,null,"Medium",null,null,null,null,null,null,null,null,null,null,null,{"$f":"LEFT('1.Profile'!C27,17)","v":"Focus Ultra"}]
[null,null,null,"Sen",null,null,null,null,null,null,null,null,null,null,null,{"$f":"LEFT('1.Profile'!C28,17)","v":"Kerb"}]
[]
[null,null,"Udsædsmængde","Standard",null,null,null,null,null,null,null,null,null,null,null,"Mellem/Efterafgrøder"]
[null,null,null,"Medium"]
[null,null,null,"Høj",null,null,null,null,null,null,null,null,null,null,null,"Ja"]
[null,null,null,null,null,null,null,null,null,null,null,null,null,null,null,"Nej"]
[null,null,"Yderligere muligheder",null,null,null,null,null,null,null,null,null,null,null,null,{"$f":"LEFT('1.Profile'!D45,12)","v":""}]
[null,null,null,"Nedvisning"]
[null,null,null,"Destruktion af afgrøde"]
[null,null,null,{"$f":"LEFT('1.Profile'!C32,17)","v":"Mulighed 1"}]
[null,null,null,{"$f":"LEFT('1.Profile'!C33,17)","v":"Mulighed 2"}]
[]
[null,null,"Høst","Korn + balle"]
[null,null,null,"Korn+ snit"]
[null,null,null,"Raps"]
[null,null,null,"Raps + skår"]
[null,null,null,"Bælgsæd"]
[null,null,null,"Ingen/græs"]
[]
[]
[]
[]
[]
[]
[]
[]
[]
[]
[null,null,null,null,null,null,null,null,null,null,null,null,null,null,null,null,null,"Note: careful with deleting/inserting lines, could stuff up the saving/loading macros"]
[]
[]
[]
[null,null,"Strategy 0","Vårbyg","Raps","V.hvede","V.hvede","Vårbyg","Raps","V.hvede","V.hvede","Vårbyg","Raps"]
[null,null,"Default",null,"Ingen","Ingen","Ingen",null,"Ingen","Ingen","Ingen",null,"Ingen"]
[null,null,null,null,"Pløjet","Pløjet","Pløjet",null,"Pløjet","Pløjet","Pløjet",null,"Pløjet"]
[null,null,null,null,"Tidlig","Sen","Tidlig",null,"Tidlig","Sen","Tidlig",null,"Tidlig"]
[null,null,null,null,"Standard","Høj","Standard",null,"Standard","Høj","Standard",null,"Standard"]
[null,null,null,null,"Nej","Nej","Nej",null,"Nej","Nej","Nej",null,"Nej"]
[null,null,null,null,null,"Boxer 1 l","Boxer 1 l",null,null,"Boxer 1 l","Boxer 1 l"]
[null,null,null,null,"Kerb",null,"Topik",null,"Kerb",null,"Topik",null,"Kerb"]
[null,null,null,"Ingen",null,null,null,"Ingen",null,null,null,"Ingen"]
[null,null,null,"Pløjet",null,null,null,"Pløjet",null,null,null,"Pløjet"]
[null,null,null,"Tidlig",null,null,null,"Tidlig",null,null,null,"Tidlig"]
[null,null,null,"Standard",null,null,null,"Standard",null,null,null,"Standard"]
[null,null,null,"Nej",null,null,null,"Nej",null,null,null,"Nej"]
[null,null,null,"Hussar Plus OD",null,"Hussar Plus OD",null,"Hussar Plus OD",null,"Hussar Plus OD",null,"Hussar Plus OD"]
[]
[null,null,null,"Korn+ snit","Raps","Korn+ snit","Korn+ snit","Korn+ snit","Raps","Korn+ snit","Korn+ snit","Korn+ snit","Raps"]
[]
[null,null,"Strategy 1","V.hvede","V.hvede","V.hvede","V.hvede","V.hvede","V.hvede","V.hvede","V.hvede","V.hvede","V.hvede"]
[]
[]
[]
[]
[]
[]
[]
[]
[]
[]
[]
[]
[]
[]
[]
[]
[null,null,"Strategy 2","Vårbyg","Raps","V.hvede","V.hvede","Vårbyg","Raps","V.hvede","V.hvede","Vårbyg","Raps"]
[]
[]
[]
[]
[]
[]
[]
[]
[]
[]
[]
[]
[]
[]
[]
[]
[null,null,"Strategy 3","V.hvede","V.hvede","V.hvede","V.hvede","V.hvede","V.hvede","V.hvede","V.hvede","V.hvede","V.hvede"]
[]
[]
[]
[]
[]
[]
[]
[]
[]
[]
[]
[]
[]
[]
[]
[]
[null,null,"Strategy 4","V.hvede","V.hvede","V.hvede","V.hvede","V.hvede","V.hvede","V.hvede","V.hvede","V.hvede","V.hvede"]
[]
[]
[]
[]
[]
[]
[]
[]
[]
[]
[]
[]
[]
[]
[]
[]
[null,null,"Strategy 5","V.hvede","V.hvede","V.hvede","V.hvede","V.hvede","V.hvede","V.hvede","V.hvede","V.hvede","V.hvede"]
[]
[]
[]
[]
[]
[]
[]
[]
[]
[]
[]
[]
[]
[]
[]
[]
[null,null,"Strategy 6","V.hvede","V.hvede","V.hvede","V.hvede","V.hvede","V.hvede","V.hvede","V.hvede","V.hvede","V.hvede"]

{"sheet":"Calcs","index":6,"n_rows":396,"n_cols":33,"rows_kept":396,"cut":false,"hidden":false,"merged":[[39,13,39,14],[40,13,40,14]]}
[null,"Year",{"$f":"'2.Strategy'!D64","v":"Vårbyg  1"},{"$f":"'2.Strategy'!E64","v":"Raps  2"},{"$f":"'2.Strategy'!F64","v":"V.hvede  3"},{"$f":"'2.Strategy'!G64","v":"V.hvede  4"},{"$f":"'2.Strategy'!H64","v":"Vårbyg  5"},{"$f":"'2.Strategy'!I64","v":"Raps  6"},{"$f":"'2.Strategy'!J64","v":"V.hvede  7"},{"$f":"'2.Strategy'!K64","v":"V.hvede  8"},{"$f":"'2.Strategy'!L64","v":"Vårbyg  9"},{"$f":"'2.Strategy'!M64","v":"Raps 10"}]
[]
[null,"De følgende tabeller er længere end de oprindelige",null,null,null,null,null,null,null,null,null,null,null,"SUMMARY - 'CALC' PAGE",null,null,null,null,null,null,"SUMMARY - OTHER PAGES"]
[null,"Table 1. Selected options & enterprises","First table behind the chosen strategy: displays the enterprise code for each option. Their labels are",null,null,null,null,null,null,null,null,null,null,null,{"$f":"B4","v":"Table 1. Selected options & enterprises"}]
[null,null,"sourced from under the strategy table, feeding into the drop-down lists and into the labels of this table.",null,null,null,null,null,null,null,null,null,null,null,{"$f":"N32","v":"Table 1a. Non-selective herbicides counts"},null,null,null,null,null,"DEV",null,"Tutorial templates"]
[null,null,"1=w wheat, 2=w barley, 3=w rye, 4=w oilseed, 5=s barley, 6=s oat, 7=s wheat, 8=legumes, 9=grass, 10=grass/clover",null,null,null,null,null,null,null,null,null,null,null,{"$f":"N44","v":"Table 1b. Herbicides type counts"}]
[1,"Glyphosate Early",{"$f":"IF(AND('2.Strategy'!D$65=\"winter\",AND(OR('2.Strategy'!D$5='2.Strategy'!$P$73,'2.Strategy'!D$5='2.Strategy'!$P$76))),E$242,\"\")","v":""},{"$f":"IF(AND('2.Strategy'!E$65=\"winter\",AND(OR('2.Strategy'!E$5='2.Strategy'!$P$73,'2.Strategy'!E$5='2.Strategy'!$P$76))),F$242,\"\")","v":""},{"$f":"IF(AND('2.Strategy'!F$65=\"winter\",AND(OR('2.Strategy'!F$5='2.Strategy'!$P$73,'2.Strategy'!F$5='2.Strategy'!$P$76))),G$242,\"\")","v":""},{"$f":"IF(AND('2.Strategy'!G$65=\"winter\",AND(OR('2.Strategy'!G$5='2.Strategy'!$P$73,'2.Strategy'!G$5='2.Strategy'!$P$76))),H$242,\"\")","v":""},{"$f":"IF(AND('2.Strategy'!H$65=\"winter\",AND(OR('2.Strategy'!H$5='2.Strategy'!$P$73,'2.Strategy'!H$5='2.Strategy'!$P$76))),I$242,\"\")","v":""},{"$f":"IF(AND('2.Strategy'!I$65=\"winter\",AND(OR('2.Strategy'!I$5='2.Strategy'!$P$73,'2.Strategy'!I$5='2.Strategy'!$P$76))),J$242,\"\")","v":""},{"$f":"IF(AND('2.Strategy'!J$65=\"winter\",AND(OR('2.Strategy'!J$5='2.Strategy'!$P$73,'2.Strategy'!J$5='2.Strategy'!$P$76))),K$242,\"\")","v":""},{"$f":"IF(AND('2.Strategy'!K$65=\"winter\",AND(OR('2.Strategy'!K$5='2.Strategy'!$P$73,'2.Strategy'!K$5='2.Strategy'!$P$76))),L$242,\"\")","v":""},{"$f":"IF(AND('2.Strategy'!L$65=\"winter\",AND(OR('2.Strategy'!L$5='2.Strategy'!$P$73,'2.Strategy'!L$5='2.Strategy'!$P$76))),M$242,\"\")","v":""},{"$f":"IF(AND('2.Strategy'!M$65=\"winter\",AND(OR('2.Strategy'!M$5='2.Strategy'!$P$73,'2.Strategy'!M$5='2.Strategy'!$P$76))),N$242,\"\")","v":""}]
[2,"Glyphosate Medium",{"$f":"IF(AND('2.Strategy'!D$65=\"winter\",AND(OR('2.Strategy'!D$5='2.Strategy'!$P$74,'2.Strategy'!D$5='2.Strategy'!$P$77))),E$242,\"\")","v":""},{"$f":"IF(AND('2.Strategy'!E$65=\"winter\",AND(OR('2.Strategy'!E$5='2.Strategy'!$P$74,'2.Strategy'!E$5='2.Strategy'!$P$77))),F$242,\"\")","v":""},{"$f":"IF(AND('2.Strategy'!F$65=\"winter\",AND(OR('2.Strategy'!F$5='2.Strategy'!$P$74,'2.Strategy'!F$5='2.Strategy'!$P$77))),G$242,\"\")","v":""},{"$f":"IF(AND('2.Strategy'!G$65=\"winter\",AND(OR('2.Strategy'!G$5='2.Strategy'!$P$74,'2.Strategy'!G$5='2.Strategy'!$P$77))),H$242,\"\")","v":""},{"$f":"IF(AND('2.Strategy'!H$65=\"winter\",AND(OR('2.Strategy'!H$5='2.Strategy'!$P$74,'2.Strategy'!H$5='2.Strategy'!$P$77))),I$242,\"\")","v":""},{"$f":"IF(AND('2.Strategy'!I$65=\"winter\",AND(OR('2.Strategy'!I$5='2.Strategy'!$P$74,'2.Strategy'!I$5='2.Strategy'!$P$77))),J$242,\"\")","v":""},{"$f":"IF(AND('2.Strategy'!J$65=\"winter\",AND(OR('2.Strategy'!J$5='2.Strategy'!$P$74,'2.Strategy'!J$5='2.Strategy'!$P$77))),K$242,\"\")","v":""},{"$f":"IF(AND('2.Strategy'!K$65=\"winter\",AND(OR('2.Strategy'!K$5='2.Strategy'!$P$74,'2.Strategy'!K$5='2.Strategy'!$P$77))),L$242,\"\")","v":""},{"$f":"IF(AND('2.Strategy'!L$65=\"winter\",AND(OR('2.Strategy'!L$5='2.Strategy'!$P$74,'2.Strategy'!L$5='2.Strategy'!$P$77))),M$242,\"\")","v":""},{"$f":"IF(AND('2.Strategy'!M$65=\"winter\",AND(OR('2.Strategy'!M$5='2.Strategy'!$P$74,'2.Strategy'!M$5='2.Strategy'!$P$77))),N$242,\"\")","v":""},null,"Go to",{"$f":"B70","v":"Table 2. Selected RG control (%)"},null,null,null,null,null,"PRICES"]
[3,"Glyphosate Late",{"$f":"IF(AND('2.Strategy'!D$65=\"winter\",AND(OR('2.Strategy'!D$5='2.Strategy'!$P$75,'2.Strategy'!D$5='2.Strategy'!$P$78))),E$242,\"\")","v":""},{"$f":"IF(AND('2.Strategy'!E$65=\"winter\",AND(OR('2.Strategy'!E$5='2.Strategy'!$P$75,'2.Strategy'!E$5='2.Strategy'!$P$78))),F$242,\"\")","v":""},{"$f":"IF(AND('2.Strategy'!F$65=\"winter\",AND(OR('2.Strategy'!F$5='2.Strategy'!$P$75,'2.Strategy'!F$5='2.Strategy'!$P$78))),G$242,\"\")","v":""},{"$f":"IF(AND('2.Strategy'!G$65=\"winter\",AND(OR('2.Strategy'!G$5='2.Strategy'!$P$75,'2.Strategy'!G$5='2.Strategy'!$P$78))),H$242,\"\")","v":""},{"$f":"IF(AND('2.Strategy'!H$65=\"winter\",AND(OR('2.Strategy'!H$5='2.Strategy'!$P$75,'2.Strategy'!H$5='2.Strategy'!$P$78))),I$242,\"\")","v":""},{"$f":"IF(AND('2.Strategy'!I$65=\"winter\",AND(OR('2.Strategy'!I$5='2.Strategy'!$P$75,'2.Strategy'!I$5='2.Strategy'!$P$78))),J$242,\"\")","v":""},{"$f":"IF(AND('2.Strategy'!J$65=\"winter\",AND(OR('2.Strategy'!J$5='2.Strategy'!$P$75,'2.Strategy'!J$5='2.Strategy'!$P$78))),K$242,\"\")","v":""},{"$f":"IF(AND('2.Strategy'!K$65=\"winter\",AND(OR('2.Strategy'!K$5='2.Strategy'!$P$75,'2.Strategy'!K$5='2.Strategy'!$P$78))),L$242,\"\")","v":""},{"$f":"IF(AND('2.Strategy'!L$65=\"winter\",AND(OR('2.Strategy'!L$5='2.Strategy'!$P$75,'2.Strategy'!L$5='2.Strategy'!$P$78))),M$242,\"\")","v":""},{"$f":"IF(AND('2.Strategy'!M$65=\"winter\",AND(OR('2.Strategy'!M$5='2.Strategy'!$P$75,'2.Strategy'!M$5='2.Strategy'!$P$78))),N$242,\"\")","v":""},null,null,{"$f":"N69","v":"Table 2a. Ryegrass control (%) "},null,null,null,null,null,null,"Establishment costs - Machinery"]
[4,"None",{"$f":"IF(AND('2.Strategy'!D$65=\"winter\",'2.Strategy'!D$5='2.Strategy'!$P$72),E$242,\"\")","v":""},{"$f":"IF(AND('2.Strategy'!E$65=\"winter\",'2.Strategy'!E$5='2.Strategy'!$P$72),F$242,\"\")","v":4},{"$f":"IF(AND('2.Strategy'!F$65=\"winter\",'2.Strategy'!F$5='2.Strategy'!$P$72),G$242,\"\")","v":1},{"$f":"IF(AND('2.Strategy'!G$65=\"winter\",'2.Strategy'!G$5='2.Strategy'!$P$72),H$242,\"\")","v":1},{"$f":"IF(AND('2.Strategy'!H$65=\"winter\",'2.Strategy'!H$5='2.Strategy'!$P$72),I$242,\"\")","v":""},{"$f":"IF(AND('2.Strategy'!I$65=\"winter\",'2.Strategy'!I$5='2.Strategy'!$P$72),J$242,\"\")","v":4},{"$f":"IF(AND('2.Strategy'!J$65=\"winter\",'2.Strategy'!J$5='2.Strategy'!$P$72),K$242,\"\")","v":1},{"$f":"IF(AND('2.Strategy'!K$65=\"winter\",'2.Strategy'!K$5='2.Strategy'!$P$72),L$242,\"\")","v":1},{"$f":"IF(AND('2.Strategy'!L$65=\"winter\",'2.Strategy'!L$5='2.Strategy'!$P$72),M$242,\"\")","v":""},{"$f":"IF(AND('2.Strategy'!M$65=\"winter\",'2.Strategy'!M$5='2.Strategy'!$P$72),N$242,\"\")","v":4},null,null,null,null,null,null,null,null,null,"Establishment costs - Crops"]
[5,{"$f":"\"Glyphosate rate: \"&'1.Profile'!C16","v":"Glyphosate rate: 540"},{"$f":"IF(AND('2.Strategy'!D$65=\"winter\",AND(OR('2.Strategy'!D$5='2.Strategy'!$P$73,'2.Strategy'!D$5='2.Strategy'!$P$74,'2.Strategy'!D$5='2.Strategy'!$P$75))),E$242,\"\")","v":""},{"$f":"IF(AND('2.Strategy'!E$65=\"winter\",AND(OR('2.Strategy'!E$5='2.Strategy'!$P$73,'2.Strategy'!E$5='2.Strategy'!$P$74,'2.Strategy'!E$5='2.Strategy'!$P$75))),F$242,\"\")","v":""},{"$f":"IF(AND('2.Strategy'!F$65=\"winter\",AND(OR('2.Strategy'!F$5='2.Strategy'!$P$73,'2.Strategy'!F$5='2.Strategy'!$P$74,'2.Strategy'!F$5='2.Strategy'!$P$75))),G$242,\"\")","v":""},{"$f":"IF(AND('2.Strategy'!G$65=\"winter\",AND(OR('2.Strategy'!G$5='2.Strategy'!$P$73,'2.Strategy'!G$5='2.Strategy'!$P$74,'2.Strategy'!G$5='2.Strategy'!$P$75))),H$242,\"\")","v":""},{"$f":"IF(AND('2.Strategy'!H$65=\"winter\",AND(OR('2.Strategy'!H$5='2.Strategy'!$P$73,'2.Strategy'!H$5='2.Strategy'!$P$74,'2.Strategy'!H$5='2.Strategy'!$P$75))),I$242,\"\")","v":""},{"$f":"IF(AND('2.Strategy'!I$65=\"winter\",AND(OR('2.Strategy'!I$5='2.Strategy'!$P$73,'2.Strategy'!I$5='2.Strategy'!$P$74,'2.Strategy'!I$5='2.Strategy'!$P$75))),J$242,\"\")","v":""},{"$f":"IF(AND('2.Strategy'!J$65=\"winter\",AND(OR('2.Strategy'!J$5='2.Strategy'!$P$73,'2.Strategy'!J$5='2.Strategy'!$P$74,'2.Strategy'!J$5='2.Strategy'!$P$75))),K$242,\"\")","v":""},{"$f":"IF(AND('2.Strategy'!K$65=\"winter\",AND(OR('2.Strategy'!K$5='2.Strategy'!$P$73,'2.Strategy'!K$5='2.Strategy'!$P$74,'2.Strategy'!K$5='2.Strategy'!$P$75))),L$242,\"\")","v":""},{"$f":"IF(AND('2.Strategy'!L$65=\"winter\",AND(OR('2.Strategy'!L$5='2.Strategy'!$P$73,'2.Strategy'!L$5='2.Strategy'!$P$74,'2.Strategy'!L$5='2.Strategy'!$P$75))),M$242,\"\")","v":""},{"$f":"IF(AND('2.Strategy'!M$65=\"winter\",AND(OR('2.Strategy'!M$5='2.Strategy'!$P$73,'2.Strategy'!M$5='2.Strategy'!$P$74,'2.Strategy'!M$5='2.Strategy'!$P$75))),N$242,\"\")","v":""},null,"Go to",{"$f":"B137","v":"Table 3. Selected costs (kr/ha)"},null,null,null,null,null,null,"Establishment costs - Pastures"]
[6,{"$f":"\"Glyphosate rate: \"&'1.Profile'!C17","v":"Glyphosate rate: 1080"},{"$f":"IF(AND('2.Strategy'!D$65=\"winter\",AND(OR('2.Strategy'!D$5='2.Strategy'!$P$76,'2.Strategy'!D$5='2.Strategy'!$P$77,'2.Strategy'!D$5='2.Strategy'!$P$78))),E$242,\"\")","v":""},{"$f":"IF(AND('2.Strategy'!E$65=\"winter\",AND(OR('2.Strategy'!E$5='2.Strategy'!$P$76,'2.Strategy'!E$5='2.Strategy'!$P$77,'2.Strategy'!E$5='2.Strategy'!$P$78))),F$242,\"\")","v":""},{"$f":"IF(AND('2.Strategy'!F$65=\"winter\",AND(OR('2.Strategy'!F$5='2.Strategy'!$P$76,'2.Strategy'!F$5='2.Strategy'!$P$77,'2.Strategy'!F$5='2.Strategy'!$P$78))),G$242,\"\")","v":""},{"$f":"IF(AND('2.Strategy'!G$65=\"winter\",AND(OR('2.Strategy'!G$5='2.Strategy'!$P$76,'2.Strategy'!G$5='2.Strategy'!$P$77,'2.Strategy'!G$5='2.Strategy'!$P$78))),H$242,\"\")","v":""},{"$f":"IF(AND('2.Strategy'!H$65=\"winter\",AND(OR('2.Strategy'!H$5='2.Strategy'!$P$76,'2.Strategy'!H$5='2.Strategy'!$P$77,'2.Strategy'!H$5='2.Strategy'!$P$78))),I$242,\"\")","v":""},{"$f":"IF(AND('2.Strategy'!I$65=\"winter\",AND(OR('2.Strategy'!I$5='2.Strategy'!$P$76,'2.Strategy'!I$5='2.Strategy'!$P$77,'2.Strategy'!I$5='2.Strategy'!$P$78))),J$242,\"\")","v":""},{"$f":"IF(AND('2.Strategy'!J$65=\"winter\",AND(OR('2.Strategy'!J$5='2.Strategy'!$P$76,'2.Strategy'!J$5='2.Strategy'!$P$77,'2.Strategy'!J$5='2.Strategy'!$P$78))),K$242,\"\")","v":""},{"$f":"IF(AND('2.Strategy'!K$65=\"winter\",AND(OR('2.Strategy'!K$5='2.Strategy'!$P$76,'2.Strategy'!K$5='2.Strategy'!$P$77,'2.Strategy'!K$5='2.Strategy'!$P$78))),L$242,\"\")","v":""},{"$f":"IF(AND('2.Strategy'!L$65=\"winter\",AND(OR('2.Strategy'!L$5='2.Strategy'!$P$76,'2.Strategy'!L$5='2.Strategy'!$P$77,'2.Strategy'!L$5='2.Strategy'!$P$78))),M$242,\"\")","v":""},{"$f":"IF(AND('2.Strategy'!M$65=\"winter\",AND(OR('2.Strategy'!M$5='2.Strategy'!$P$76,'2.Strategy'!M$5='2.Strategy'!$P$77,'2.Strategy'!M$5='2.Strategy'!$P$78))),N$242,\"\")","v":""},null,null,null,null,null,null,null,null,null,"Financial values: quality, inflation, tax, etc."]
[7,"Plough",{"$f":"IF('2.Strategy'!D$6='2.Strategy'!$D$76,E$242,\"\")","v":""},{"$f":"IF('2.Strategy'!E$6='2.Strategy'!$D$76,F$242,\"\")","v":4},{"$f":"IF('2.Strategy'!F$6='2.Strategy'!$D$76,G$242,\"\")","v":1},{"$f":"IF('2.Strategy'!G$6='2.Strategy'!$D$76,H$242,\"\")","v":1},{"$f":"IF('2.Strategy'!H$6='2.Strategy'!$D$76,I$242,\"\")","v":""},{"$f":"IF('2.Strategy'!I$6='2.Strategy'!$D$76,J$242,\"\")","v":4},{"$f":"IF('2.Strategy'!J$6='2.Strategy'!$D$76,K$242,\"\")","v":1},{"$f":"IF('2.Strategy'!K$6='2.Strategy'!$D$76,L$242,\"\")","v":1},{"$f":"IF('2.Strategy'!L$6='2.Strategy'!$D$76,M$242,\"\")","v":""},{"$f":"IF('2.Strategy'!M$6='2.Strategy'!$D$76,N$242,\"\")","v":4},null,"Go to",{"$f":"B212","v":"Table 4.  RG germination"}]
[8,"Reduced tillage",{"$f":"IF('2.Strategy'!D$6='2.Strategy'!$D$77,E$242,\"\")","v":""},{"$f":"IF('2.Strategy'!E$6='2.Strategy'!$D$77,F$242,\"\")","v":""},{"$f":"IF('2.Strategy'!F$6='2.Strategy'!$D$77,G$242,\"\")","v":""},{"$f":"IF('2.Strategy'!G$6='2.Strategy'!$D$77,H$242,\"\")","v":""},{"$f":"IF('2.Strategy'!H$6='2.Strategy'!$D$77,I$242,\"\")","v":""},{"$f":"IF('2.Strategy'!I$6='2.Strategy'!$D$77,J$242,\"\")","v":""},{"$f":"IF('2.Strategy'!J$6='2.Strategy'!$D$77,K$242,\"\")","v":""},{"$f":"IF('2.Strategy'!K$6='2.Strategy'!$D$77,L$242,\"\")","v":""},{"$f":"IF('2.Strategy'!L$6='2.Strategy'!$D$77,M$242,\"\")","v":""},{"$f":"IF('2.Strategy'!M$6='2.Strategy'!$D$77,N$242,\"\")","v":""},null,null,{"$f":"B221","v":"Table 5.  RG control per period"},null,null,null,null,null,"OPTIONS"]
[9,"No-till",{"$f":"IF('2.Strategy'!D$6='2.Strategy'!$D$78,E$242,\"\")","v":""},{"$f":"IF('2.Strategy'!E$6='2.Strategy'!$D$78,F$242,\"\")","v":""},{"$f":"IF('2.Strategy'!F$6='2.Strategy'!$D$78,G$242,\"\")","v":""},{"$f":"IF('2.Strategy'!G$6='2.Strategy'!$D$78,H$242,\"\")","v":""},{"$f":"IF('2.Strategy'!H$6='2.Strategy'!$D$78,I$242,\"\")","v":""},{"$f":"IF('2.Strategy'!I$6='2.Strategy'!$D$78,J$242,\"\")","v":""},{"$f":"IF('2.Strategy'!J$6='2.Strategy'!$D$78,K$242,\"\")","v":""},{"$f":"IF('2.Strategy'!K$6='2.Strategy'!$D$78,L$242,\"\")","v":""},{"$f":"IF('2.Strategy'!L$6='2.Strategy'!$D$78,M$242,\"\")","v":""},{"$f":"IF('2.Strategy'!M$6='2.Strategy'!$D$78,N$242,\"\")","v":""},null,null,{"$f":"B230","v":"Table 6. Healthy equivalent weeds/m2 "},null,null,null,null,null,null,"Crops: variables, yield benefits, penalties"]
[10,"Early sowing",{"$f":"IF('2.Strategy'!D$7='2.Strategy'!$D$80,E$242,\"\")","v":""},{"$f":"IF('2.Strategy'!E$7='2.Strategy'!$D$80,F$242,\"\")","v":4},{"$f":"IF('2.Strategy'!F$7='2.Strategy'!$D$80,G$242,\"\")","v":""},{"$f":"IF('2.Strategy'!G$7='2.Strategy'!$D$80,H$242,\"\")","v":1},{"$f":"IF('2.Strategy'!H$7='2.Strategy'!$D$80,I$242,\"\")","v":""},{"$f":"IF('2.Strategy'!I$7='2.Strategy'!$D$80,J$242,\"\")","v":4},{"$f":"IF('2.Strategy'!J$7='2.Strategy'!$D$80,K$242,\"\")","v":""},{"$f":"IF('2.Strategy'!K$7='2.Strategy'!$D$80,L$242,\"\")","v":1},{"$f":"IF('2.Strategy'!L$7='2.Strategy'!$D$80,M$242,\"\")","v":""},{"$f":"IF('2.Strategy'!M$7='2.Strategy'!$D$80,N$242,\"\")","v":4},null,null,null,null,null,null,null,null,null,"Ryegrass: germination, variables"]
[11,"Intermediate sowing",{"$f":"IF('2.Strategy'!D$7='2.Strategy'!$D$81,E$242,\"\")","v":""},{"$f":"IF('2.Strategy'!E$7='2.Strategy'!$D$81,F$242,\"\")","v":""},{"$f":"IF('2.Strategy'!F$7='2.Strategy'!$D$81,G$242,\"\")","v":""},{"$f":"IF('2.Strategy'!G$7='2.Strategy'!$D$81,H$242,\"\")","v":""},{"$f":"IF('2.Strategy'!H$7='2.Strategy'!$D$81,I$242,\"\")","v":""},{"$f":"IF('2.Strategy'!I$7='2.Strategy'!$D$81,J$242,\"\")","v":""},{"$f":"IF('2.Strategy'!J$7='2.Strategy'!$D$81,K$242,\"\")","v":""},{"$f":"IF('2.Strategy'!K$7='2.Strategy'!$D$81,L$242,\"\")","v":""},{"$f":"IF('2.Strategy'!L$7='2.Strategy'!$D$81,M$242,\"\")","v":""},{"$f":"IF('2.Strategy'!M$7='2.Strategy'!$D$81,N$242,\"\")","v":""},null,null,null,null,null,null,null,null,null,"Pastures: stocking rates, N savings"]
[12,"Late Sowing",{"$f":"IF('2.Strategy'!D$7='2.Strategy'!$D$82,E$242,\"\")","v":""},{"$f":"IF('2.Strategy'!E$7='2.Strategy'!$D$82,F$242,\"\")","v":""},{"$f":"IF('2.Strategy'!F$7='2.Strategy'!$D$82,G$242,\"\")","v":1},{"$f":"IF('2.Strategy'!G$7='2.Strategy'!$D$82,H$242,\"\")","v":""},{"$f":"IF('2.Strategy'!H$7='2.Strategy'!$D$82,I$242,\"\")","v":""},{"$f":"IF('2.Strategy'!I$7='2.Strategy'!$D$82,J$242,\"\")","v":""},{"$f":"IF('2.Strategy'!J$7='2.Strategy'!$D$82,K$242,\"\")","v":1},{"$f":"IF('2.Strategy'!K$7='2.Strategy'!$D$82,L$242,\"\")","v":""},{"$f":"IF('2.Strategy'!L$7='2.Strategy'!$D$82,M$242,\"\")","v":""},{"$f":"IF('2.Strategy'!M$7='2.Strategy'!$D$82,N$242,\"\")","v":""},null,"Go to",{"$f":"B238","v":"Table 7. Rotation codes"}]
[13,"Standard seeding rate",{"$f":"IF('2.Strategy'!D$8='2.Strategy'!$D$84,E$242,\"\")","v":""},{"$f":"IF('2.Strategy'!E$8='2.Strategy'!$D$84,F$242,\"\")","v":4},{"$f":"IF('2.Strategy'!F$8='2.Strategy'!$D$84,G$242,\"\")","v":""},{"$f":"IF('2.Strategy'!G$8='2.Strategy'!$D$84,H$242,\"\")","v":1},{"$f":"IF('2.Strategy'!H$8='2.Strategy'!$D$84,I$242,\"\")","v":""},{"$f":"IF('2.Strategy'!I$8='2.Strategy'!$D$84,J$242,\"\")","v":4},{"$f":"IF('2.Strategy'!J$8='2.Strategy'!$D$84,K$242,\"\")","v":""},{"$f":"IF('2.Strategy'!K$8='2.Strategy'!$D$84,L$242,\"\")","v":1},{"$f":"IF('2.Strategy'!L$8='2.Strategy'!$D$84,M$242,\"\")","v":""},{"$f":"IF('2.Strategy'!M$8='2.Strategy'!$D$84,N$242,\"\")","v":4},null,null,{"$f":"B252","v":"Table 8. Rotation values"}]
[14,"Intermediate seeding rate",{"$f":"IF('2.Strategy'!D$8='2.Strategy'!$D$85,E$242,\"\")","v":""},{"$f":"IF('2.Strategy'!E$8='2.Strategy'!$D$85,F$242,\"\")","v":""},{"$f":"IF('2.Strategy'!F$8='2.Strategy'!$D$85,G$242,\"\")","v":""},{"$f":"IF('2.Strategy'!G$8='2.Strategy'!$D$85,H$242,\"\")","v":""},{"$f":"IF('2.Strategy'!H$8='2.Strategy'!$D$85,I$242,\"\")","v":""},{"$f":"IF('2.Strategy'!I$8='2.Strategy'!$D$85,J$242,\"\")","v":""},{"$f":"IF('2.Strategy'!J$8='2.Strategy'!$D$85,K$242,\"\")","v":""},{"$f":"IF('2.Strategy'!K$8='2.Strategy'!$D$85,L$242,\"\")","v":""},{"$f":"IF('2.Strategy'!L$8='2.Strategy'!$D$85,M$242,\"\")","v":""},{"$f":"IF('2.Strategy'!M$8='2.Strategy'!$D$85,N$242,\"\")","v":""},null,null,null,null,null,null,null,null,"BIO RESULTS"]
[15,"High seeding rate",{"$f":"IF('2.Strategy'!D$8='2.Strategy'!$D$86,E$242,\"\")","v":""},{"$f":"IF('2.Strategy'!E$8='2.Strategy'!$D$86,F$242,\"\")","v":""},{"$f":"IF('2.Strategy'!F$8='2.Strategy'!$D$86,G$242,\"\")","v":1},{"$f":"IF('2.Strategy'!G$8='2.Strategy'!$D$86,H$242,\"\")","v":""},{"$f":"IF('2.Strategy'!H$8='2.Strategy'!$D$86,I$242,\"\")","v":""},{"$f":"IF('2.Strategy'!I$8='2.Strategy'!$D$86,J$242,\"\")","v":""},{"$f":"IF('2.Strategy'!J$8='2.Strategy'!$D$86,K$242,\"\")","v":1},{"$f":"IF('2.Strategy'!K$8='2.Strategy'!$D$86,L$242,\"\")","v":""},{"$f":"IF('2.Strategy'!L$8='2.Strategy'!$D$86,M$242,\"\")","v":""},{"$f":"IF('2.Strategy'!M$8='2.Strategy'!$D$86,N$242,\"\")","v":""},null,"Go to",{"$f":"B356","v":"Table 9. Production costs (kr/ha)"},null,null,null,null,null,null,"Ryegrass: plants/m2, seeds/m2"]
[16,"Cover crops",{"$f":"IF('2.Strategy'!D$9='2.Strategy'!$P$99,E$242,\"\")","v":""},{"$f":"IF('2.Strategy'!E$9='2.Strategy'!$P$99,F$242,\"\")","v":""},{"$f":"IF('2.Strategy'!F$9='2.Strategy'!$P$99,G$242,\"\")","v":""},{"$f":"IF('2.Strategy'!G$9='2.Strategy'!$P$99,H$242,\"\")","v":""},{"$f":"IF('2.Strategy'!H$9='2.Strategy'!$P$99,I$242,\"\")","v":""},{"$f":"IF('2.Strategy'!I$9='2.Strategy'!$P$99,J$242,\"\")","v":""},{"$f":"IF('2.Strategy'!J$9='2.Strategy'!$P$99,K$242,\"\")","v":""},{"$f":"IF('2.Strategy'!K$9='2.Strategy'!$P$99,L$242,\"\")","v":""},{"$f":"IF('2.Strategy'!L$9='2.Strategy'!$P$99,M$242,\"\")","v":""},{"$f":"IF('2.Strategy'!M$9='2.Strategy'!$P$99,N$242,\"\")","v":""},null,null,null,null,null,null,null,null,null,"Impacts on yields"]
[17,"No cover crops",{"$f":"IF('2.Strategy'!D$9='2.Strategy'!$P$100,E$242,\"\")","v":""},{"$f":"IF('2.Strategy'!E$9='2.Strategy'!$P$100,F$242,\"\")","v":4},{"$f":"IF('2.Strategy'!F$9='2.Strategy'!$P$100,G$242,\"\")","v":1},{"$f":"IF('2.Strategy'!G$9='2.Strategy'!$P$100,H$242,\"\")","v":1},{"$f":"IF('2.Strategy'!H$9='2.Strategy'!$P$100,I$242,\"\")","v":""},{"$f":"IF('2.Strategy'!I$9='2.Strategy'!$P$100,J$242,\"\")","v":4},{"$f":"IF('2.Strategy'!J$9='2.Strategy'!$P$100,K$242,\"\")","v":1},{"$f":"IF('2.Strategy'!K$9='2.Strategy'!$P$100,L$242,\"\")","v":1},{"$f":"IF('2.Strategy'!L$9='2.Strategy'!$P$100,M$242,\"\")","v":""},{"$f":"IF('2.Strategy'!M$9='2.Strategy'!$P$100,N$242,\"\")","v":4},null,"Go to",{"$f":"B366","v":"Table 10. HWSM Machinery repayments"},null,null,null,null,null,null,"Ryegrass and yields for outputs"]
[18,{"$f":"\"Pre-E: \"&'1.Profile'!C19","v":"Pre-E: Boxer 1 l"},{"$f":"IF(AND('2.Strategy'!D$10='2.Strategy'!$P$83,'1.Profile'!$C19<>\"\"),E$242,\"\")","v":""},{"$f":"IF(AND('2.Strategy'!E$10='2.Strategy'!$P$83,'1.Profile'!$C19<>\"\"),F$242,\"\")","v":""},{"$f":"IF(AND('2.Strategy'!F$10='2.Strategy'!$P$83,'1.Profile'!$C19<>\"\"),G$242,\"\")","v":1},{"$f":"IF(AND('2.Strategy'!G$10='2.Strategy'!$P$83,'1.Profile'!$C19<>\"\"),H$242,\"\")","v":1},{"$f":"IF(AND('2.Strategy'!H$10='2.Strategy'!$P$83,'1.Profile'!$C19<>\"\"),I$242,\"\")","v":""},{"$f":"IF(AND('2.Strategy'!I$10='2.Strategy'!$P$83,'1.Profile'!$C19<>\"\"),J$242,\"\")","v":""},{"$f":"IF(AND('2.Strategy'!J$10='2.Strategy'!$P$83,'1.Profile'!$C19<>\"\"),K$242,\"\")","v":1},{"$f":"IF(AND('2.Strategy'!K$10='2.Strategy'!$P$83,'1.Profile'!$C19<>\"\"),L$242,\"\")","v":1},{"$f":"IF(AND('2.Strategy'!L$10='2.Strategy'!$P$83,'1.Profile'!$C19<>\"\"),M$242,\"\")","v":""},{"$f":"IF(AND('2.Strategy'!M$10='2.Strategy'!$P$83,'1.Profile'!$C19<>\"\"),N$242,\"\")","v":""},null,null,{"$f":"B375","v":"Table 11. Inflation factors"}]
[19,{"$f":"\"Pre-E: \"&'1.Profile'!C20","v":"Pre-E: Boxer 2 l"},{"$f":"IF(AND('2.Strategy'!D$10='2.Strategy'!$P$84,'1.Profile'!$C20<>\"\"),E$242,\"\")","v":""},{"$f":"IF(AND('2.Strategy'!E$10='2.Strategy'!$P$84,'1.Profile'!$C20<>\"\"),F$242,\"\")","v":""},{"$f":"IF(AND('2.Strategy'!F$10='2.Strategy'!$P$84,'1.Profile'!$C20<>\"\"),G$242,\"\")","v":""},{"$f":"IF(AND('2.Strategy'!G$10='2.Strategy'!$P$84,'1.Profile'!$C20<>\"\"),H$242,\"\")","v":""},{"$f":"IF(AND('2.Strategy'!H$10='2.Strategy'!$P$84,'1.Profile'!$C20<>\"\"),I$242,\"\")","v":""},{"$f":"IF(AND('2.Strategy'!I$10='2.Strategy'!$P$84,'1.Profile'!$C20<>\"\"),J$242,\"\")","v":""},{"$f":"IF(AND('2.Strategy'!J$10='2.Strategy'!$P$84,'1.Profile'!$C20<>\"\"),K$242,\"\")","v":""},{"$f":"IF(AND('2.Strategy'!K$10='2.Strategy'!$P$84,'1.Profile'!$C20<>\"\"),L$242,\"\")","v":""},{"$f":"IF(AND('2.Strategy'!L$10='2.Strategy'!$P$84,'1.Profile'!$C20<>\"\"),M$242,\"\")","v":""},{"$f":"IF(AND('2.Strategy'!M$10='2.Strategy'!$P$84,'1.Profile'!$C20<>\"\"),N$242,\"\")","v":""},null,null,null,null,null,null,null,null,"ECO RESULTS"]
[20,{"$f":"\"Post-E: \"&'1.Profile'!C22","v":"Post-E: Topik"},{"$f":"IF(AND('2.Strategy'!D$11='2.Strategy'!$P$89,'1.Profile'!$C22<>\"\"),E$242,\"\")","v":""},{"$f":"IF(AND('2.Strategy'!E$11='2.Strategy'!$P$89,'1.Profile'!$C22<>\"\"),F$242,\"\")","v":""},{"$f":"IF(AND('2.Strategy'!F$11='2.Strategy'!$P$89,'1.Profile'!$C22<>\"\"),G$242,\"\")","v":""},{"$f":"IF(AND('2.Strategy'!G$11='2.Strategy'!$P$89,'1.Profile'!$C22<>\"\"),H$242,\"\")","v":1},{"$f":"IF(AND('2.Strategy'!H$11='2.Strategy'!$P$89,'1.Profile'!$C22<>\"\"),I$242,\"\")","v":""},{"$f":"IF(AND('2.Strategy'!I$11='2.Strategy'!$P$89,'1.Profile'!$C22<>\"\"),J$242,\"\")","v":""},{"$f":"IF(AND('2.Strategy'!J$11='2.Strategy'!$P$89,'1.Profile'!$C22<>\"\"),K$242,\"\")","v":""},{"$f":"IF(AND('2.Strategy'!K$11='2.Strategy'!$P$89,'1.Profile'!$C22<>\"\"),L$242,\"\")","v":1},{"$f":"IF(AND('2.Strategy'!L$11='2.Strategy'!$P$89,'1.Profile'!$C22<>\"\"),M$242,\"\")","v":""},{"$f":"IF(AND('2.Strategy'!M$11='2.Strategy'!$P$89,'1.Profile'!$C22<>\"\"),N$242,\"\")","v":""},null,"Go to",{"$f":"B380","v":"Table 12. Competition functions"},null,null,null,null,null,null,"Receipts & expenses"]
[21,{"$f":"\"Post-E: \"&'1.Profile'!C23","v":"Post-E: Atlantis OD"},{"$f":"IF(AND('2.Strategy'!D$11='2.Strategy'!$P$90,'1.Profile'!$C23<>\"\"),E$242,\"\")","v":""},{"$f":"IF(AND('2.Strategy'!E$11='2.Strategy'!$P$90,'1.Profile'!$C23<>\"\"),F$242,\"\")","v":""},{"$f":"IF(AND('2.Strategy'!F$11='2.Strategy'!$P$90,'1.Profile'!$C23<>\"\"),G$242,\"\")","v":""},{"$f":"IF(AND('2.Strategy'!G$11='2.Strategy'!$P$90,'1.Profile'!$C23<>\"\"),H$242,\"\")","v":""},{"$f":"IF(AND('2.Strategy'!H$11='2.Strategy'!$P$90,'1.Profile'!$C23<>\"\"),I$242,\"\")","v":""},{"$f":"IF(AND('2.Strategy'!I$11='2.Strategy'!$P$90,'1.Profile'!$C23<>\"\"),J$242,\"\")","v":""},{"$f":"IF(AND('2.Strategy'!J$11='2.Strategy'!$P$90,'1.Profile'!$C23<>\"\"),K$242,\"\")","v":""},{"$f":"IF(AND('2.Strategy'!K$11='2.Strategy'!$P$90,'1.Profile'!$C23<>\"\"),L$242,\"\")","v":""},{"$f":"IF(AND('2.Strategy'!L$11='2.Strategy'!$P$90,'1.Profile'!$C23<>\"\"),M$242,\"\")","v":""},{"$f":"IF(AND('2.Strategy'!M$11='2.Strategy'!$P$90,'1.Profile'!$C23<>\"\"),N$242,\"\")","v":""},null,null,null,null,null,null,null,null,null,"Gross margins"]
[22,{"$f":"\"Post-E: \"&'1.Profile'!C24","v":"Post-E: Hussar Plus OD"},{"$f":"IF(AND('2.Strategy'!D$11='2.Strategy'!$P$91,'1.Profile'!$C24<>\"\"),E$242,\"\")","v":""},{"$f":"IF(AND('2.Strategy'!E$11='2.Strategy'!$P$91,'1.Profile'!$C24<>\"\"),F$242,\"\")","v":""},{"$f":"IF(AND('2.Strategy'!F$11='2.Strategy'!$P$91,'1.Profile'!$C24<>\"\"),G$242,\"\")","v":""},{"$f":"IF(AND('2.Strategy'!G$11='2.Strategy'!$P$91,'1.Profile'!$C24<>\"\"),H$242,\"\")","v":""},{"$f":"IF(AND('2.Strategy'!H$11='2.Strategy'!$P$91,'1.Profile'!$C24<>\"\"),I$242,\"\")","v":""},{"$f":"IF(AND('2.Strategy'!I$11='2.Strategy'!$P$91,'1.Profile'!$C24<>\"\"),J$242,\"\")","v":""},{"$f":"IF(AND('2.Strategy'!J$11='2.Strategy'!$P$91,'1.Profile'!$C24<>\"\"),K$242,\"\")","v":""},{"$f":"IF(AND('2.Strategy'!K$11='2.Strategy'!$P$91,'1.Profile'!$C24<>\"\"),L$242,\"\")","v":""},{"$f":"IF(AND('2.Strategy'!L$11='2.Strategy'!$P$91,'1.Profile'!$C24<>\"\"),M$242,\"\")","v":""},{"$f":"IF(AND('2.Strategy'!M$11='2.Strategy'!$P$91,'1.Profile'!$C24<>\"\"),N$242,\"\")","v":""},null,"Go to",{"$f":"B203","v":"Table 13: Crop plant density/m2"},null,null,null,null,null,null,"Results for outputs"]
[23,{"$f":"\"Post-E: \"&'1.Profile'!C25","v":"Post-E: Broadway"},{"$f":"IF(AND('2.Strategy'!D$11='2.Strategy'!$P$92,'1.Profile'!$C25<>\"\"),E$242,\"\")","v":""},{"$f":"IF(AND('2.Strategy'!E$11='2.Strategy'!$P$92,'1.Profile'!$C25<>\"\"),F$242,\"\")","v":""},{"$f":"IF(AND('2.Strategy'!F$11='2.Strategy'!$P$92,'1.Profile'!$C25<>\"\"),G$242,\"\")","v":""},{"$f":"IF(AND('2.Strategy'!G$11='2.Strategy'!$P$92,'1.Profile'!$C25<>\"\"),H$242,\"\")","v":""},{"$f":"IF(AND('2.Strategy'!H$11='2.Strategy'!$P$92,'1.Profile'!$C25<>\"\"),I$242,\"\")","v":""},{"$f":"IF(AND('2.Strategy'!I$11='2.Strategy'!$P$92,'1.Profile'!$C25<>\"\"),J$242,\"\")","v":""},{"$f":"IF(AND('2.Strategy'!J$11='2.Strategy'!$P$92,'1.Profile'!$C25<>\"\"),K$242,\"\")","v":""},{"$f":"IF(AND('2.Strategy'!K$11='2.Strategy'!$P$92,'1.Profile'!$C25<>\"\"),L$242,\"\")","v":""},{"$f":"IF(AND('2.Strategy'!L$11='2.Strategy'!$P$92,'1.Profile'!$C25<>\"\"),M$242,\"\")","v":""},{"$f":"IF(AND('2.Strategy'!M$11='2.Strategy'!$P$92,'1.Profile'!$C25<>\"\"),N$242,\"\")","v":""}]
[24,{"$f":"\"Post-E: \"&'1.Profile'!C26","v":"Post-E: Cossack OD"},{"$f":"IF(AND('2.Strategy'!D$11='2.Strategy'!$P$93,'1.Profile'!$C26<>\"\"),E$242,\"\")","v":""},{"$f":"IF(AND('2.Strategy'!E$11='2.Strategy'!$P$93,'1.Profile'!$C26<>\"\"),F$242,\"\")","v":""},{"$f":"IF(AND('2.Strategy'!F$11='2.Strategy'!$P$93,'1.Profile'!$C26<>\"\"),G$242,\"\")","v":""},{"$f":"IF(AND('2.Strategy'!G$11='2.Strategy'!$P$93,'1.Profile'!$C26<>\"\"),H$242,\"\")","v":""},{"$f":"IF(AND('2.Strategy'!H$11='2.Strategy'!$P$93,'1.Profile'!$C26<>\"\"),I$242,\"\")","v":""},{"$f":"IF(AND('2.Strategy'!I$11='2.Strategy'!$P$93,'1.Profile'!$C26<>\"\"),J$242,\"\")","v":""},{"$f":"IF(AND('2.Strategy'!J$11='2.Strategy'!$P$93,'1.Profile'!$C26<>\"\"),K$242,\"\")","v":""},{"$f":"IF(AND('2.Strategy'!K$11='2.Strategy'!$P$93,'1.Profile'!$C26<>\"\"),L$242,\"\")","v":""},{"$f":"IF(AND('2.Strategy'!L$11='2.Strategy'!$P$93,'1.Profile'!$C26<>\"\"),M$242,\"\")","v":""},{"$f":"IF(AND('2.Strategy'!M$11='2.Strategy'!$P$93,'1.Profile'!$C26<>\"\"),N$242,\"\")","v":""}]
[25,{"$f":"\"Post-E: \"&'1.Profile'!C27","v":"Post-E: Focus Ultra"},{"$f":"IF(AND('2.Strategy'!D$11='2.Strategy'!$P$94,'1.Profile'!$C27<>\"\"),E$242,\"\")","v":""},{"$f":"IF(AND('2.Strategy'!E$11='2.Strategy'!$P$94,'1.Profile'!$C27<>\"\"),F$242,\"\")","v":""},{"$f":"IF(AND('2.Strategy'!F$11='2.Strategy'!$P$94,'1.Profile'!$C27<>\"\"),G$242,\"\")","v":""},{"$f":"IF(AND('2.Strategy'!G$11='2.Strategy'!$P$94,'1.Profile'!$C27<>\"\"),H$242,\"\")","v":""},{"$f":"IF(AND('2.Strategy'!H$11='2.Strategy'!$P$94,'1.Profile'!$C27<>\"\"),I$242,\"\")","v":""},{"$f":"IF(AND('2.Strategy'!I$11='2.Strategy'!$P$94,'1.Profile'!$C27<>\"\"),J$242,\"\")","v":""},{"$f":"IF(AND('2.Strategy'!J$11='2.Strategy'!$P$94,'1.Profile'!$C27<>\"\"),K$242,\"\")","v":""},{"$f":"IF(AND('2.Strategy'!K$11='2.Strategy'!$P$94,'1.Profile'!$C27<>\"\"),L$242,\"\")","v":""},{"$f":"IF(AND('2.Strategy'!L$11='2.Strategy'!$P$94,'1.Profile'!$C27<>\"\"),M$242,\"\")","v":""},{"$f":"IF(AND('2.Strategy'!M$11='2.Strategy'!$P$94,'1.Profile'!$C27<>\"\"),N$242,\"\")","v":""}]
[26,{"$f":"\"Post-E: \"&'1.Profile'!C28","v":"Post-E: Kerb"},{"$f":"IF(AND('2.Strategy'!D$11='2.Strategy'!$P$95,'1.Profile'!$C28<>\"\"),E$242,\"\")","v":""},{"$f":"IF(AND('2.Strategy'!E$11='2.Strategy'!$P$95,'1.Profile'!$C28<>\"\"),F$242,\"\")","v":4},{"$f":"IF(AND('2.Strategy'!F$11='2.Strategy'!$P$95,'1.Profile'!$C28<>\"\"),G$242,\"\")","v":""},{"$f":"IF(AND('2.Strategy'!G$11='2.Strategy'!$P$95,'1.Profile'!$C28<>\"\"),H$242,\"\")","v":""},{"$f":"IF(AND('2.Strategy'!H$11='2.Strategy'!$P$95,'1.Profile'!$C28<>\"\"),I$242,\"\")","v":""},{"$f":"IF(AND('2.Strategy'!I$11='2.Strategy'!$P$95,'1.Profile'!$C28<>\"\"),J$242,\"\")","v":4},{"$f":"IF(AND('2.Strategy'!J$11='2.Strategy'!$P$95,'1.Profile'!$C28<>\"\"),K$242,\"\")","v":""},{"$f":"IF(AND('2.Strategy'!K$11='2.Strategy'!$P$95,'1.Profile'!$C28<>\"\"),L$242,\"\")","v":""},{"$f":"IF(AND('2.Strategy'!L$11='2.Strategy'!$P$95,'1.Profile'!$C28<>\"\"),M$242,\"\")","v":""},{"$f":"IF(AND('2.Strategy'!M$11='2.Strategy'!$P$95,'1.Profile'!$C28<>\"\"),N$242,\"\")","v":4},null,"Table 1a. Non-selective herbicides counts"]
[27,"Glyphosate Early",{"$f":"IF(AND('2.Strategy'!D$65=\"spring\",AND(OR('2.Strategy'!D$12='2.Strategy'!$P$73,'2.Strategy'!D$12='2.Strategy'!$P$76))),E$242,\"\")","v":""},{"$f":"IF(AND('2.Strategy'!E$65=\"spring\",AND(OR('2.Strategy'!E$12='2.Strategy'!$P$73,'2.Strategy'!E$12='2.Strategy'!$P$76))),F$242,\"\")","v":""},{"$f":"IF(AND('2.Strategy'!F$65=\"spring\",AND(OR('2.Strategy'!F$12='2.Strategy'!$P$73,'2.Strategy'!F$12='2.Strategy'!$P$76))),G$242,\"\")","v":""},{"$f":"IF(AND('2.Strategy'!G$65=\"spring\",AND(OR('2.Strategy'!G$12='2.Strategy'!$P$73,'2.Strategy'!G$12='2.Strategy'!$P$76))),H$242,\"\")","v":""},{"$f":"IF(AND('2.Strategy'!H$65=\"spring\",AND(OR('2.Strategy'!H$12='2.Strategy'!$P$73,'2.Strategy'!H$12='2.Strategy'!$P$76))),I$242,\"\")","v":""},{"$f":"IF(AND('2.Strategy'!I$65=\"spring\",AND(OR('2.Strategy'!I$12='2.Strategy'!$P$73,'2.Strategy'!I$12='2.Strategy'!$P$76))),J$242,\"\")","v":""},{"$f":"IF(AND('2.Strategy'!J$65=\"spring\",AND(OR('2.Strategy'!J$12='2.Strategy'!$P$73,'2.Strategy'!J$12='2.Strategy'!$P$76))),K$242,\"\")","v":""},{"$f":"IF(AND('2.Strategy'!K$65=\"spring\",AND(OR('2.Strategy'!K$12='2.Strategy'!$P$73,'2.Strategy'!K$12='2.Strategy'!$P$76))),L$242,\"\")","v":""},{"$f":"IF(AND('2.Strategy'!L$65=\"spring\",AND(OR('2.Strategy'!L$12='2.Strategy'!$P$73,'2.Strategy'!L$12='2.Strategy'!$P$76))),M$242,\"\")","v":""},{"$f":"IF(AND('2.Strategy'!M$65=\"spring\",AND(OR('2.Strategy'!M$12='2.Strategy'!$P$73,'2.Strategy'!M$12='2.Strategy'!$P$76))),N$242,\"\")","v":""},null,"Feeds into the weed control table below, and for phytotoxicity effects in Bio results."]
[28,"Glyphosate Medium",{"$f":"IF(AND('2.Strategy'!D$65=\"spring\",AND(OR('2.Strategy'!D$12='2.Strategy'!$P$74,'2.Strategy'!D$12='2.Strategy'!$P$77))),E$242,\"\")","v":""},{"$f":"IF(AND('2.Strategy'!E$65=\"spring\",AND(OR('2.Strategy'!E$12='2.Strategy'!$P$74,'2.Strategy'!E$12='2.Strategy'!$P$77))),F$242,\"\")","v":""},{"$f":"IF(AND('2.Strategy'!F$65=\"spring\",AND(OR('2.Strategy'!F$12='2.Strategy'!$P$74,'2.Strategy'!F$12='2.Strategy'!$P$77))),G$242,\"\")","v":""},{"$f":"IF(AND('2.Strategy'!G$65=\"spring\",AND(OR('2.Strategy'!G$12='2.Strategy'!$P$74,'2.Strategy'!G$12='2.Strategy'!$P$77))),H$242,\"\")","v":""},{"$f":"IF(AND('2.Strategy'!H$65=\"spring\",AND(OR('2.Strategy'!H$12='2.Strategy'!$P$74,'2.Strategy'!H$12='2.Strategy'!$P$77))),I$242,\"\")","v":""},{"$f":"IF(AND('2.Strategy'!I$65=\"spring\",AND(OR('2.Strategy'!I$12='2.Strategy'!$P$74,'2.Strategy'!I$12='2.Strategy'!$P$77))),J$242,\"\")","v":""},{"$f":"IF(AND('2.Strategy'!J$65=\"spring\",AND(OR('2.Strategy'!J$12='2.Strategy'!$P$74,'2.Strategy'!J$12='2.Strategy'!$P$77))),K$242,\"\")","v":""},{"$f":"IF(AND('2.Strategy'!K$65=\"spring\",AND(OR('2.Strategy'!K$12='2.Strategy'!$P$74,'2.Strategy'!K$12='2.Strategy'!$P$77))),L$242,\"\")","v":""},{"$f":"IF(AND('2.Strategy'!L$65=\"spring\",AND(OR('2.Strategy'!L$12='2.Strategy'!$P$74,'2.Strategy'!L$12='2.Strategy'!$P$77))),M$242,\"\")","v":""},{"$f":"IF(AND('2.Strategy'!M$65=\"spring\",AND(OR('2.Strategy'!M$12='2.Strategy'!$P$74,'2.Strategy'!M$12='2.Strategy'!$P$77))),N$242,\"\")","v":""},null,"Nb of times used",null,{"$f":"C1","v":"Vårbyg  1"},"Raps  2","V.hvede  3","V.hvede  4","Vårbyg  5","Raps  6","V.hvede  7","V.hvede  8","Vårbyg  9","Raps 10"]
[29,"Glyphosate Late",{"$f":"IF(AND('2.Strategy'!D$65=\"spring\",AND(OR('2.Strategy'!D$12='2.Strategy'!$P$75,'2.Strategy'!D$12='2.Strategy'!$P$78))),E$242,\"\")","v":""},{"$f":"IF(AND('2.Strategy'!E$65=\"spring\",AND(OR('2.Strategy'!E$12='2.Strategy'!$P$75,'2.Strategy'!E$12='2.Strategy'!$P$78))),F$242,\"\")","v":""},{"$f":"IF(AND('2.Strategy'!F$65=\"spring\",AND(OR('2.Strategy'!F$12='2.Strategy'!$P$75,'2.Strategy'!F$12='2.Strategy'!$P$78))),G$242,\"\")","v":""},{"$f":"IF(AND('2.Strategy'!G$65=\"spring\",AND(OR('2.Strategy'!G$12='2.Strategy'!$P$75,'2.Strategy'!G$12='2.Strategy'!$P$78))),H$242,\"\")","v":""},{"$f":"IF(AND('2.Strategy'!H$65=\"spring\",AND(OR('2.Strategy'!H$12='2.Strategy'!$P$75,'2.Strategy'!H$12='2.Strategy'!$P$78))),I$242,\"\")","v":""},{"$f":"IF(AND('2.Strategy'!I$65=\"spring\",AND(OR('2.Strategy'!I$12='2.Strategy'!$P$75,'2.Strategy'!I$12='2.Strategy'!$P$78))),J$242,\"\")","v":""},{"$f":"IF(AND('2.Strategy'!J$65=\"spring\",AND(OR('2.Strategy'!J$12='2.Strategy'!$P$75,'2.Strategy'!J$12='2.Strategy'!$P$78))),K$242,\"\")","v":""},{"$f":"IF(AND('2.Strategy'!K$65=\"spring\",AND(OR('2.Strategy'!K$12='2.Strategy'!$P$75,'2.Strategy'!K$12='2.Strategy'!$P$78))),L$242,\"\")","v":""},{"$f":"IF(AND('2.Strategy'!L$65=\"spring\",AND(OR('2.Strategy'!L$12='2.Strategy'!$P$75,'2.Strategy'!L$12='2.Strategy'!$P$78))),M$242,\"\")","v":""},{"$f":"IF(AND('2.Strategy'!M$65=\"spring\",AND(OR('2.Strategy'!M$12='2.Strategy'!$P$75,'2.Strategy'!M$12='2.Strategy'!$P$78))),N$242,\"\")","v":""},null,{"$f":"B26","v":"Post-E: Topik"},null,{"$f":"COUNT(C26,C51)","v":0},0,0,1,0,0,0,1,0,0]
[30,"None",{"$f":"IF(AND('2.Strategy'!D$65=\"spring\",'2.Strategy'!D$12='2.Strategy'!$P$72),E$242,\"\")","v":5},{"$f":"IF(AND('2.Strategy'!E$65=\"spring\",'2.Strategy'!E$12='2.Strategy'!$P$72),F$242,\"\")","v":""},{"$f":"IF(AND('2.Strategy'!F$65=\"spring\",'2.Strategy'!F$12='2.Strategy'!$P$72),G$242,\"\")","v":""},{"$f":"IF(AND('2.Strategy'!G$65=\"spring\",'2.Strategy'!G$12='2.Strategy'!$P$72),H$242,\"\")","v":""},{"$f":"IF(AND('2.Strategy'!H$65=\"spring\",'2.Strategy'!H$12='2.Strategy'!$P$72),I$242,\"\")","v":5},{"$f":"IF(AND('2.Strategy'!I$65=\"spring\",'2.Strategy'!I$12='2.Strategy'!$P$72),J$242,\"\")","v":""},{"$f":"IF(AND('2.Strategy'!J$65=\"spring\",'2.Strategy'!J$12='2.Strategy'!$P$72),K$242,\"\")","v":""},{"$f":"IF(AND('2.Strategy'!K$65=\"spring\",'2.Strategy'!K$12='2.Strategy'!$P$72),L$242,\"\")","v":""},{"$f":"IF(AND('2.Strategy'!L$65=\"spring\",'2.Strategy'!L$12='2.Strategy'!$P$72),M$242,\"\")","v":5},{"$f":"IF(AND('2.Strategy'!M$65=\"spring\",'2.Strategy'!M$12='2.Strategy'!$P$72),N$242,\"\")","v":""},null,"Post-E: Atlantis OD",null,0,0,0,0,0,0,0,0,0,0]
[31,{"$f":"\"Glyphosate rate: \"&'1.Profile'!C16","v":"Glyphosate rate: 540"},{"$f":"IF(AND('2.Strategy'!D$65=\"spring\",AND(OR('2.Strategy'!D$12='2.Strategy'!$P$73,'2.Strategy'!D$12='2.Strategy'!$P$74,'2.Strategy'!D$12='2.Strategy'!$P$75))),E$242,\"\")","v":""},{"$f":"IF(AND('2.Strategy'!E$65=\"spring\",AND(OR('2.Strategy'!E$12='2.Strategy'!$P$73,'2.Strategy'!E$12='2.Strategy'!$P$74,'2.Strategy'!E$12='2.Strategy'!$P$75))),F$242,\"\")","v":""},{"$f":"IF(AND('2.Strategy'!F$65=\"spring\",AND(OR('2.Strategy'!F$12='2.Strategy'!$P$73,'2.Strategy'!F$12='2.Strategy'!$P$74,'2.Strategy'!F$12='2.Strategy'!$P$75))),G$242,\"\")","v":""},{"$f":"IF(AND('2.Strategy'!G$65=\"spring\",AND(OR('2.Strategy'!G$12='2.Strategy'!$P$73,'2.Strategy'!G$12='2.Strategy'!$P$74,'2.Strategy'!G$12='2.Strategy'!$P$75))),H$242,\"\")","v":""},{"$f":"IF(AND('2.Strategy'!H$65=\"spring\",AND(OR('2.Strategy'!H$12='2.Strategy'!$P$73,'2.Strategy'!H$12='2.Strategy'!$P$74,'2.Strategy'!H$12='2.Strategy'!$P$75))),I$242,\"\")","v":""},{"$f":"IF(AND('2.Strategy'!I$65=\"spring\",AND(OR('2.Strategy'!I$12='2.Strategy'!$P$73,'2.Strategy'!I$12='2.Strategy'!$P$74,'2.Strategy'!I$12='2.Strategy'!$P$75))),J$242,\"\")","v":""},{"$f":"IF(AND('2.Strategy'!J$65=\"spring\",AND(OR('2.Strategy'!J$12='2.Strategy'!$P$73,'2.Strategy'!J$12='2.Strategy'!$P$74,'2.Strategy'!J$12='2.Strategy'!$P$75))),K$242,\"\")","v":""},{"$f":"IF(AND('2.Strategy'!K$65=\"spring\",AND(OR('2.Strategy'!K$12='2.Strategy'!$P$73,'2.Strategy'!K$12='2.Strategy'!$P$74,'2.Strategy'!K$12='2.Strategy'!$P$75))),L$242,\"\")","v":""},{"$f":"IF(AND('2.Strategy'!L$65=\"spring\",AND(OR('2.Strategy'!L$12='2.Strategy'!$P$73,'2.Strategy'!L$12='2.Strategy'!$P$74,'2.Strategy'!L$12='2.Strategy'!$P$75))),M$242,\"\")","v":""},{"$f":"IF(AND('2.Strategy'!M$65=\"spring\",AND(OR('2.Strategy'!M$12='2.Strategy'!$P$73,'2.Strategy'!M$12='2.Strategy'!$P$74,'2.Strategy'!M$12='2.Strategy'!$P$75))),N$242,\"\")","v":""},null,"Post-E: Hussar Plus OD",null,1,0,1,0,1,0,1,0,1,0]
[32,{"$f":"\"Glyphosate rate: \"&'1.Profile'!C17","v":"Glyphosate rate: 1080"},{"$f":"IF(AND('2.Strategy'!D$65=\"spring\",AND(OR('2.Strategy'!D$12='2.Strategy'!$P$76,'2.Strategy'!D$12='2.Strategy'!$P$77,'2.Strategy'!D$12='2.Strategy'!$P$78))),E$242,\"\")","v":""},{"$f":"IF(AND('2.Strategy'!E$65=\"spring\",AND(OR('2.Strategy'!E$12='2.Strategy'!$P$76,'2.Strategy'!E$12='2.Strategy'!$P$77,'2.Strategy'!E$12='2.Strategy'!$P$78))),F$242,\"\")","v":""},{"$f":"IF(AND('2.Strategy'!F$65=\"spring\",AND(OR('2.Strategy'!F$12='2.Strategy'!$P$76,'2.Strategy'!F$12='2.Strategy'!$P$77,'2.Strategy'!F$12='2.Strategy'!$P$78))),G$242,\"\")","v":""},{"$f":"IF(AND('2.Strategy'!G$65=\"spring\",AND(OR('2.Strategy'!G$12='2.Strategy'!$P$76,'2.Strategy'!G$12='2.Strategy'!$P$77,'2.Strategy'!G$12='2.Strategy'!$P$78))),H$242,\"\")","v":""},{"$f":"IF(AND('2.Strategy'!H$65=\"spring\",AND(OR('2.Strategy'!H$12='2.Strategy'!$P$76,'2.Strategy'!H$12='2.Strategy'!$P$77,'2.Strategy'!H$12='2.Strategy'!$P$78))),I$242,\"\")","v":""},{"$f":"IF(AND('2.Strategy'!I$65=\"spring\",AND(OR('2.Strategy'!I$12='2.Strategy'!$P$76,'2.Strategy'!I$12='2.Strategy'!$P$77,'2.Strategy'!I$12='2.Strategy'!$P$78))),J$242,\"\")","v":""},{"$f":"IF(AND('2.Strategy'!J$65=\"spring\",AND(OR('2.Strategy'!J$12='2.Strategy'!$P$76,'2.Strategy'!J$12='2.Strategy'!$P$77,'2.Strategy'!J$12='2.Strategy'!$P$78))),K$242,\"\")","v":""},{"$f":"IF(AND('2.Strategy'!K$65=\"spring\",AND(OR('2.Strategy'!K$12='2.Strategy'!$P$76,'2.Strategy'!K$12='2.Strategy'!$P$77,'2.Strategy'!K$12='2.Strategy'!$P$78))),L$242,\"\")","v":""},{"$f":"IF(AND('2.Strategy'!L$65=\"spring\",AND(OR('2.Strategy'!L$12='2.Strategy'!$P$76,'2.Strategy'!L$12='2.Strategy'!$P$77,'2.Strategy'!L$12='2.Strategy'!$P$78))),M$242,\"\")","v":""},{"$f":"IF(AND('2.Strategy'!M$65=\"spring\",AND(OR('2.Strategy'!M$12='2.Strategy'!$P$76,'2.Strategy'!M$12='2.Strategy'!$P$77,'2.Strategy'!M$12='2.Strategy'!$P$78))),N$242,\"\")","v":""},null,"Post-E: Broadway",null,0,0,0,0,0,0,0,0,0,0]
[33,"Need-based plough",{"$f":"IF('2.Strategy'!D$13='2.Strategy'!$D$88,E$242,\"\")","v":""},{"$f":"IF('2.Strategy'!E$13='2.Strategy'!$D$88,F$242,\"\")","v":""},{"$f":"IF('2.Strategy'!F$13='2.Strategy'!$D$88,G$242,\"\")","v":""},{"$f":"IF('2.Strategy'!G$13='2.Strategy'!$D$88,H$242,\"\")","v":""},{"$f":"IF('2.Strategy'!H$13='2.Strategy'!$D$88,I$242,\"\")","v":""},{"$f":"IF('2.Strategy'!I$13='2.Strategy'!$D$88,J$242,\"\")","v":""},{"$f":"IF('2.Strategy'!J$13='2.Strategy'!$D$88,K$242,\"\")","v":""},{"$f":"IF('2.Strategy'!K$13='2.Strategy'!$D$88,L$242,\"\")","v":""},{"$f":"IF('2.Strategy'!L$13='2.Strategy'!$D$88,M$242,\"\")","v":""},{"$f":"IF('2.Strategy'!M$13='2.Strategy'!$D$88,N$242,\"\")","v":""},null,"Post-E: Cossack OD",null,0,0,0,0,0,0,0,0,0,0]
[34,"Plough",{"$f":"IF('2.Strategy'!D$13='2.Strategy'!$D$89,E$242,\"\")","v":5},{"$f":"IF('2.Strategy'!E$13='2.Strategy'!$D$89,F$242,\"\")","v":""},{"$f":"IF('2.Strategy'!F$13='2.Strategy'!$D$89,G$242,\"\")","v":""},{"$f":"IF('2.Strategy'!G$13='2.Strategy'!$D$89,H$242,\"\")","v":""},{"$f":"IF('2.Strategy'!H$13='2.Strategy'!$D$89,I$242,\"\")","v":5},{"$f":"IF('2.Strategy'!I$13='2.Strategy'!$D$89,J$242,\"\")","v":""},{"$f":"IF('2.Strategy'!J$13='2.Strategy'!$D$89,K$242,\"\")","v":""},{"$f":"IF('2.Strategy'!K$13='2.Strategy'!$D$89,L$242,\"\")","v":""},{"$f":"IF('2.Strategy'!L$13='2.Strategy'!$D$89,M$242,\"\")","v":5},{"$f":"IF('2.Strategy'!M$13='2.Strategy'!$D$89,N$242,\"\")","v":""},null,"Post-E: Focus Ultra",null,0,0,0,0,0,0,0,0,0,0]
[35,"Reduced tillage",{"$f":"IF('2.Strategy'!D$13='2.Strategy'!$D$90,E$242,\"\")","v":""},{"$f":"IF('2.Strategy'!E$13='2.Strategy'!$D$90,F$242,\"\")","v":""},{"$f":"IF('2.Strategy'!F$13='2.Strategy'!$D$90,G$242,\"\")","v":""},{"$f":"IF('2.Strategy'!G$13='2.Strategy'!$D$90,H$242,\"\")","v":""},{"$f":"IF('2.Strategy'!H$13='2.Strategy'!$D$90,I$242,\"\")","v":""},{"$f":"IF('2.Strategy'!I$13='2.Strategy'!$D$90,J$242,\"\")","v":""},{"$f":"IF('2.Strategy'!J$13='2.Strategy'!$D$90,K$242,\"\")","v":""},{"$f":"IF('2.Strategy'!K$13='2.Strategy'!$D$90,L$242,\"\")","v":""},{"$f":"IF('2.Strategy'!L$13='2.Strategy'!$D$90,M$242,\"\")","v":""},{"$f":"IF('2.Strategy'!M$13='2.Strategy'!$D$90,N$242,\"\")","v":""},null,"Post-E: Kerb",null,0,1,0,0,0,1,0,0,0,1]
[36,"No-till",{"$f":"IF('2.Strategy'!D$13='2.Strategy'!$D$91,E$242,\"\")","v":""},{"$f":"IF('2.Strategy'!E$13='2.Strategy'!$D$91,F$242,\"\")","v":""},{"$f":"IF('2.Strategy'!F$13='2.Strategy'!$D$91,G$242,\"\")","v":""},{"$f":"IF('2.Strategy'!G$13='2.Strategy'!$D$91,H$242,\"\")","v":""},{"$f":"IF('2.Strategy'!H$13='2.Strategy'!$D$91,I$242,\"\")","v":""},{"$f":"IF('2.Strategy'!I$13='2.Strategy'!$D$91,J$242,\"\")","v":""},{"$f":"IF('2.Strategy'!J$13='2.Strategy'!$D$91,K$242,\"\")","v":""},{"$f":"IF('2.Strategy'!K$13='2.Strategy'!$D$91,L$242,\"\")","v":""},{"$f":"IF('2.Strategy'!L$13='2.Strategy'!$D$91,M$242,\"\")","v":""},{"$f":"IF('2.Strategy'!M$13='2.Strategy'!$D$91,N$242,\"\")","v":""},null,"Total, post Em + pre-E (for phytotoxicity counts)",null,{"$f":"SUM(P35:P41)+COUNT(C11:C12)+COUNT(C36:C38)","v":2},{"$f":"SUM(Q35:Q41)+COUNT(D11:D12)+COUNT(D36:D38)","v":1},1,1,2,1,1,1,2,1]
[37,"Early sowing",{"$f":"IF('2.Strategy'!D$14='2.Strategy'!$D$93,E$242,\"\")","v":5},{"$f":"IF('2.Strategy'!E$14='2.Strategy'!$D$93,F$242,\"\")","v":""},{"$f":"IF('2.Strategy'!F$14='2.Strategy'!$D$93,G$242,\"\")","v":""},{"$f":"IF('2.Strategy'!G$14='2.Strategy'!$D$93,H$242,\"\")","v":""},{"$f":"IF('2.Strategy'!H$14='2.Strategy'!$D$93,I$242,\"\")","v":5},{"$f":"IF('2.Strategy'!I$14='2.Strategy'!$D$93,J$242,\"\")","v":""},{"$f":"IF('2.Strategy'!J$14='2.Strategy'!$D$93,K$242,\"\")","v":""},{"$f":"IF('2.Strategy'!K$14='2.Strategy'!$D$93,L$242,\"\")","v":""},{"$f":"IF('2.Strategy'!L$14='2.Strategy'!$D$93,M$242,\"\")","v":5},{"$f":"IF('2.Strategy'!M$14='2.Strategy'!$D$93,N$242,\"\")","v":""}]
[38,"Intermediate sowing",{"$f":"IF('2.Strategy'!D$14='2.Strategy'!$D$94,E$242,\"\")","v":""},{"$f":"IF('2.Strategy'!E$14='2.Strategy'!$D$94,F$242,\"\")","v":""},{"$f":"IF('2.Strategy'!F$14='2.Strategy'!$D$94,G$242,\"\")","v":""},{"$f":"IF('2.Strategy'!G$14='2.Strategy'!$D$94,H$242,\"\")","v":""},{"$f":"IF('2.Strategy'!H$14='2.Strategy'!$D$94,I$242,\"\")","v":""},{"$f":"IF('2.Strategy'!I$14='2.Strategy'!$D$94,J$242,\"\")","v":""},{"$f":"IF('2.Strategy'!J$14='2.Strategy'!$D$94,K$242,\"\")","v":""},{"$f":"IF('2.Strategy'!K$14='2.Strategy'!$D$94,L$242,\"\")","v":""},{"$f":"IF('2.Strategy'!L$14='2.Strategy'!$D$94,M$242,\"\")","v":""},{"$f":"IF('2.Strategy'!M$14='2.Strategy'!$D$94,N$242,\"\")","v":""},null,"Table 1b. Herbicides type counts"]
[39,"Late Sowing",{"$f":"IF('2.Strategy'!D$14='2.Strategy'!$D$95,E$242,\"\")","v":""},{"$f":"IF('2.Strategy'!E$14='2.Strategy'!$D$95,F$242,\"\")","v":""},{"$f":"IF('2.Strategy'!F$14='2.Strategy'!$D$95,G$242,\"\")","v":""},{"$f":"IF('2.Strategy'!G$14='2.Strategy'!$D$95,H$242,\"\")","v":""},{"$f":"IF('2.Strategy'!H$14='2.Strategy'!$D$95,I$242,\"\")","v":""},{"$f":"IF('2.Strategy'!I$14='2.Strategy'!$D$95,J$242,\"\")","v":""},{"$f":"IF('2.Strategy'!J$14='2.Strategy'!$D$95,K$242,\"\")","v":""},{"$f":"IF('2.Strategy'!K$14='2.Strategy'!$D$95,L$242,\"\")","v":""},{"$f":"IF('2.Strategy'!L$14='2.Strategy'!$D$95,M$242,\"\")","v":""},{"$f":"IF('2.Strategy'!M$14='2.Strategy'!$D$95,N$242,\"\")","v":""},null,"Adjust the tables in the middle of the strategy page, that controls the error messages and the white cells within the strategy table"]
[40,"Standard seeding rate",{"$f":"IF('2.Strategy'!D$15='2.Strategy'!$D$97,E$242,\"\")","v":5},{"$f":"IF('2.Strategy'!E$15='2.Strategy'!$D$97,F$242,\"\")","v":""},{"$f":"IF('2.Strategy'!F$15='2.Strategy'!$D$97,G$242,\"\")","v":""},{"$f":"IF('2.Strategy'!G$15='2.Strategy'!$D$97,H$242,\"\")","v":""},{"$f":"IF('2.Strategy'!H$15='2.Strategy'!$D$97,I$242,\"\")","v":5},{"$f":"IF('2.Strategy'!I$15='2.Strategy'!$D$97,J$242,\"\")","v":""},{"$f":"IF('2.Strategy'!J$15='2.Strategy'!$D$97,K$242,\"\")","v":""},{"$f":"IF('2.Strategy'!K$15='2.Strategy'!$D$97,L$242,\"\")","v":""},{"$f":"IF('2.Strategy'!L$15='2.Strategy'!$D$97,M$242,\"\")","v":5},{"$f":"IF('2.Strategy'!M$15='2.Strategy'!$D$97,N$242,\"\")","v":""},null,"Number of selectives used",null,{"$f":"COUNTIF(C11:C12,\">=0\")+SUM(P35:P39)","v":1},{"$f":"COUNTIF(D11:D12,\">=0\")+SUM(Q35:Q39)","v":0},1,1,1,0,1,1,1,0,"only important if 0 or 1+ (then sub-lethal effect of selective on RG seed, spring)"]
[41,"Intermediate seeding rate",{"$f":"IF('2.Strategy'!D$15='2.Strategy'!$D$98,E$242,\"\")","v":""},{"$f":"IF('2.Strategy'!E$15='2.Strategy'!$D$98,F$242,\"\")","v":""},{"$f":"IF('2.Strategy'!F$15='2.Strategy'!$D$98,G$242,\"\")","v":""},{"$f":"IF('2.Strategy'!G$15='2.Strategy'!$D$98,H$242,\"\")","v":""},{"$f":"IF('2.Strategy'!H$15='2.Strategy'!$D$98,I$242,\"\")","v":""},{"$f":"IF('2.Strategy'!I$15='2.Strategy'!$D$98,J$242,\"\")","v":""},{"$f":"IF('2.Strategy'!J$15='2.Strategy'!$D$98,K$242,\"\")","v":""},{"$f":"IF('2.Strategy'!K$15='2.Strategy'!$D$98,L$242,\"\")","v":""},{"$f":"IF('2.Strategy'!L$15='2.Strategy'!$D$98,M$242,\"\")","v":""},{"$f":"IF('2.Strategy'!M$15='2.Strategy'!$D$98,N$242,\"\")","v":""},null,"Number of late non-selective application",null,{"$f":"COUNTIF(C37:C38,\">=0\")+COUNTIF(C26:C32,\">=0\")","v":0},{"$f":"COUNTIF(D37:D38,\">=0\")+COUNTIF(D26:D32,\">=0\")","v":1},0,1,0,1,0,1,0,1,"only important if 0 or 1+ (then sub-lethal effect of selective on RG seed, spring)"]
[42,"High seeding rate",{"$f":"IF('2.Strategy'!D$15='2.Strategy'!$D$99,E$242,\"\")","v":""},{"$f":"IF('2.Strategy'!E$15='2.Strategy'!$D$99,F$242,\"\")","v":""},{"$f":"IF('2.Strategy'!F$15='2.Strategy'!$D$99,G$242,\"\")","v":""},{"$f":"IF('2.Strategy'!G$15='2.Strategy'!$D$99,H$242,\"\")","v":""},{"$f":"IF('2.Strategy'!H$15='2.Strategy'!$D$99,I$242,\"\")","v":""},{"$f":"IF('2.Strategy'!I$15='2.Strategy'!$D$99,J$242,\"\")","v":""},{"$f":"IF('2.Strategy'!J$15='2.Strategy'!$D$99,K$242,\"\")","v":""},{"$f":"IF('2.Strategy'!K$15='2.Strategy'!$D$99,L$242,\"\")","v":""},{"$f":"IF('2.Strategy'!L$15='2.Strategy'!$D$99,M$242,\"\")","v":""},{"$f":"IF('2.Strategy'!M$15='2.Strategy'!$D$99,N$242,\"\")","v":""}]
[43,"Cover crops",{"$f":"IF('2.Strategy'!D$16='2.Strategy'!$P$99,E$242,\"\")","v":""},{"$f":"IF('2.Strategy'!E$16='2.Strategy'!$P$99,F$242,\"\")","v":""},{"$f":"IF('2.Strategy'!F$16='2.Strategy'!$P$99,G$242,\"\")","v":""},{"$f":"IF('2.Strategy'!G$16='2.Strategy'!$P$99,H$242,\"\")","v":""},{"$f":"IF('2.Strategy'!H$16='2.Strategy'!$P$99,I$242,\"\")","v":""},{"$f":"IF('2.Strategy'!I$16='2.Strategy'!$P$99,J$242,\"\")","v":""},{"$f":"IF('2.Strategy'!J$16='2.Strategy'!$P$99,K$242,\"\")","v":""},{"$f":"IF('2.Strategy'!K$16='2.Strategy'!$P$99,L$242,\"\")","v":""},{"$f":"IF('2.Strategy'!L$16='2.Strategy'!$P$99,M$242,\"\")","v":""},{"$f":"IF('2.Strategy'!M$16='2.Strategy'!$P$99,N$242,\"\")","v":""}]
[44,"No cover crops",{"$f":"IF('2.Strategy'!D$16='2.Strategy'!$P$100,E$242,\"\")","v":5},{"$f":"IF('2.Strategy'!E$16='2.Strategy'!$P$100,F$242,\"\")","v":""},{"$f":"IF('2.Strategy'!F$16='2.Strategy'!$P$100,G$242,\"\")","v":""},{"$f":"IF('2.Strategy'!G$16='2.Strategy'!$P$100,H$242,\"\")","v":""},{"$f":"IF('2.Strategy'!H$16='2.Strategy'!$P$100,I$242,\"\")","v":5},{"$f":"IF('2.Strategy'!I$16='2.Strategy'!$P$100,J$242,\"\")","v":""},{"$f":"IF('2.Strategy'!J$16='2.Strategy'!$P$100,K$242,\"\")","v":""},{"$f":"IF('2.Strategy'!K$16='2.Strategy'!$P$100,L$242,\"\")","v":""},{"$f":"IF('2.Strategy'!L$16='2.Strategy'!$P$100,M$242,\"\")","v":5},{"$f":"IF('2.Strategy'!M$16='2.Strategy'!$P$100,N$242,\"\")","v":""}]
[45,{"$f":"\"Post-E: \"&'1.Profile'!C22","v":"Post-E: Topik"},{"$f":"IF(AND('2.Strategy'!D$17='2.Strategy'!$P$89,'1.Profile'!$C22<>\"\"),E$242,\"\")","v":""},{"$f":"IF(AND('2.Strategy'!E$17='2.Strategy'!$P$89,'1.Profile'!$C22<>\"\"),F$242,\"\")","v":""},{"$f":"IF(AND('2.Strategy'!F$17='2.Strategy'!$P$89,'1.Profile'!$C22<>\"\"),G$242,\"\")","v":""},{"$f":"IF(AND('2.Strategy'!G$17='2.Strategy'!$P$89,'1.Profile'!$C22<>\"\"),H$242,\"\")","v":""},{"$f":"IF(AND('2.Strategy'!H$17='2.Strategy'!$P$89,'1.Profile'!$C22<>\"\"),I$242,\"\")","v":""},{"$f":"IF(AND('2.Strategy'!I$17='2.Strategy'!$P$89,'1.Profile'!$C22<>\"\"),J$242,\"\")","v":""},{"$f":"IF(AND('2.Strategy'!J$17='2.Strategy'!$P$89,'1.Profile'!$C22<>\"\"),K$242,\"\")","v":""},{"$f":"IF(AND('2.Strategy'!K$17='2.Strategy'!$P$89,'1.Profile'!$C22<>\"\"),L$242,\"\")","v":""},{"$f":"IF(AND('2.Strategy'!L$17='2.Strategy'!$P$89,'1.Profile'!$C22<>\"\"),M$242,\"\")","v":""},{"$f":"IF(AND('2.Strategy'!M$17='2.Strategy'!$P$89,'1.Profile'!$C22<>\"\"),N$242,\"\")","v":""}]
[46,{"$f":"\"Post-E: \"&'1.Profile'!C23","v":"Post-E: Atlantis OD"},{"$f":"IF(AND('2.Strategy'!D$17='2.Strategy'!$P$90,'1.Profile'!$C23<>\"\"),E$242,\"\")","v":""},{"$f":"IF(AND('2.Strategy'!E$17='2.Strategy'!$P$90,'1.Profile'!$C23<>\"\"),F$242,\"\")","v":""},{"$f":"IF(AND('2.Strategy'!F$17='2.Strategy'!$P$90,'1.Profile'!$C23<>\"\"),G$242,\"\")","v":""},{"$f":"IF(AND('2.Strategy'!G$17='2.Strategy'!$P$90,'1.Profile'!$C23<>\"\"),H$242,\"\")","v":""},{"$f":"IF(AND('2.Strategy'!H$17='2.Strategy'!$P$90,'1.Profile'!$C23<>\"\"),I$242,\"\")","v":""},{"$f":"IF(AND('2.Strategy'!I$17='2.Strategy'!$P$90,'1.Profile'!$C23<>\"\"),J$242,\"\")","v":""},{"$f":"IF(AND('2.Strategy'!J$17='2.Strategy'!$P$90,'1.Profile'!$C23<>\"\"),K$242,\"\")","v":""},{"$f":"IF(AND('2.Strategy'!K$17='2.Strategy'!$P$90,'1.Profile'!$C23<>\"\"),L$242,\"\")","v":""},{"$f":"IF(AND('2.Strategy'!L$17='2.Strategy'!$P$90,'1.Profile'!$C23<>\"\"),M$242,\"\")","v":""},{"$f":"IF(AND('2.Strategy'!M$17='2.Strategy'!$P$90,'1.Profile'!$C23<>\"\"),N$242,\"\")","v":""}]
[47,{"$f":"\"Post-E: \"&'1.Profile'!C24","v":"Post-E: Hussar Plus OD"},{"$f":"IF(AND('2.Strategy'!D$17='2.Strategy'!$P$91,'1.Profile'!$C24<>\"\"),E$242,\"\")","v":5},{"$f":"IF(AND('2.Strategy'!E$17='2.Strategy'!$P$91,'1.Profile'!$C24<>\"\"),F$242,\"\")","v":""},{"$f":"IF(AND('2.Strategy'!F$17='2.Strategy'!$P$91,'1.Profile'!$C24<>\"\"),G$242,\"\")","v":1},{"$f":"IF(AND('2.Strategy'!G$17='2.Strategy'!$P$91,'1.Profile'!$C24<>\"\"),H$242,\"\")","v":""},{"$f":"IF(AND('2.Strategy'!H$17='2.Strategy'!$P$91,'1.Profile'!$C24<>\"\"),I$242,\"\")","v":5},{"$f":"IF(AND('2.Strategy'!I$17='2.Strategy'!$P$91,'1.Profile'!$C24<>\"\"),J$242,\"\")","v":""},{"$f":"IF(AND('2.Strategy'!J$17='2.Strategy'!$P$91,'1.Profile'!$C24<>\"\"),K$242,\"\")","v":1},{"$f":"IF(AND('2.Strategy'!K$17='2.Strategy'!$P$91,'1.Profile'!$C24<>\"\"),L$242,\"\")","v":""},{"$f":"IF(AND('2.Strategy'!L$17='2.Strategy'!$P$91,'1.Profile'!$C24<>\"\"),M$242,\"\")","v":5},{"$f":"IF(AND('2.Strategy'!M$17='2.Strategy'!$P$91,'1.Profile'!$C24<>\"\"),N$242,\"\")","v":""}]
[48,{"$f":"\"Post-E: \"&'1.Profile'!C25","v":"Post-E: Broadway"},{"$f":"IF(AND('2.Strategy'!D$17='2.Strategy'!$P$92,'1.Profile'!$C25<>\"\"),E$242,\"\")","v":""},{"$f":"IF(AND('2.Strategy'!E$17='2.Strategy'!$P$92,'1.Profile'!$C25<>\"\"),F$242,\"\")","v":""},{"$f":"IF(AND('2.Strategy'!F$17='2.Strategy'!$P$92,'1.Profile'!$C25<>\"\"),G$242,\"\")","v":""},{"$f":"IF(AND('2.Strategy'!G$17='2.Strategy'!$P$92,'1.Profile'!$C25<>\"\"),H$242,\"\")","v":""},{"$f":"IF(AND('2.Strategy'!H$17='2.Strategy'!$P$92,'1.Profile'!$C25<>\"\"),I$242,\"\")","v":""},{"$f":"IF(AND('2.Strategy'!I$17='2.Strategy'!$P$92,'1.Profile'!$C25<>\"\"),J$242,\"\")","v":""},{"$f":"IF(AND('2.Strategy'!J$17='2.Strategy'!$P$92,'1.Profile'!$C25<>\"\"),K$242,\"\")","v":""},{"$f":"IF(AND('2.Strategy'!K$17='2.Strategy'!$P$92,'1.Profile'!$C25<>\"\"),L$242,\"\")","v":""},{"$f":"IF(AND('2.Strategy'!L$17='2.Strategy'!$P$92,'1.Profile'!$C25<>\"\"),M$242,\"\")","v":""},{"$f":"IF(AND('2.Strategy'!M$17='2.Strategy'!$P$92,'1.Profile'!$C25<>\"\"),N$242,\"\")","v":""}]
[49,{"$f":"\"Post-E: \"&'1.Profile'!C26","v":"Post-E: Cossack OD"},{"$f":"IF(AND('2.Strategy'!D$17='2.Strategy'!$P$93,'1.Profile'!$C26<>\"\"),E$242,\"\")","v":""},{"$f":"IF(AND('2.Strategy'!E$17='2.Strategy'!$P$93,'1.Profile'!$C26<>\"\"),F$242,\"\")","v":""},{"$f":"IF(AND('2.Strategy'!F$17='2.Strategy'!$P$93,'1.Profile'!$C26<>\"\"),G$242,\"\")","v":""},{"$f":"IF(AND('2.Strategy'!G$17='2.Strategy'!$P$93,'1.Profile'!$C26<>\"\"),H$242,\"\")","v":""},{"$f":"IF(AND('2.Strategy'!H$17='2.Strategy'!$P$93,'1.Profile'!$C26<>\"\"),I$242,\"\")","v":""},{"$f":"IF(AND('2.Strategy'!I$17='2.Strategy'!$P$93,'1.Profile'!$C26<>\"\"),J$242,\"\")","v":""},{"$f":"IF(AND('2.Strategy'!J$17='2.Strategy'!$P$93,'1.Profile'!$C26<>\"\"),K$242,\"\")","v":""},{"$f":"IF(AND('2.Strategy'!K$17='2.Strategy'!$P$93,'1.Profile'!$C26<>\"\"),L$242,\"\")","v":""},{"$f":"IF(AND('2.Strategy'!L$17='2.Strategy'!$P$93,'1.Profile'!$C26<>\"\"),M$242,\"\")","v":""},{"$f":"IF(AND('2.Strategy'!M$17='2.Strategy'!$P$93,'1.Profile'!$C26<>\"\"),N$242,\"\")","v":""}]
[50,{"$f":"\"Post-E: \"&'1.Profile'!C27","v":"Post-E: Focus Ultra"},{"$f":"IF(AND('2.Strategy'!D$17='2.Strategy'!$P$94,'1.Profile'!$C27<>\"\"),E$242,\"\")","v":""},{"$f":"IF(AND('2.Strategy'!E$17='2.Strategy'!$P$94,'1.Profile'!$C27<>\"\"),F$242,\"\")","v":""},{"$f":"IF(AND('2.Strategy'!F$17='2.Strategy'!$P$94,'1.Profile'!$C27<>\"\"),G$242,\"\")","v":""},{"$f":"IF(AND('2.Strategy'!G$17='2.Strategy'!$P$94,'1.Profile'!$C27<>\"\"),H$242,\"\")","v":""},{"$f":"IF(AND('2.Strategy'!H$17='2.Strategy'!$P$94,'1.Profile'!$C27<>\"\"),I$242,\"\")","v":""},{"$f":"IF(AND('2.Strategy'!I$17='2.Strategy'!$P$94,'1.Profile'!$C27<>\"\"),J$242,\"\")","v":""},{"$f":"IF(AND('2.Strategy'!J$17='2.Strategy'!$P$94,'1.Profile'!$C27<>\"\"),K$242,\"\")","v":""},{"$f":"IF(AND('2.Strategy'!K$17='2.Strategy'!$P$94,'1.Profile'!$C27<>\"\"),L$242,\"\")","v":""},{"$f":"IF(AND('2.Strategy'!L$17='2.Strategy'!$P$94,'1.Profile'!$C27<>\"\"),M$242,\"\")","v":""},{"$f":"IF(AND('2.Strategy'!M$17='2.Strategy'!$P$94,'1.Profile'!$C27<>\"\"),N$242,\"\")","v":""}]
[51,{"$f":"\"Post-E: \"&'1.Profile'!C28","v":"Post-E: Kerb"},{"$f":"IF(AND('2.Strategy'!D$17='2.Strategy'!$P$95,'1.Profile'!$C28<>\"\"),E$242,\"\")","v":""},{"$f":"IF(AND('2.Strategy'!E$17='2.Strategy'!$P$95,'1.Profile'!$C28<>\"\"),F$242,\"\")","v":""},{"$f":"IF(AND('2.Strategy'!F$17='2.Strategy'!$P$95,'1.Profile'!$C28<>\"\"),G$242,\"\")","v":""},{"$f":"IF(AND('2.Strategy'!G$17='2.Strategy'!$P$95,'1.Profile'!$C28<>\"\"),H$242,\"\")","v":""},{"$f":"IF(AND('2.Strategy'!H$17='2.Strategy'!$P$95,'1.Profile'!$C28<>\"\"),I$242,\"\")","v":""},{"$f":"IF(AND('2.Strategy'!I$17='2.Strategy'!$P$95,'1.Profile'!$C28<>\"\"),J$242,\"\")","v":""},{"$f":"IF(AND('2.Strategy'!J$17='2.Strategy'!$P$95,'1.Profile'!$C28<>\"\"),K$242,\"\")","v":""},{"$f":"IF(AND('2.Strategy'!K$17='2.Strategy'!$P$95,'1.Profile'!$C28<>\"\"),L$242,\"\")","v":""},{"$f":"IF(AND('2.Strategy'!L$17='2.Strategy'!$P$95,'1.Profile'!$C28<>\"\"),M$242,\"\")","v":""},{"$f":"IF(AND('2.Strategy'!M$17='2.Strategy'!$P$95,'1.Profile'!$C28<>\"\"),N$242,\"\")","v":""}]
[52,"Summer option: None",{"$f":"IF('2.Strategy'!D$18='2.Strategy'!$D$101,E$242,\"\")","v":5},{"$f":"IF('2.Strategy'!E$18='2.Strategy'!$D$101,F$242,\"\")","v":4},{"$f":"IF('2.Strategy'!F$18='2.Strategy'!$D$101,G$242,\"\")","v":1},{"$f":"IF('2.Strategy'!G$18='2.Strategy'!$D$101,H$242,\"\")","v":1},{"$f":"IF('2.Strategy'!H$18='2.Strategy'!$D$101,I$242,\"\")","v":5},{"$f":"IF('2.Strategy'!I$18='2.Strategy'!$D$101,J$242,\"\")","v":4},{"$f":"IF('2.Strategy'!J$18='2.Strategy'!$D$101,K$242,\"\")","v":1},{"$f":"IF('2.Strategy'!K$18='2.Strategy'!$D$101,L$242,\"\")","v":1},{"$f":"IF('2.Strategy'!L$18='2.Strategy'!$D$101,M$242,\"\")","v":5},{"$f":"IF('2.Strategy'!M$18='2.Strategy'!$D$101,N$242,\"\")","v":4}]
[53,"Summer option: dessication",{"$f":"IF('2.Strategy'!D$18='2.Strategy'!$D$102,E$242,\"\")","v":""},{"$f":"IF('2.Strategy'!E$18='2.Strategy'!$D$102,F$242,\"\")","v":""},{"$f":"IF('2.Strategy'!F$18='2.Strategy'!$D$102,G$242,\"\")","v":""},{"$f":"IF('2.Strategy'!G$18='2.Strategy'!$D$102,H$242,\"\")","v":""},{"$f":"IF('2.Strategy'!H$18='2.Strategy'!$D$102,I$242,\"\")","v":""},{"$f":"IF('2.Strategy'!I$18='2.Strategy'!$D$102,J$242,\"\")","v":""},{"$f":"IF('2.Strategy'!J$18='2.Strategy'!$D$102,K$242,\"\")","v":""},{"$f":"IF('2.Strategy'!K$18='2.Strategy'!$D$102,L$242,\"\")","v":""},{"$f":"IF('2.Strategy'!L$18='2.Strategy'!$D$102,M$242,\"\")","v":""},{"$f":"IF('2.Strategy'!M$18='2.Strategy'!$D$102,N$242,\"\")","v":""}]
[54,"Summer option: crop sacrifies",{"$f":"IF('2.Strategy'!D$18='2.Strategy'!$D$103,E$242,\"\")","v":""},{"$f":"IF('2.Strategy'!E$18='2.Strategy'!$D$103,F$242,\"\")","v":""},{"$f":"IF('2.Strategy'!F$18='2.Strategy'!$D$103,G$242,\"\")","v":""},{"$f":"IF('2.Strategy'!G$18='2.Strategy'!$D$103,H$242,\"\")","v":""},{"$f":"IF('2.Strategy'!H$18='2.Strategy'!$D$103,I$242,\"\")","v":""},{"$f":"IF('2.Strategy'!I$18='2.Strategy'!$D$103,J$242,\"\")","v":""},{"$f":"IF('2.Strategy'!J$18='2.Strategy'!$D$103,K$242,\"\")","v":""},{"$f":"IF('2.Strategy'!K$18='2.Strategy'!$D$103,L$242,\"\")","v":""},{"$f":"IF('2.Strategy'!L$18='2.Strategy'!$D$103,M$242,\"\")","v":""},{"$f":"IF('2.Strategy'!M$18='2.Strategy'!$D$103,N$242,\"\")","v":""}]
[55,{"$f":"\"Summer option: \"&'1.Profile'!C32","v":"Summer option: Mulighed 1"},{"$f":"IF('2.Strategy'!D$18='2.Strategy'!$D$104,E$242,\"\")","v":""},{"$f":"IF('2.Strategy'!E$18='2.Strategy'!$D$104,F$242,\"\")","v":""},{"$f":"IF('2.Strategy'!F$18='2.Strategy'!$D$104,G$242,\"\")","v":""},{"$f":"IF('2.Strategy'!G$18='2.Strategy'!$D$104,H$242,\"\")","v":""},{"$f":"IF('2.Strategy'!H$18='2.Strategy'!$D$104,I$242,\"\")","v":""},{"$f":"IF('2.Strategy'!I$18='2.Strategy'!$D$104,J$242,\"\")","v":""},{"$f":"IF('2.Strategy'!J$18='2.Strategy'!$D$104,K$242,\"\")","v":""},{"$f":"IF('2.Strategy'!K$18='2.Strategy'!$D$104,L$242,\"\")","v":""},{"$f":"IF('2.Strategy'!L$18='2.Strategy'!$D$104,M$242,\"\")","v":""},{"$f":"IF('2.Strategy'!M$18='2.Strategy'!$D$104,N$242,\"\")","v":""}]
[56,{"$f":"\"Summer option: \"&'1.Profile'!C33","v":"Summer option: Mulighed 2"},{"$f":"IF('2.Strategy'!D$18='2.Strategy'!$D$105,E$242,\"\")","v":""},{"$f":"IF('2.Strategy'!E$18='2.Strategy'!$D$105,F$242,\"\")","v":""},{"$f":"IF('2.Strategy'!F$18='2.Strategy'!$D$105,G$242,\"\")","v":""},{"$f":"IF('2.Strategy'!G$18='2.Strategy'!$D$105,H$242,\"\")","v":""},{"$f":"IF('2.Strategy'!H$18='2.Strategy'!$D$105,I$242,\"\")","v":""},{"$f":"IF('2.Strategy'!I$18='2.Strategy'!$D$105,J$242,\"\")","v":""},{"$f":"IF('2.Strategy'!J$18='2.Strategy'!$D$105,K$242,\"\")","v":""},{"$f":"IF('2.Strategy'!K$18='2.Strategy'!$D$105,L$242,\"\")","v":""},{"$f":"IF('2.Strategy'!L$18='2.Strategy'!$D$105,M$242,\"\")","v":""},{"$f":"IF('2.Strategy'!M$18='2.Strategy'!$D$105,N$242,\"\")","v":""}]
[57,"Harvester with bale presser",{"$f":"IF('2.Strategy'!D$19='2.Strategy'!$D$107,E$242,\"\")","v":""},{"$f":"IF('2.Strategy'!E$19='2.Strategy'!$D$107,F$242,\"\")","v":""},{"$f":"IF('2.Strategy'!F$19='2.Strategy'!$D$107,G$242,\"\")","v":""},{"$f":"IF('2.Strategy'!G$19='2.Strategy'!$D$107,H$242,\"\")","v":""},{"$f":"IF('2.Strategy'!H$19='2.Strategy'!$D$107,I$242,\"\")","v":""},{"$f":"IF('2.Strategy'!I$19='2.Strategy'!$D$107,J$242,\"\")","v":""},{"$f":"IF('2.Strategy'!J$19='2.Strategy'!$D$107,K$242,\"\")","v":""},{"$f":"IF('2.Strategy'!K$19='2.Strategy'!$D$107,L$242,\"\")","v":""},{"$f":"IF('2.Strategy'!L$19='2.Strategy'!$D$107,M$242,\"\")","v":""},{"$f":"IF('2.Strategy'!M$19='2.Strategy'!$D$107,N$242,\"\")","v":""}]
[58,"Harvester with chopping of straws",{"$f":"IF('2.Strategy'!D$19='2.Strategy'!$D$108,E$242,\"\")","v":5},{"$f":"IF('2.Strategy'!E$19='2.Strategy'!$D$108,F$242,\"\")","v":""},{"$f":"IF('2.Strategy'!F$19='2.Strategy'!$D$108,G$242,\"\")","v":1},{"$f":"IF('2.Strategy'!G$19='2.Strategy'!$D$108,H$242,\"\")","v":1},{"$f":"IF('2.Strategy'!H$19='2.Strategy'!$D$108,I$242,\"\")","v":5},{"$f":"IF('2.Strategy'!I$19='2.Strategy'!$D$108,J$242,\"\")","v":""},{"$f":"IF('2.Strategy'!J$19='2.Strategy'!$D$108,K$242,\"\")","v":1},{"$f":"IF('2.Strategy'!K$19='2.Strategy'!$D$108,L$242,\"\")","v":1},{"$f":"IF('2.Strategy'!L$19='2.Strategy'!$D$108,M$242,\"\")","v":5},{"$f":"IF('2.Strategy'!M$19='2.Strategy'!$D$108,N$242,\"\")","v":""}]
[59,"Oilseed rape, harvest",{"$f":"IF('2.Strategy'!D$19='2.Strategy'!$D$109,E$242,\"\")","v":""},{"$f":"IF('2.Strategy'!E$19='2.Strategy'!$D$109,F$242,\"\")","v":4},{"$f":"IF('2.Strategy'!F$19='2.Strategy'!$D$109,G$242,\"\")","v":""},{"$f":"IF('2.Strategy'!G$19='2.Strategy'!$D$109,H$242,\"\")","v":""},{"$f":"IF('2.Strategy'!H$19='2.Strategy'!$D$109,I$242,\"\")","v":""},{"$f":"IF('2.Strategy'!I$19='2.Strategy'!$D$109,J$242,\"\")","v":4},{"$f":"IF('2.Strategy'!J$19='2.Strategy'!$D$109,K$242,\"\")","v":""},{"$f":"IF('2.Strategy'!K$19='2.Strategy'!$D$109,L$242,\"\")","v":""},{"$f":"IF('2.Strategy'!L$19='2.Strategy'!$D$109,M$242,\"\")","v":""},{"$f":"IF('2.Strategy'!M$19='2.Strategy'!$D$109,N$242,\"\")","v":4}]
[60,"Oilseed rape, harvest, with swathing",{"$f":"IF('2.Strategy'!D$19='2.Strategy'!$D$110,E$242,\"\")","v":""},{"$f":"IF('2.Strategy'!E$19='2.Strategy'!$D$110,F$242,\"\")","v":""},{"$f":"IF('2.Strategy'!F$19='2.Strategy'!$D$110,G$242,\"\")","v":""},{"$f":"IF('2.Strategy'!G$19='2.Strategy'!$D$110,H$242,\"\")","v":""},{"$f":"IF('2.Strategy'!H$19='2.Strategy'!$D$110,I$242,\"\")","v":""},{"$f":"IF('2.Strategy'!I$19='2.Strategy'!$D$110,J$242,\"\")","v":""},{"$f":"IF('2.Strategy'!J$19='2.Strategy'!$D$110,K$242,\"\")","v":""},{"$f":"IF('2.Strategy'!K$19='2.Strategy'!$D$110,L$242,\"\")","v":""},{"$f":"IF('2.Strategy'!L$19='2.Strategy'!$D$110,M$242,\"\")","v":""},{"$f":"IF('2.Strategy'!M$19='2.Strategy'!$D$110,N$242,\"\")","v":""}]
[61,"Legumes, harvest with chopping",{"$f":"IF('2.Strategy'!D$19='2.Strategy'!$D$111,E$242,\"\")","v":""},{"$f":"IF('2.Strategy'!E$19='2.Strategy'!$D$111,F$242,\"\")","v":""},{"$f":"IF('2.Strategy'!F$19='2.Strategy'!$D$111,G$242,\"\")","v":""},{"$f":"IF('2.Strategy'!G$19='2.Strategy'!$D$111,H$242,\"\")","v":""},{"$f":"IF('2.Strategy'!H$19='2.Strategy'!$D$111,I$242,\"\")","v":""},{"$f":"IF('2.Strategy'!I$19='2.Strategy'!$D$111,J$242,\"\")","v":""},{"$f":"IF('2.Strategy'!J$19='2.Strategy'!$D$111,K$242,\"\")","v":""},{"$f":"IF('2.Strategy'!K$19='2.Strategy'!$D$111,L$242,\"\")","v":""},{"$f":"IF('2.Strategy'!L$19='2.Strategy'!$D$111,M$242,\"\")","v":""},{"$f":"IF('2.Strategy'!M$19='2.Strategy'!$D$111,N$242,\"\")","v":""}]
[null,"Seed Catching"]
[null,"None/grass",{"$f":"IF('2.Strategy'!D$19='2.Strategy'!$D$112,E$242,\"\")","v":""},{"$f":"IF('2.Strategy'!E$19='2.Strategy'!$D$112,F$242,\"\")","v":""},{"$f":"IF('2.Strategy'!F$19='2.Strategy'!$D$112,G$242,\"\")","v":""},{"$f":"IF('2.Strategy'!G$19='2.Strategy'!$D$112,H$242,\"\")","v":""},{"$f":"IF('2.Strategy'!H$19='2.Strategy'!$D$112,I$242,\"\")","v":""},{"$f":"IF('2.Strategy'!I$19='2.Strategy'!$D$112,J$242,\"\")","v":""},{"$f":"IF('2.Strategy'!J$19='2.Strategy'!$D$112,K$242,\"\")","v":""},{"$f":"IF('2.Strategy'!K$19='2.Strategy'!$D$112,L$242,\"\")","v":""},{"$f":"IF('2.Strategy'!L$19='2.Strategy'!$D$112,M$242,\"\")","v":""},{"$f":"IF('2.Strategy'!M$19='2.Strategy'!$D$112,N$242,\"\")","v":""},null,"Table 2a. Ryegrass control (%) ",null,null,null,null,null,null,null,null,null,null,null,null,null,null,"Legend to the Control and Costs tables:"]
[1,"Table 2. Selected RG control (%)","Proportions of weeds or seeds surviving each selected option.",null,null,null,null,null,null,null,null,null,null,"W wheat","W barley","W Rye","W Oilseed","S Barley","S oat","S Wheat","Legume","Grass","Grass/clover"]
[2,null," =1-Control % as specified in Table 2.a on the right.",null,null,null,null,null,null,null,null,null,null,1,2,3,4,5,6,7,8,9,10,null,null,null,null,null,22,"results from calculations"]
[3,"Glyphosate Early",{"$f":"IF(C7<>\"\",C75*C76*C77,1)","v":1},{"$f":"IF(D7<>\"\",D75*D76*D77,1)","v":1},1,1,1,1,1,1,1,1,null,null,null,null,null,null,null,null,null,null,null,"Options' with the ryegrass options on the right",null,null,null,null,22,"linked to either Profile, Prices, Option pages"]
[4,"Glyphosate Intermediate",{"$f":"IF(C8<>\"\",C75*C76*C77,1)","v":1},{"$f":"IF(D8<>\"\",D75*D76*D77,1)","v":1},1,1,1,1,1,1,1,1,null,null,null,null,null,null,null,null,null,null,null,null,null,null,null,null,null,"(interface or background calculations)"]
[5,"Glyphosate Late",{"$f":"IF(C9<>\"\",C75*C76*C77,1)","v":1},{"$f":"IF(D9<>\"\",D75*D76*D77,1)","v":1},1,1,1,1,1,1,1,1]
[6,"None",{"$f":"IF(C10<>\"\",1-(HLOOKUP(C10,$N$71:$W$77,$A74)),1)","v":1},{"$f":"IF(D10<>\"\",1-(HLOOKUP(D10,$N$71:$W$77,$A74)),1)","v":1},1,1,1,1,1,1,1,1,null,0,0,0,0,null,null,null,null,null,null,"From 'Profile'"]
[7,{"$f":"\"Glyphosate rate: \"&'1.Profile'!C16","v":"Glyphosate rate: 540"},{"$f":"IF(C11<>\"\",1-(HLOOKUP(C11,$N$71:$W$77,$A75)),1)","v":1},{"$f":"IF(D11<>\"\",1-(HLOOKUP(D11,$N$71:$W$77,$A75)),1)","v":1},1,1,1,1,1,1,1,1,null,{"$f":"'1.Profile'!I16","v":0.85},{"$f":"'1.Profile'!I16","v":0.85},{"$f":"'1.Profile'!I16","v":0.85},{"$f":"'1.Profile'!K16","v":0.85}]
[8,{"$f":"\"Glyphosate rate: \"&'1.Profile'!C17","v":"Glyphosate rate: 1080"},{"$f":"IF(C12<>\"\",1-(HLOOKUP(C12,$N$71:$W$77,$A76)),1)","v":1},{"$f":"IF(D12<>\"\",1-(HLOOKUP(D12,$N$71:$W$77,$A76)),1)","v":1},1,1,1,1,1,1,1,1,null,{"$f":"'1.Profile'!I17","v":0.95},{"$f":"'1.Profile'!I17","v":0.95},{"$f":"'1.Profile'!I17","v":0.95},{"$f":"'1.Profile'!K17","v":0.95},null,null,null,null,null,null,null,null,null,null,null,"References for ryegrass control values"]
[9,"Plough and pack",null,null,null,null,null,null,null,null,null,null,null,null,null,null,null,null,null,null,null,null,null,null,null,null,null,null,"Many people have had input to these control percentages. In reality they vary widely from year to year and from farm to farm and are hence left to the user to define."]
[10,"Reduced tillage",null,"The control % is applied to the  'time of seeding' options, below.",null,null,null,null,null,null,null,null,null,null,"Seeding timing/type","Plough","Red. till","No-till",null,null,null,null,null,null,null,null,null,null,"A number of those weed control options and their parameters are reviewed in:"]
[11,"No-till",null,null,null,null,null,null,null,null,null,null,null,null,"Early",{"$f":"'+Options'!$AG$124","v":0.9},{"$f":"'+Options'!$Q$24","v":0.6},{"$f":"'+Options'!$Q$25","v":0.4}]
[12,"Early sowing",{"$f":"IF(AND(C13<>\"\",C16<>\"\"),1-$P$80,IF(AND(C14<>\"\",C16<>\"\"),1-$Q$80,IF(AND(C15<>\"\",C16<>\"\"),1-$R$80,1)))","v":1},{"$f":"IF(AND(D13<>\"\",D16<>\"\"),1-$P$80,IF(AND(D14<>\"\",D16<>\"\"),1-$Q$80,IF(AND(D15<>\"\",D16<>\"\"),1-$R$80,1)))","v":9.9999999999999978E-2},1,9.9999999999999978E-2,1,9.9999999999999978E-2,1,9.9999999999999978E-2,1,9.9999999999999978E-2,null,null,"Intermediate",{"$f":"'+Options'!$AG$124","v":0.9},{"$f":"'+Options'!$Q$24","v":0.6},{"$f":"'+Options'!$Q$25","v":0.4},"NB, No connection to crop in column heading",null,null,null,null,null,null,null,null,null,"Walsh, M. and Powles, S. (2007) Management Strategies for Herbicide-Resistant Weed Populations in Australian Dryland Crop Production Systems. Weed Technology 21:332–338"]
[13,"Intermediate sowing",{"$f":"IF(AND(C13<>\"\",C17<>\"\"),1-$P$81,IF(AND(C14<>\"\",C17<>\"\"),1-$Q$81,IF(AND(C15<>\"\",C17<>\"\"),1-$R$81,1)))","v":1},{"$f":"IF(AND(D13<>\"\",D17<>\"\"),1-$P$81,IF(AND(D14<>\"\",D17<>\"\"),1-$Q$81,IF(AND(D15<>\"\",D17<>\"\"),1-$R$81,1)))","v":1},1,1,1,1,1,1,1,1,null,null,"Late",{"$f":"'+Options'!$AG$124","v":0.9},{"$f":"'+Options'!$Q$24","v":0.6},{"$f":"'+Options'!$Q$25","v":0.4},null,null,null,null,null,null,null,null,null,null,"Goggin, D.E., Powles, S.B. and Steadman, K,J. (2012) Understanding Lolium rigidum Seeds: The Key to Managing a Problem Weed? Agronomy 2:222-239"]
[14,"Late Sowing",{"$f":"IF(AND(C13<>\"\",C18<>\"\"),1-$P$82,IF(AND(C14<>\"\",C18<>\"\"),1-$Q$82,IF(AND(C15<>\"\",C18<>\"\"),1-$R$82,1)))","v":1},{"$f":"IF(AND(D13<>\"\",D18<>\"\"),1-$P$82,IF(AND(D14<>\"\",D18<>\"\"),1-$Q$82,IF(AND(D15<>\"\",D18<>\"\"),1-$R$82,1)))","v":1},9.9999999999999978E-2,1,1,1,9.9999999999999978E-2,1,1,1,null,null,null,null,null,null,null,null,null,null,null,null,null,null,null,null,"Walsh, M. and P. Newman (2007) Burning narrow windrows for weed seed destruction. Field Crops Research 104:24–30."]
[15,"Standard seeding rate",null,null,null,null,null,null,null,null,null,null,null,null,null,null,null,null,null,null,null,null,null,null,null,null,null,null,"Walsh, M., Harrington, R. and Powles, S (2012) Harrington Seed Destructor: a new non-chemical weed control tool for global grain crops. Crop Science (2012) 52:1343-1347"]
[16,"Intermediate seeding rate",null,"Dealt with in Bio results",null,null,null,null,null,null,null,null,null,null,null,null,null,null,null,null,null,null,null,null,null,null,null,null,{"$f":"'1.Profile'!E49","v":0}]
[17,"High seeding rate"]
[18,"Cover crops, dealt with in Bio results table 2",{"$f":"IF(C22<>\"\",1-(HLOOKUP(C22,$N$71:$U$130,17)),1)","v":1},{"$f":"IF(D22<>\"\",1-(HLOOKUP(D22,$N$71:$U$130,17)),1)","v":1},1,1,1,1,1,1,1,1,null,{"$f":"'1.Profile'!$O$8","v":0.02},{"$f":"'1.Profile'!$O$8","v":0.02},{"$f":"'1.Profile'!$O$8","v":0.02},{"$f":"'1.Profile'!$O$8","v":0.02},null,null,null,null,"From 'Profile'",null,null,null,null,null,null,"Knock-down:",null,0.95]
[19,"No cover crops ",{"$f":"IF(C23<>\"\",1-(HLOOKUP(C23,$N$71:$U$130,18)),1)","v":1},{"$f":"IF(D23<>\"\",1-(HLOOKUP(D23,$N$71:$U$130,18)),1)","v":1},1,1,1,1,1,1,1,1,null,0,0,0,0,null,null,null,null,null,null,null,null,null,null,null,"Double-knock:",null,1]
[20,{"$f":"\"Pre-E: \"&'1.Profile'!C19","v":"Pre-E: Boxer 1 l"},{"$f":"IF(C24<>\"\",1-(HLOOKUP(C24,$N$71:$U$130,19)),1)","v":1},{"$f":"IF(D24<>\"\",1-(HLOOKUP(D24,$N$71:$U$130,19)),1)","v":1},0.37,0.37,1,1,0.37,0.37,1,1,null,{"$f":"'1.Profile'!I19","v":0.63},{"$f":"'1.Profile'!I19","v":0.63},{"$f":"'1.Profile'!I19","v":0.63},{"$f":"'1.Profile'!K19","v":0},null,null,null,null,"From 'Profile'"]
[21,{"$f":"\"Pre-E: \"&'1.Profile'!C20","v":"Pre-E: Boxer 2 l"},{"$f":"IF(C25<>\"\",1-(HLOOKUP(C25,$N$71:$U$130,20)),1)","v":1},{"$f":"IF(D25<>\"\",1-(HLOOKUP(D25,$N$71:$U$130,20)),1)","v":1},1,1,1,1,1,1,1,1,null,{"$f":"'1.Profile'!I20","v":0.85},{"$f":"'1.Profile'!I20","v":0.85},{"$f":"'1.Profile'!I20","v":0.85},{"$f":"'1.Profile'!K20","v":0},null,null,null,null,null,null,null,null,null,null,null,"Tickle:",null,0]
[22,{"$f":"\"Post-E: \"&'1.Profile'!C22","v":"Post-E: Topik"},{"$f":"IF(C26<>\"\",1-(HLOOKUP(C26,$N$71:$U$130,21)),1)","v":1},{"$f":"IF(D26<>\"\",1-(HLOOKUP(D26,$N$71:$U$130,21)),1)","v":1},1,0.32999999999999996,1,1,1,0.32999999999999996,1,1,null,{"$f":"'1.Profile'!$I$22","v":0.67},{"$f":"'1.Profile'!$I$22","v":0.67},{"$f":"'1.Profile'!$I$22","v":0.67},{"$f":"'1.Profile'!$K$22","v":0},null,null,null,null,"From 'Profile'",null,null,null,null,null,null,"Mouldboard plough",null,1]
[23,{"$f":"\"Post-E: \"&'1.Profile'!C23","v":"Post-E: Atlantis OD"},{"$f":"IF(C27<>\"\",1-(HLOOKUP(C27,$N$71:$U$130,22)),1)","v":1},{"$f":"IF(D27<>\"\",1-(HLOOKUP(D27,$N$71:$U$130,22)),1)","v":1},1,1,1,1,1,1,1,1,null,{"$f":"'1.Profile'!$I$23","v":0.97},{"$f":"'1.Profile'!$I$23","v":0.97},{"$f":"'1.Profile'!$I$23","v":0.97},{"$f":"'1.Profile'!$K$23","v":0},null,null,null,null,null,null,null,null,null,null,null,"No-till:",null,0.05,"same if delayed"]
[24,{"$f":"\"Post-E: \"&'1.Profile'!C24","v":"Post-E: Hussar Plus OD"},{"$f":"IF(C28<>\"\",1-(HLOOKUP(C28,$N$71:$U$130,23)),1)","v":1},{"$f":"IF(D28<>\"\",1-(HLOOKUP(D28,$N$71:$U$130,23)),1)","v":1},1,1,1,1,1,1,1,1,null,{"$f":"'1.Profile'!$I$24","v":0.94},{"$f":"'1.Profile'!$I$24","v":0.94},{"$f":"'1.Profile'!$I$24","v":0.94},{"$f":"'1.Profile'!$K$24","v":0},null,null,null,null,null,null,null,null,null,null,null,"Full-cut:",null,0.8,"same if delayed"]
[25,{"$f":"\"Post-E: \"&'1.Profile'!C25","v":"Post-E: Broadway"},{"$f":"IF(C29<>\"\",1-(HLOOKUP(C29,$N$71:$U$130,24)),1)","v":1},{"$f":"IF(D29<>\"\",1-(HLOOKUP(D29,$N$71:$U$130,24)),1)","v":1},1,1,1,1,1,1,1,1,null,{"$f":"'1.Profile'!$I$25","v":0.86},{"$f":"'1.Profile'!$I$25","v":0.86},{"$f":"'1.Profile'!$I$25","v":0.86},{"$f":"'1.Profile'!$K$25","v":0}]
[26,{"$f":"\"Post-E: \"&'1.Profile'!C26","v":"Post-E: Cossack OD"},{"$f":"IF(C30<>\"\",1-(HLOOKUP(C30,$N$71:$U$130,25)),1)","v":1},{"$f":"IF(D30<>\"\",1-(HLOOKUP(D30,$N$71:$U$130,25)),1)","v":1},1,1,1,1,1,1,1,1,null,{"$f":"'1.Profile'!$I$26","v":0.98},{"$f":"'1.Profile'!$I$26","v":0.98},{"$f":"'1.Profile'!$I$26","v":0.98},{"$f":"'1.Profile'!$K$26","v":0},null,null,null,null,null,null,null,null,null,null,null,"Sacrifice + spray:",null,1,null,"0% if no no-selectives"]
[27,{"$f":"\"Post-E: \"&'1.Profile'!C27","v":"Post-E: Focus Ultra"},{"$f":"IF(C31<>\"\",1-(HLOOKUP(C31,$N$71:$U$130,26)),1)","v":1},{"$f":"IF(D31<>\"\",1-(HLOOKUP(D31,$N$71:$U$130,26)),1)","v":1},1,1,1,1,1,1,1,1,null,{"$f":"'1.Profile'!$I$27","v":0},{"$f":"'1.Profile'!$I$27","v":0},{"$f":"'1.Profile'!$I$27","v":0},{"$f":"'1.Profile'!$K$27","v":0.95},null,null,null,null,null,null,null,null,null,null,null,"Topping: crops: 75%   pastures: 90%"]
[28,{"$f":"\"Post-E: \"&'1.Profile'!C28","v":"Post-E: Kerb"},{"$f":"IF(C32<>\"\",1-(HLOOKUP(C32,$N$71:$U$130,27)),1)","v":1},{"$f":"IF(D32<>\"\",1-(HLOOKUP(D32,$N$71:$U$130,27)),1)","v":7.999999999999996E-2},1,1,1,7.999999999999996E-2,1,1,1,7.999999999999996E-2,null,{"$f":"'1.Profile'!$I$28","v":0},{"$f":"'1.Profile'!$I$28","v":0},{"$f":"'1.Profile'!$I$28","v":0},{"$f":"'1.Profile'!$K$28","v":0.92},null,null,null,null,null,null,null,null,null,null,null,"n.a."]
[29,"Glyphosate Early",{"$f":"IF(C33<>\"\",C101*C102*C103,1)","v":1},1,1,1,1,1,1,1,1,1,null,null,null,null,null,null,null,null,null,null,null,null,null,null,null,null,"Sacrifice + spray:",null,1]
[30,"Glyphosate Medium",{"$f":"IF(C34<>\"\",C101*C102*C103,1)","v":1},1,1,1,1,1,1,1,1,1,null,null,null,null,null,null,null,null,null,null,null,null,null,null,null,null,"Sacrifice + spray:",null,1,null,"60% if no no-selectives"]
[31,"Glyphosate Late",{"$f":"IF(C35<>\"\",C101*C102*C103,1)","v":1},1,1,1,1,1,1,1,1,1,null,null,null,null,null,null,null,null,null,null,null,null,null,"Options",null,null,"Hay + spray",null,1]
[32,"None",{"$f":"IF(C36<>\"\",1-(HLOOKUP(C36,$N$71:$U$130,31)),1)","v":1},{"$f":"IF(D36<>\"\",1-(HLOOKUP(D36,$N$71:$U$130,31)),1)","v":1},1,1,1,1,1,1,1,1,null,null,null,null,null,0,0,0,0,null,null,null,null,null,null,null,"Silage: higher than hay"]
[33,{"$f":"\"Glyphosate rate: \"&'1.Profile'!C16","v":"Glyphosate rate: 540"},{"$f":"IF(C37<>\"\",1-(HLOOKUP(C37,$N$71:$U$130,32)),1)","v":1},{"$f":"IF(D37<>\"\",1-(HLOOKUP(D37,$N$71:$U$130,32)),1)","v":1},1,1,1,1,1,1,1,1,null,null,null,null,null,{"$f":"'1.Profile'!J16","v":0.85},{"$f":"'1.Profile'!J16","v":0.85},{"$f":"'1.Profile'!J16","v":0.85},{"$f":"'1.Profile'!L16","v":0.85},null,null,null,null,"Profile"]
[34,{"$f":"\"Glyphosate rate: \"&'1.Profile'!C17","v":"Glyphosate rate: 1080"},{"$f":"IF(C38<>\"\",1-(HLOOKUP(C38,$N$71:$U$130,33)),1)","v":1},{"$f":"IF(D38<>\"\",1-(HLOOKUP(D38,$N$71:$U$130,33)),1)","v":1},1,1,1,1,1,1,1,1,null,null,null,null,null,{"$f":"'1.Profile'!J17","v":0.95},{"$f":"'1.Profile'!J17","v":0.95},{"$f":"'1.Profile'!J17","v":0.95},{"$f":"'1.Profile'!L17","v":0.95}]
[35,"Need-based plough",null,null,null,null,null,null,null,null,null,null,null,null,null,null,null,null,null,null,null,null,null,null,null,"Options",null,null,"Swathe: legumes & canola: 35%   cereals: 45%"]
[36,"Plough",null,"The control % is applied to the  'time of seeding' options, below.",null,null,null,null,null,null,null,null,null,null,"Seeding timing/type","Prescriptive","Plough","Red. till","No-till",null,null,null,null,null,null,null,null,null,"Swathe + spray:",null,0.9]
[37,"Reduced tillage",null,null,null,null,null,null,null,null,null,null,null,null,"Early",{"$f":"'+Options'!$Q$22","v":0.98},{"$f":"'+Options'!$Q$23","v":0.9},{"$f":"'+Options'!$Q$24","v":0.6},{"$f":"'+Options'!$Q$25","v":0.4},"NB, Separate table",null,null,null,null,null,"Options",null,null,0.85,"--> RG controlled ~ 85% (+/- 20%), from:"]
[38,"No-till",null,null,null,null,null,null,null,null,null,null,null,null,"Intermediate",{"$f":"'+Options'!$Q$22","v":0.98},{"$f":"'+Options'!$Q$23","v":0.9},{"$f":"'+Options'!$Q$24","v":0.6},{"$f":"'+Options'!$Q$25","v":0.4},"No connection to crop in column heading row 66",null,null,null,null,null,null,null,null,0.85,"Ryegrass captured at harvest 88% (75-100%)."]
[39,"Early sowing",{"$f":"IF(C39<>\"\",1-$P$106,IF(AND(C40<>\"\",C43<>\"\"),1-$Q$106,IF(AND(C41<>\"\",C43<>\"\"),1-$R$106,IF(AND(C42<>\"\",C43<>\"\"),1-$S$106,1))))","v":9.9999999999999978E-2},1,1,1,9.9999999999999978E-2,1,1,1,9.9999999999999978E-2,1,null,null,"Late",{"$f":"'+Options'!$Q$22","v":0.98},{"$f":"'+Options'!$Q$23","v":0.9},{"$f":"'+Options'!$Q$24","v":0.6},{"$f":"'+Options'!$Q$25","v":0.4},null,null,null,null,null,null,null,null,null,0.85,"(combination of ryegrass seeds retention and header height) "]
[40,"Intermediate sowing",{"$f":"IF(C39<>\"\",1-$P$107,IF(AND(C40<>\"\",C44<>\"\"),1-$Q$107,IF(AND(C41<>\"\",C44<>\"\"),1-$R$107,IF(AND(C42<>\"\",C44<>\"\"),1-$S$107,1))))","v":1},1,1,1,1,1,1,1,1,1,null,"Skal behovsbaseret pløjning give forskellig effekt alt efter såtidspunkt? Formoder, nej, da man vel pløjer så tæt på såtidspunkt som muligt",null,null,null,null,null,null,null,null,null,null,null,null,null,null,0.85,"Proportion of seeds in chaff: 95%, closer to 100% if straw as well (narrow windrows and BDS)"]
[41,"Late Sowing",{"$f":"IF(C39<>\"\",1-$P$108,IF(AND(C40<>\"\",C45<>\"\"),1-$Q$108,IF(AND(C41<>\"\",C45<>\"\"),1-$R$108,IF(AND(C42<>\"\",C45<>\"\"),1-$S$108,1))))","v":1},1,1,1,1,1,1,1,1,1,null,"Dog er der flere rajgræs fremspiret, som man rammer med en senere jordbarbejdning og såning. Dermed skulle de senere tidspunkter give bedre kontrol",null,null,null,null,null,null,null,null,null,null,null,null,null,null,null,"Kill by high burn, export, crush, stumped+herbicide: 98% (95-100%)"]
[42,"Standard seeding rate",null,null,null,null,null,null,null,null,null,null,null,"The above is on need-based ploughing, whether the control is different depending on seeding time.",null,null,null,null,null,null,null,null,null,null,null,null,null,null,0.85]
[43,"Intermediate seeding rate",null,"Dealt with in Bio results",null,null,null,null,null,null,null,null,null,null,null,null,null,null,null,null,null,null,null,null,null,"Options",null,null,0.6,"Highly variable. Much lower for canola and legumes than cereals"]
[44,"High seeding rate",null,null,null,null,null,null,null,null,null,null,null,null,null,null,null,null,null,null,null,null,null,null,null,"Profile"]
[45,"Cover crops",{"$f":"IF(C49<>\"\",1-(HLOOKUP(C49,$N$71:$U$130,44)),1)","v":1},{"$f":"IF(D49<>\"\",1-(HLOOKUP(D49,$N$71:$U$130,44)),1)","v":1},1,1,1,1,1,1,1,1,null,null,null,null,null,{"$f":"'1.Profile'!$O$8","v":0.02},{"$f":"'1.Profile'!$O$8","v":0.02},{"$f":"'1.Profile'!$O$8","v":0.02},{"$f":"'1.Profile'!$O$8","v":0.02},null,null,null,null,null,null,null,null," "]
[46,"No cover crops",{"$f":"IF(C50<>\"\",1-(HLOOKUP(C50,$N$71:$U$130,45)),1)","v":1},{"$f":"IF(D50<>\"\",1-(HLOOKUP(D50,$N$71:$U$130,45)),1)","v":1},1,1,1,1,1,1,1,1,null,null,null,null,null,0,0,0,0]
[47,{"$f":"\"Post-E: \"&'1.Profile'!C22","v":"Post-E: Topik"},{"$f":"IF(C51<>\"\",1-(HLOOKUP(C51,$N$71:$U$130,46)),1)","v":1},{"$f":"IF(D51<>\"\",1-(HLOOKUP(D51,$N$71:$U$130,46)),1)","v":1},1,1,1,1,1,1,1,1,null,{"$f":"'1.Profile'!$I$22","v":0.67},{"$f":"'1.Profile'!$I$22","v":0.67},{"$f":"'1.Profile'!$I$22","v":0.67},{"$f":"'1.Profile'!$K$22","v":0},{"$f":"'1.Profile'!$J$22","v":0},{"$f":"'1.Profile'!$J$22","v":0},{"$f":"'1.Profile'!$J$22","v":0},{"$f":"'1.Profile'!$L$22","v":0}]
[48,{"$f":"\"Post-E: \"&'1.Profile'!C23","v":"Post-E: Atlantis OD"},{"$f":"IF(C52<>\"\",1-(HLOOKUP(C52,$N$71:$U$130,47)),1)","v":1},{"$f":"IF(D52<>\"\",1-(HLOOKUP(D52,$N$71:$U$130,47)),1)","v":1},1,1,1,1,1,1,1,1,null,{"$f":"'1.Profile'!$I$23","v":0.97},{"$f":"'1.Profile'!$I$23","v":0.97},{"$f":"'1.Profile'!$I$23","v":0.97},{"$f":"'1.Profile'!$K$23","v":0},{"$f":"'1.Profile'!$J$23","v":0},{"$f":"'1.Profile'!$J$23","v":0},{"$f":"'1.Profile'!$J$23","v":0},{"$f":"'1.Profile'!$L$23","v":0}]
[49,{"$f":"\"Post-E: \"&'1.Profile'!C24","v":"Post-E: Hussar Plus OD"},{"$f":"IF(C53<>\"\",1-(HLOOKUP(C53,$N$71:$U$130,48)),1)","v":0.18000000000000005},{"$f":"IF(D53<>\"\",1-(HLOOKUP(D53,$N$71:$U$130,48)),1)","v":1},6.0000000000000053E-2,1,0.18000000000000005,1,6.0000000000000053E-2,1,0.18000000000000005,1,null,{"$f":"'1.Profile'!$I$24","v":0.94},{"$f":"'1.Profile'!$I$24","v":0.94},{"$f":"'1.Profile'!$I$24","v":0.94},{"$f":"'1.Profile'!$K$24","v":0},{"$f":"'1.Profile'!$J$24","v":0.82},{"$f":"'1.Profile'!$J$24","v":0.82},{"$f":"'1.Profile'!$J$24","v":0.82},{"$f":"'1.Profile'!$L$24","v":0}]
[50,{"$f":"\"Post-E: \"&'1.Profile'!C25","v":"Post-E: Broadway"},{"$f":"IF(C54<>\"\",1-(HLOOKUP(C54,$N$71:$U$130,49)),1)","v":1},{"$f":"IF(D54<>\"\",1-(HLOOKUP(D54,$N$71:$U$130,49)),1)","v":1},1,1,1,1,1,1,1,1,null,{"$f":"'1.Profile'!$I$25","v":0.86},{"$f":"'1.Profile'!$I$25","v":0.86},{"$f":"'1.Profile'!$I$25","v":0.86},{"$f":"'1.Profile'!$K$25","v":0},{"$f":"'1.Profile'!$J$25","v":0},{"$f":"'1.Profile'!$J$25","v":0},{"$f":"'1.Profile'!$J$25","v":0},{"$f":"'1.Profile'!$L$25","v":0}]
[51,{"$f":"\"Post-E: \"&'1.Profile'!C26","v":"Post-E: Cossack OD"},{"$f":"IF(C55<>\"\",1-(HLOOKUP(C55,$N$71:$U$130,50)),1)","v":1},{"$f":"IF(D55<>\"\",1-(HLOOKUP(D55,$N$71:$U$130,50)),1)","v":1},1,1,1,1,1,1,1,1,null,{"$f":"'1.Profile'!$I$26","v":0.98},{"$f":"'1.Profile'!$I$26","v":0.98},{"$f":"'1.Profile'!$I$26","v":0.98},{"$f":"'1.Profile'!$K$26","v":0},{"$f":"'1.Profile'!$J$26","v":0},{"$f":"'1.Profile'!$J$26","v":0},{"$f":"'1.Profile'!$J$26","v":0},{"$f":"'1.Profile'!$L$26","v":0}]
[52,{"$f":"\"Post-E: \"&'1.Profile'!C27","v":"Post-E: Focus Ultra"},{"$f":"IF(C56<>\"\",1-(HLOOKUP(C56,$N$71:$U$130,51)),1)","v":1},{"$f":"IF(D56<>\"\",1-(HLOOKUP(D56,$N$71:$U$130,51)),1)","v":1},1,1,1,1,1,1,1,1,null,{"$f":"'1.Profile'!$I$27","v":0},{"$f":"'1.Profile'!$I$27","v":0},{"$f":"'1.Profile'!$I$27","v":0},{"$f":"'1.Profile'!$K$27","v":0.95},{"$f":"'1.Profile'!$J$27","v":0},{"$f":"'1.Profile'!$J$27","v":0},{"$f":"'1.Profile'!$J$27","v":0},{"$f":"'1.Profile'!$L$27","v":0.92}]
[53,{"$f":"\"Post-E: \"&'1.Profile'!C28","v":"Post-E: Kerb"},{"$f":"IF(C57<>\"\",1-(HLOOKUP(C57,$N$71:$U$130,52)),1)","v":1},{"$f":"IF(D57<>\"\",1-(HLOOKUP(D57,$N$71:$U$130,52)),1)","v":1},1,1,1,1,1,1,1,1,null,{"$f":"'1.Profile'!$I$28","v":0},{"$f":"'1.Profile'!$I$28","v":0},{"$f":"'1.Profile'!$I$28","v":0},{"$f":"'1.Profile'!$K$28","v":0.92},{"$f":"'1.Profile'!$J$28","v":0},{"$f":"'1.Profile'!$J$28","v":0},{"$f":"'1.Profile'!$J$28","v":0},{"$f":"'1.Profile'!$L$28","v":0}]
[54,"Summer option: None",{"$f":"IF(C58<>\"\",1-(HLOOKUP(C58,$N$71:$U$130,$A122)),1)","v":1},{"$f":"IF(D58<>\"\",1-(HLOOKUP(D58,$N$71:$U$130,$A122)),1)","v":1},1,1,1,1,1,1,1,1,null,0,0,0,0,0,0,0,0]
[55,"Summer option: dessication",{"$f":"IF(C59<>\"\",1-(HLOOKUP(C59,$N$71:$U$130,$A123)),1)","v":1},{"$f":"IF(D59<>\"\",1-(HLOOKUP(D59,$N$71:$U$130,$A123)),1)","v":1},1,1,1,1,1,1,1,1,null,{"$f":"'+Options'!$Q$26","v":0.05},{"$f":"'+Options'!$Q$26","v":0.05},{"$f":"'+Options'!$Q$26","v":0.05},{"$f":"'+Options'!$Q$26","v":0.05},{"$f":"'+Options'!$Q$26","v":0.05},{"$f":"'+Options'!$Q$26","v":0.05},{"$f":"'+Options'!$Q$26","v":0.05},{"$f":"'+Options'!$Q$26","v":0.05}]
[56,"Summer option: crop sacrifies",{"$f":"IF(C60<>\"\",1-(HLOOKUP(C60,$N$71:$U$130,$A124)),1)","v":1},{"$f":"IF(D60<>\"\",1-(HLOOKUP(D60,$N$71:$U$130,$A124)),1)","v":1},1,1,1,1,1,1,1,1,null,{"$f":"'+Options'!$Q$28","v":0.95},{"$f":"'+Options'!$Q$28","v":0.95},{"$f":"'+Options'!$Q$28","v":0.95},{"$f":"'+Options'!$Q$28","v":0.95},{"$f":"'+Options'!$Q$28","v":0.95},{"$f":"'+Options'!$Q$28","v":0.95},{"$f":"'+Options'!$Q$28","v":0.95},{"$f":"'+Options'!$Q$28","v":0.95}]
[57,{"$f":"\"Summer option: \"&'1.Profile'!C32","v":"Summer option: Mulighed 1"},{"$f":"IF(C61<>\"\",1-(HLOOKUP(C61,$N$71:$U$130,$A125)),1)","v":1},{"$f":"IF(D61<>\"\",1-(HLOOKUP(D61,$N$71:$U$130,$A125)),1)","v":1},1,1,1,1,1,1,1,1,null,{"$f":"'1.Profile'!I32","v":0},{"$f":"'1.Profile'!I32","v":0},{"$f":"'1.Profile'!I32","v":0},{"$f":"'1.Profile'!K32","v":0},{"$f":"'1.Profile'!I32","v":0},{"$f":"'1.Profile'!I32","v":0},{"$f":"'1.Profile'!I32","v":0},{"$f":"'1.Profile'!L32","v":0}]
[58,{"$f":"\"Summer option: \"&'1.Profile'!C33","v":"Summer option: Mulighed 2"},{"$f":"IF(C62<>\"\",1-(HLOOKUP(C62,$N$71:$U$130,$A126)),1)","v":1},{"$f":"IF(D62<>\"\",1-(HLOOKUP(D62,$N$71:$U$130,$A126)),1)","v":1},1,1,1,1,1,1,1,1,null,{"$f":"'1.Profile'!I33","v":0},{"$f":"'1.Profile'!I33","v":0},{"$f":"'1.Profile'!I33","v":0},{"$f":"'1.Profile'!K33","v":0},{"$f":"'1.Profile'!I33","v":0},{"$f":"'1.Profile'!I33","v":0},{"$f":"'1.Profile'!I33","v":0},{"$f":"'1.Profile'!L33","v":0}]
[59,"Harvester with bale presser",{"$f":"IF(C63<>\"\",1-(HLOOKUP(C63,$N$71:$W$134,$A127)),1)","v":1},{"$f":"IF(D63<>\"\",1-(HLOOKUP(D63,$N$71:$W$134,$A127)),1)","v":1},1,1,1,1,1,1,1,1,null,{"$f":"'+Options'!$AG$132","v":0.05},{"$f":"'+Options'!$AG$132","v":0.05},{"$f":"'+Options'!$AG$132","v":0.05},{"$f":"'+Options'!$AG$132","v":0.05},{"$f":"'+Options'!$AG$132","v":0.05},{"$f":"'+Options'!$AG$132","v":0.05},{"$f":"'+Options'!$AG$132","v":0.05},{"$f":"'+Options'!$AG$132","v":0.05}]
[60,"Harvester with chopping of straws",{"$f":"IF(C64<>\"\",1-(HLOOKUP(C64,$N$71:$W$134,$A128)),1)","v":0.95},{"$f":"IF(D64<>\"\",1-(HLOOKUP(D64,$N$71:$W$134,$A128)),1)","v":1},0.95,0.95,0.95,1,0.95,0.95,0.95,1,null,{"$f":"'+Options'!$AG$132","v":0.05},{"$f":"'+Options'!$AG$132","v":0.05},{"$f":"'+Options'!$AG$132","v":0.05},{"$f":"'+Options'!$AG$132","v":0.05},{"$f":"'+Options'!$AG$132","v":0.05},{"$f":"'+Options'!$AG$132","v":0.05},{"$f":"'+Options'!$AG$132","v":0.05},{"$f":"'+Options'!$AG$132","v":0.05}]
[61,"Oilseed rape, harvest",{"$f":"IF(C65<>\"\",1-(HLOOKUP(C65,$N$71:$W$134,$A129)),1)","v":1},{"$f":"IF(D65<>\"\",1-(HLOOKUP(D65,$N$71:$W$134,$A129)),1)","v":0.95},1,1,1,0.95,1,1,1,0.95,null,{"$f":"'+Options'!$AG$132","v":0.05},{"$f":"'+Options'!$AG$132","v":0.05},{"$f":"'+Options'!$AG$132","v":0.05},{"$f":"'+Options'!$AG$132","v":0.05},{"$f":"'+Options'!$AG$132","v":0.05},{"$f":"'+Options'!$AG$132","v":0.05},{"$f":"'+Options'!$AG$132","v":0.05},{"$f":"'+Options'!$AG$132","v":0.05}]
[62,"Oilseed rape, harvest, with swathing",{"$f":"IF(C66<>\"\",1-(HLOOKUP(C66,$N$71:$W$134,$A130)),1)","v":1},{"$f":"IF(D66<>\"\",1-(HLOOKUP(D66,$N$71:$W$134,$A130)),1)","v":1},1,1,1,1,1,1,1,1,null,{"$f":"'+Options'!$AG$132","v":0.05},{"$f":"'+Options'!$AG$132","v":0.05},{"$f":"'+Options'!$AG$132","v":0.05},{"$f":"'+Options'!$AG$132","v":0.05},{"$f":"'+Options'!$AG$132","v":0.05},{"$f":"'+Options'!$AG$132","v":0.05},{"$f":"'+Options'!$AG$132","v":0.05},{"$f":"'+Options'!$AG$132","v":0.05}]
[63,"Legumes, harvest with chopping",{"$f":"IF(C67<>\"\",1-(HLOOKUP(C67,$N$71:$W$134,$A131)),1)","v":1},{"$f":"IF(D67<>\"\",1-(HLOOKUP(D67,$N$71:$W$134,$A131)),1)","v":1},1,1,1,1,1,1,1,1,null,{"$f":"'+Options'!$AG$132","v":0.05},{"$f":"'+Options'!$AG$132","v":0.05},{"$f":"'+Options'!$AG$132","v":0.05},{"$f":"'+Options'!$AG$132","v":0.05},{"$f":"'+Options'!$AG$132","v":0.05},{"$f":"'+Options'!$AG$132","v":0.05},{"$f":"'+Options'!$AG$132","v":0.05},{"$f":"'+Options'!$AG$132","v":0.05}]
[null,"Seed Catching",null,null,null,null,null,null,null,null,null,null,null,{"$f":"'+Options'!$AU$29","v":0.85},{"$f":"'+Options'!$AU$29","v":0.85},{"$f":"'+Options'!$AU$29","v":0.85},{"$f":"'+Options'!$AU$29","v":0.85},{"$f":"'+Options'!$AU$29","v":0.85},{"$f":"'+Options'!$AU$29","v":0.85},{"$f":"'+Options'!$AU$29","v":0.85},{"$f":"'+Options'!$AU$29","v":0.85}]
[null,"None/grass",{"$f":"IF(C69<>\"\",1-(HLOOKUP(C69,$N$71:$W$134,$A133)),1)","v":1},{"$f":"IF(D69<>\"\",1-(HLOOKUP(D69,$N$71:$W$134,$A133)),1)","v":1},1,1,1,1,1,1,1,1,null,0,0,0,0,0,0,0,0,0.95,0.95]
[null,null,null,null,null,null,null,null,null,null,null,null,null,null,"Table 3a Options costs (kr/ha)"]
[null,null,null,null,null,null,null,null,null,null,null,null,null,"W wheat","W barley","W Rye","W Oilseed","S Barley","S oat","S Wheat","Legume",null,null,null,"Table 3b. Generic costs (kr/ha)"]
[null,"Table 3. Selected costs (kr/ha)","Cost of each selected option, ploughing costs include fungicides etc..",null,null,null,null,null,null,null,null,null,null,1,2,3,4,5,6,7,8,null,"Added",null,null,null,null,"Cereals","Oilseed","Legumes"]
[1,"Glyphosate Early",null,null,null,null,null,null,null,null,null,null,null,null,null,null,null,null,null,null,null,null,null,"+boom","Cost by boom of herbicide/pesticide application (kr/ha)",null,null,{"$f":"'1.Profile'!$F$10","v":75},{"$f":"'1.Profile'!$F$10","v":75},{"$f":"'1.Profile'!$F$10","v":75}]
[2,"Glyphosate Intermediate",null,"The cost is applied to the 'Glyphosate rate' below"]
[3,"Glyphosate Late",null,null,null,null,null,null,null,null,null,null,null,null,null,null,null,null,null,null,null,null,null,"+SP"]
[4,"None ",{"$f":"IF(C10=1,Calcs!$N141,IF(C10=2,Calcs!$O141,IF(C10=3,Calcs!$P141,IF(C10=4,Calcs!$Q141,IF(C10=5,Calcs!$R141,IF(C10=6,Calcs!$S141,IF(C10=7,Calcs!$T141,IF(C10=8,Calcs!$U141,0))))))))","v":0},{"$f":"IF(D10=1,Calcs!$N141,IF(D10=2,Calcs!$O141,IF(D10=3,Calcs!$P141,IF(D10=4,Calcs!$Q141,IF(D10=5,Calcs!$R141,IF(D10=6,Calcs!$S141,IF(D10=7,Calcs!$T141,IF(D10=8,Calcs!$U141,0))))))))","v":0},{"$f":"IF(E10=1,Calcs!$N141,IF(E10=2,Calcs!$O141,IF(E10=3,Calcs!$P141,IF(E10=4,Calcs!$Q141,IF(E10=5,Calcs!$R141,IF(E10=6,Calcs!$S141,IF(E10=7,Calcs!$T141,IF(E10=8,Calcs!$U141,0))))))))","v":0},{"$f":"IF(F10=1,Calcs!$N141,IF(F10=2,Calcs!$O141,IF(F10=3,Calcs!$P141,IF(F10=4,Calcs!$Q141,IF(F10=5,Calcs!$R141,IF(F10=6,Calcs!$S141,IF(F10=7,Calcs!$T141,IF(F10=8,Calcs!$U141,0))))))))","v":0},{"$f":"IF(G10=1,Calcs!$N141,IF(G10=2,Calcs!$O141,IF(G10=3,Calcs!$P141,IF(G10=4,Calcs!$Q141,IF(G10=5,Calcs!$R141,IF(G10=6,Calcs!$S141,IF(G10=7,Calcs!$T141,IF(G10=8,Calcs!$U141,0))))))))","v":0},{"$f":"IF(H10=1,Calcs!$N141,IF(H10=2,Calcs!$O141,IF(H10=3,Calcs!$P141,IF(H10=4,Calcs!$Q141,IF(H10=5,Calcs!$R141,IF(H10=6,Calcs!$S141,IF(H10=7,Calcs!$T141,IF(H10=8,Calcs!$U141,0))))))))","v":0},{"$f":"IF(I10=1,Calcs!$N141,IF(I10=2,Calcs!$O141,IF(I10=3,Calcs!$P141,IF(I10=4,Calcs!$Q141,IF(I10=5,Calcs!$R141,IF(I10=6,Calcs!$S141,IF(I10=7,Calcs!$T141,IF(I10=8,Calcs!$U141,0))))))))","v":0},{"$f":"IF(J10=1,Calcs!$N141,IF(J10=2,Calcs!$O141,IF(J10=3,Calcs!$P141,IF(J10=4,Calcs!$Q141,IF(J10=5,Calcs!$R141,IF(J10=6,Calcs!$S141,IF(J10=7,Calcs!$T141,IF(J10=8,Calcs!$U141,0))))))))","v":0},{"$f":"IF(K10=1,Calcs!$N141,IF(K10=2,Calcs!$O141,IF(K10=3,Calcs!$P141,IF(K10=4,Calcs!$Q141,IF(K10=5,Calcs!$R141,IF(K10=6,Calcs!$S141,IF(K10=7,Calcs!$T141,IF(K10=8,Calcs!$U141,0))))))))","v":0},{"$f":"IF(L10=1,Calcs!$N141,IF(L10=2,Calcs!$O141,IF(L10=3,Calcs!$P141,IF(L10=4,Calcs!$Q141,IF(L10=5,Calcs!$R141,IF(L10=6,Calcs!$S141,IF(L10=7,Calcs!$T141,IF(L10=8,Calcs!$U141,0))))))))","v":0},null,0,0,0,0,null,null,null,null,"Profile",null,"+sp"]
[5,{"$f":"\"Glyphosate rate: \"&'1.Profile'!C16","v":"Glyphosate rate: 540"},{"$f":"IF(C11=1,Calcs!$N142,IF(C11=2,Calcs!$O142,IF(C11=3,Calcs!$P142,IF(C11=4,Calcs!$Q142,IF(C11=5,Calcs!$R142,IF(C11=6,Calcs!$S142,IF(C11=7,Calcs!$T142,IF(C11=8,Calcs!$U142,0))))))))","v":0},{"$f":"IF(D11=1,Calcs!$N142,IF(D11=2,Calcs!$O142,IF(D11=3,Calcs!$P142,IF(D11=4,Calcs!$Q142,IF(D11=5,Calcs!$R142,IF(D11=6,Calcs!$S142,IF(D11=7,Calcs!$T142,IF(D11=8,Calcs!$U142,0))))))))","v":0},{"$f":"IF(E11=1,Calcs!$N142,IF(E11=2,Calcs!$O142,IF(E11=3,Calcs!$P142,IF(E11=4,Calcs!$Q142,IF(E11=5,Calcs!$R142,IF(E11=6,Calcs!$S142,IF(E11=7,Calcs!$T142,IF(E11=8,Calcs!$U142,0))))))))","v":0},{"$f":"IF(F11=1,Calcs!$N142,IF(F11=2,Calcs!$O142,IF(F11=3,Calcs!$P142,IF(F11=4,Calcs!$Q142,IF(F11=5,Calcs!$R142,IF(F11=6,Calcs!$S142,IF(F11=7,Calcs!$T142,IF(F11=8,Calcs!$U142,0))))))))","v":0},{"$f":"IF(G11=1,Calcs!$N142,IF(G11=2,Calcs!$O142,IF(G11=3,Calcs!$P142,IF(G11=4,Calcs!$Q142,IF(G11=5,Calcs!$R142,IF(G11=6,Calcs!$S142,IF(G11=7,Calcs!$T142,IF(G11=8,Calcs!$U142,0))))))))","v":0},{"$f":"IF(H11=1,Calcs!$N142,IF(H11=2,Calcs!$O142,IF(H11=3,Calcs!$P142,IF(H11=4,Calcs!$Q142,IF(H11=5,Calcs!$R142,IF(H11=6,Calcs!$S142,IF(H11=7,Calcs!$T142,IF(H11=8,Calcs!$U142,0))))))))","v":0},{"$f":"IF(I11=1,Calcs!$N142,IF(I11=2,Calcs!$O142,IF(I11=3,Calcs!$P142,IF(I11=4,Calcs!$Q142,IF(I11=5,Calcs!$R142,IF(I11=6,Calcs!$S142,IF(I11=7,Calcs!$T142,IF(I11=8,Calcs!$U142,0))))))))","v":0},{"$f":"IF(J11=1,Calcs!$N142,IF(J11=2,Calcs!$O142,IF(J11=3,Calcs!$P142,IF(J11=4,Calcs!$Q142,IF(J11=5,Calcs!$R142,IF(J11=6,Calcs!$S142,IF(J11=7,Calcs!$T142,IF(J11=8,Calcs!$U142,0))))))))","v":0},{"$f":"IF(K11=1,Calcs!$N142,IF(K11=2,Calcs!$O142,IF(K11=3,Calcs!$P142,IF(K11=4,Calcs!$Q142,IF(K11=5,Calcs!$R142,IF(K11=6,Calcs!$S142,IF(K11=7,Calcs!$T142,IF(K11=8,Calcs!$U142,0))))))))","v":0},{"$f":"IF(L11=1,Calcs!$N142,IF(L11=2,Calcs!$O142,IF(L11=3,Calcs!$P142,IF(L11=4,Calcs!$Q142,IF(L11=5,Calcs!$R142,IF(L11=6,Calcs!$S142,IF(L11=7,Calcs!$T142,IF(L11=8,Calcs!$U142,0))))))))","v":0},null,{"$f":"'1.Profile'!$E$16+AB138","v":150},{"$f":"'1.Profile'!$E$16+AB138","v":150},{"$f":"'1.Profile'!$E$16+AB138","v":150},{"$f":"'1.Profile'!$G$16+AC138","v":150},null,null,null,null,null,"+boom"]
[6,{"$f":"\"Glyphosate rate: \"&'1.Profile'!C17","v":"Glyphosate rate: 1080"},{"$f":"IF(C12=1,Calcs!$N143,IF(C12=2,Calcs!$O143,IF(C12=3,Calcs!$P143,IF(C12=4,Calcs!$Q143,IF(C12=5,Calcs!$R143,IF(C12=6,Calcs!$S143,IF(C12=7,Calcs!$T143,IF(C12=8,Calcs!$U143,0))))))))","v":0},{"$f":"IF(D12=1,Calcs!$N143,IF(D12=2,Calcs!$O143,IF(D12=3,Calcs!$P143,IF(D12=4,Calcs!$Q143,IF(D12=5,Calcs!$R143,IF(D12=6,Calcs!$S143,IF(D12=7,Calcs!$T143,IF(D12=8,Calcs!$U143,0))))))))","v":0},{"$f":"IF(E12=1,Calcs!$N143,IF(E12=2,Calcs!$O143,IF(E12=3,Calcs!$P143,IF(E12=4,Calcs!$Q143,IF(E12=5,Calcs!$R143,IF(E12=6,Calcs!$S143,IF(E12=7,Calcs!$T143,IF(E12=8,Calcs!$U143,0))))))))","v":0},{"$f":"IF(F12=1,Calcs!$N143,IF(F12=2,Calcs!$O143,IF(F12=3,Calcs!$P143,IF(F12=4,Calcs!$Q143,IF(F12=5,Calcs!$R143,IF(F12=6,Calcs!$S143,IF(F12=7,Calcs!$T143,IF(F12=8,Calcs!$U143,0))))))))","v":0},{"$f":"IF(G12=1,Calcs!$N143,IF(G12=2,Calcs!$O143,IF(G12=3,Calcs!$P143,IF(G12=4,Calcs!$Q143,IF(G12=5,Calcs!$R143,IF(G12=6,Calcs!$S143,IF(G12=7,Calcs!$T143,IF(G12=8,Calcs!$U143,0))))))))","v":0},{"$f":"IF(H12=1,Calcs!$N143,IF(H12=2,Calcs!$O143,IF(H12=3,Calcs!$P143,IF(H12=4,Calcs!$Q143,IF(H12=5,Calcs!$R143,IF(H12=6,Calcs!$S143,IF(H12=7,Calcs!$T143,IF(H12=8,Calcs!$U143,0))))))))","v":0},{"$f":"IF(I12=1,Calcs!$N143,IF(I12=2,Calcs!$O143,IF(I12=3,Calcs!$P143,IF(I12=4,Calcs!$Q143,IF(I12=5,Calcs!$R143,IF(I12=6,Calcs!$S143,IF(I12=7,Calcs!$T143,IF(I12=8,Calcs!$U143,0))))))))","v":0},{"$f":"IF(J12=1,Calcs!$N143,IF(J12=2,Calcs!$O143,IF(J12=3,Calcs!$P143,IF(J12=4,Calcs!$Q143,IF(J12=5,Calcs!$R143,IF(J12=6,Calcs!$S143,IF(J12=7,Calcs!$T143,IF(J12=8,Calcs!$U143,0))))))))","v":0},{"$f":"IF(K12=1,Calcs!$N143,IF(K12=2,Calcs!$O143,IF(K12=3,Calcs!$P143,IF(K12=4,Calcs!$Q143,IF(K12=5,Calcs!$R143,IF(K12=6,Calcs!$S143,IF(K12=7,Calcs!$T143,IF(K12=8,Calcs!$U143,0))))))))","v":0},{"$f":"IF(L12=1,Calcs!$N143,IF(L12=2,Calcs!$O143,IF(L12=3,Calcs!$P143,IF(L12=4,Calcs!$Q143,IF(L12=5,Calcs!$R143,IF(L12=6,Calcs!$S143,IF(L12=7,Calcs!$T143,IF(L12=8,Calcs!$U143,0))))))))","v":0},null,{"$f":"'1.Profile'!$E$17+AB138","v":225},{"$f":"'1.Profile'!$E$17+AB138","v":225},{"$f":"'1.Profile'!$E$17+AB138","v":225},{"$f":"'1.Profile'!$G$17+AC138","v":225},null,null,null,null,null,"+boom"]
[7,"Plough and pack",{"$f":"IF(C13=1,Calcs!$N144,IF(C13=2,Calcs!$O144,IF(C13=3,Calcs!$P144,IF(C13=4,Calcs!$Q144,IF(C13=5,Calcs!$R144,IF(C13=6,Calcs!$S144,IF(C13=7,Calcs!$T144,IF(C13=8,U144,0))))))))","v":0},{"$f":"IF(D13=1,Calcs!$N$144,IF(D13=2,Calcs!$O$144,IF(D13=3,Calcs!$P$144,IF(D13=4,Calcs!$Q$144,IF(D13=5,Calcs!$R$144,IF(D13=6,Calcs!$S$144,IF(D13=7,Calcs!$T$144,IF(D13=8,Calcs!$U$144,0))))))))","v":4842},{"$f":"IF(E13=1,Calcs!$N$144,IF(E13=2,Calcs!$O$144,IF(E13=3,Calcs!$P$144,IF(E13=4,Calcs!$Q$144,IF(E13=5,Calcs!$R$144,IF(E13=6,Calcs!$S$144,IF(E13=7,Calcs!$T$144,IF(E13=8,Calcs!$U$144,0))))))))","v":4842},{"$f":"IF(F13=1,Calcs!$N$144,IF(F13=2,Calcs!$O$144,IF(F13=3,Calcs!$P$144,IF(F13=4,Calcs!$Q$144,IF(F13=5,Calcs!$R$144,IF(F13=6,Calcs!$S$144,IF(F13=7,Calcs!$T$144,IF(F13=8,Calcs!$U$144,0))))))))","v":4842},{"$f":"IF(G13=1,Calcs!$N$144,IF(G13=2,Calcs!$O$144,IF(G13=3,Calcs!$P$144,IF(G13=4,Calcs!$Q$144,IF(G13=5,Calcs!$R$144,IF(G13=6,Calcs!$S$144,IF(G13=7,Calcs!$T$144,IF(G13=8,Calcs!$U$144,0))))))))","v":0},{"$f":"IF(H13=1,Calcs!$N$144,IF(H13=2,Calcs!$O$144,IF(H13=3,Calcs!$P$144,IF(H13=4,Calcs!$Q$144,IF(H13=5,Calcs!$R$144,IF(H13=6,Calcs!$S$144,IF(H13=7,Calcs!$T$144,IF(H13=8,Calcs!$U$144,0))))))))","v":4842},{"$f":"IF(I13=1,Calcs!$N$144,IF(I13=2,Calcs!$O$144,IF(I13=3,Calcs!$P$144,IF(I13=4,Calcs!$Q$144,IF(I13=5,Calcs!$R$144,IF(I13=6,Calcs!$S$144,IF(I13=7,Calcs!$T$144,IF(I13=8,Calcs!$U$144,0))))))))","v":4842},{"$f":"IF(J13=1,Calcs!$N$144,IF(J13=2,Calcs!$O$144,IF(J13=3,Calcs!$P$144,IF(J13=4,Calcs!$Q$144,IF(J13=5,Calcs!$R$144,IF(J13=6,Calcs!$S$144,IF(J13=7,Calcs!$T$144,IF(J13=8,Calcs!$U$144,0))))))))","v":4842},{"$f":"IF(K13=1,Calcs!$N$144,IF(K13=2,Calcs!$O$144,IF(K13=3,Calcs!$P$144,IF(K13=4,Calcs!$Q$144,IF(K13=5,Calcs!$R$144,IF(K13=6,Calcs!$S$144,IF(K13=7,Calcs!$T$144,IF(K13=8,Calcs!$U$144,0))))))))","v":0},{"$f":"IF(L13=1,Calcs!$N$144,IF(L13=2,Calcs!$O$144,IF(L13=3,Calcs!$P$144,IF(L13=4,Calcs!$Q$144,IF(L13=5,Calcs!$R$144,IF(L13=6,Calcs!$S$144,IF(L13=7,Calcs!$T$144,IF(L13=8,Calcs!$U$144,0))))))))","v":4842},null,{"$f":"'+Prices'!$AJ$95","v":4842},{"$f":"'+Prices'!$AJ$95","v":4842},{"$f":"'+Prices'!$AJ$95","v":4842},{"$f":"'+Prices'!$AJ$95","v":4842},null,null,null,null,"Prices"]
[8,"Reduced tillage",{"$f":"IF(C14=1,Calcs!$O145,IF(C14=2,Calcs!$P145,IF(C14=3,Calcs!$Q145,IF(C14=0,Calcs!$N145,IF(C14=5,Calcs!$S145,IF(C14=4,Calcs!$R145,IF(C14=6,Calcs!$T145,0)))))))","v":0},{"$f":"IF(D14=1,Calcs!$N$145,IF(D14=2,Calcs!$O$145,IF(D14=3,Calcs!$P$145,IF(D14=4,Calcs!$Q$145,IF(D14=5,Calcs!$R$145,IF(D14=6,Calcs!$S$145,IF(D14=7,Calcs!$T$145,IF(D14=8,Calcs!$U$145,0))))))))","v":0},{"$f":"IF(E14=1,Calcs!$N$145,IF(E14=2,Calcs!$O$145,IF(E14=3,Calcs!$P$145,IF(E14=4,Calcs!$Q$145,IF(E14=5,Calcs!$R$145,IF(E14=6,Calcs!$S$145,IF(E14=7,Calcs!$T$145,IF(E14=8,Calcs!$U$145,0))))))))","v":0},{"$f":"IF(F14=1,Calcs!$N$145,IF(F14=2,Calcs!$O$145,IF(F14=3,Calcs!$P$145,IF(F14=4,Calcs!$Q$145,IF(F14=5,Calcs!$R$145,IF(F14=6,Calcs!$S$145,IF(F14=7,Calcs!$T$145,IF(F14=8,Calcs!$U$145,0))))))))","v":0},{"$f":"IF(G14=1,Calcs!$N$145,IF(G14=2,Calcs!$O$145,IF(G14=3,Calcs!$P$145,IF(G14=4,Calcs!$Q$145,IF(G14=5,Calcs!$R$145,IF(G14=6,Calcs!$S$145,IF(G14=7,Calcs!$T$145,IF(G14=8,Calcs!$U$145,0))))))))","v":0},{"$f":"IF(H14=1,Calcs!$N$145,IF(H14=2,Calcs!$O$145,IF(H14=3,Calcs!$P$145,IF(H14=4,Calcs!$Q$145,IF(H14=5,Calcs!$R$145,IF(H14=6,Calcs!$S$145,IF(H14=7,Calcs!$T$145,IF(H14=8,Calcs!$U$145,0))))))))","v":0},{"$f":"IF(I14=1,Calcs!$N$145,IF(I14=2,Calcs!$O$145,IF(I14=3,Calcs!$P$145,IF(I14=4,Calcs!$Q$145,IF(I14=5,Calcs!$R$145,IF(I14=6,Calcs!$S$145,IF(I14=7,Calcs!$T$145,IF(I14=8,Calcs!$U$145,0))))))))","v":0},{"$f":"IF(J14=1,Calcs!$N$145,IF(J14=2,Calcs!$O$145,IF(J14=3,Calcs!$P$145,IF(J14=4,Calcs!$Q$145,IF(J14=5,Calcs!$R$145,IF(J14=6,Calcs!$S$145,IF(J14=7,Calcs!$T$145,IF(J14=8,Calcs!$U$145,0))))))))","v":0},{"$f":"IF(K14=1,Calcs!$N$145,IF(K14=2,Calcs!$O$145,IF(K14=3,Calcs!$P$145,IF(K14=4,Calcs!$Q$145,IF(K14=5,Calcs!$R$145,IF(K14=6,Calcs!$S$145,IF(K14=7,Calcs!$T$145,IF(K14=8,Calcs!$U$145,0))))))))","v":0},{"$f":"IF(L14=1,Calcs!$N$145,IF(L14=2,Calcs!$O$145,IF(L14=3,Calcs!$P$145,IF(L14=4,Calcs!$Q$145,IF(L14=5,Calcs!$R$145,IF(L14=6,Calcs!$S$145,IF(L14=7,Calcs!$T$145,IF(L14=8,Calcs!$U$145,0))))))))","v":0},null,{"$f":"'+Prices'!AJ96","v":4172},{"$f":"'+Prices'!AJ96","v":4172},{"$f":"'+Prices'!AJ96","v":4172},{"$f":"'+Prices'!AL96","v":3840},null,null,null,null,"Prices"]
[9,"No-till",{"$f":"IF(C15=1,Calcs!$O146,IF(C15=2,Calcs!$P146,IF(C15=3,Calcs!$Q146,IF(C15=0,Calcs!$N146,IF(C15=5,Calcs!$T146,IF(C15=4,Calcs!$R146,IF(C15=6,Calcs!$S146,0)))))))","v":0},{"$f":"IF(D15=1,Calcs!$N$146,IF(D15=2,Calcs!$O$146,IF(D15=3,Calcs!$P$146,IF(D15=4,Calcs!$Q$146,IF(D15=5,Calcs!$R$146,IF(D15=6,Calcs!$S$146,IF(D15=7,Calcs!$T$146,IF(D15=8,Calcs!$U$146,0))))))))","v":0},{"$f":"IF(E15=1,Calcs!$N$146,IF(E15=2,Calcs!$O$146,IF(E15=3,Calcs!$P$146,IF(E15=4,Calcs!$Q$146,IF(E15=5,Calcs!$R$146,IF(E15=6,Calcs!$S$146,IF(E15=7,Calcs!$T$146,IF(E15=8,Calcs!$U$146,0))))))))","v":0},{"$f":"IF(F15=1,Calcs!$N$146,IF(F15=2,Calcs!$O$146,IF(F15=3,Calcs!$P$146,IF(F15=4,Calcs!$Q$146,IF(F15=5,Calcs!$R$146,IF(F15=6,Calcs!$S$146,IF(F15=7,Calcs!$T$146,IF(F15=8,Calcs!$U$146,0))))))))","v":0},{"$f":"IF(G15=1,Calcs!$N$146,IF(G15=2,Calcs!$O$146,IF(G15=3,Calcs!$P$146,IF(G15=4,Calcs!$Q$146,IF(G15=5,Calcs!$R$146,IF(G15=6,Calcs!$S$146,IF(G15=7,Calcs!$T$146,IF(G15=8,Calcs!$U$146,0))))))))","v":0},{"$f":"IF(H15=1,Calcs!$N$146,IF(H15=2,Calcs!$O$146,IF(H15=3,Calcs!$P$146,IF(H15=4,Calcs!$Q$146,IF(H15=5,Calcs!$R$146,IF(H15=6,Calcs!$S$146,IF(H15=7,Calcs!$T$146,IF(H15=8,Calcs!$U$146,0))))))))","v":0},{"$f":"IF(I15=1,Calcs!$N$146,IF(I15=2,Calcs!$O$146,IF(I15=3,Calcs!$P$146,IF(I15=4,Calcs!$Q$146,IF(I15=5,Calcs!$R$146,IF(I15=6,Calcs!$S$146,IF(I15=7,Calcs!$T$146,IF(I15=8,Calcs!$U$146,0))))))))","v":0},{"$f":"IF(J15=1,Calcs!$N$146,IF(J15=2,Calcs!$O$146,IF(J15=3,Calcs!$P$146,IF(J15=4,Calcs!$Q$146,IF(J15=5,Calcs!$R$146,IF(J15=6,Calcs!$S$146,IF(J15=7,Calcs!$T$146,IF(J15=8,Calcs!$U$146,0))))))))","v":0},{"$f":"IF(K15=1,Calcs!$N$146,IF(K15=2,Calcs!$O$146,IF(K15=3,Calcs!$P$146,IF(K15=4,Calcs!$Q$146,IF(K15=5,Calcs!$R$146,IF(K15=6,Calcs!$S$146,IF(K15=7,Calcs!$T$146,IF(K15=8,Calcs!$U$146,0))))))))","v":0},{"$f":"IF(L15=1,Calcs!$N$146,IF(L15=2,Calcs!$O$146,IF(L15=3,Calcs!$P$146,IF(L15=4,Calcs!$Q$146,IF(L15=5,Calcs!$R$146,IF(L15=6,Calcs!$S$146,IF(L15=7,Calcs!$T$146,IF(L15=8,Calcs!$U$146,0))))))))","v":0},null,{"$f":"'+Prices'!AJ97","v":3852},{"$f":"'+Prices'!AJ97","v":3852},{"$f":"'+Prices'!AJ97","v":3852},{"$f":"'+Prices'!AL97","v":3520},null,null,null,null,"Prices"]
[10,"Early sowing",null,"Since sowing must occur anyway, the cost attributable to weed control is zero and "]
[11,"Intermediate sowing",null,"included instead in the non-weed control costs, from the Prices page to the "]
[12,"Late Sowing",null,"production cost table below, to the Eco results.",null,null,null,null,"Yield penalty accounted for in 'Bio results'."]
[13,"Standard seeding rate",{"$f":"IF(C19=1,Calcs!$N$150,IF(C19=2,Calcs!$O$150,IF(C19=3,Calcs!$P$150,IF(C19=4,Calcs!$Q$150,IF(C19=5,Calcs!$R$150,IF(C19=6,Calcs!$S$150,IF(C19=7,Calcs!$T$150,IF(C19=8,Calcs!$U$150,0))))))))","v":0},{"$f":"IF(D19=1,Calcs!$N$150,IF(D19=2,Calcs!$O$150,IF(D19=3,Calcs!$P$150,IF(D19=4,Calcs!$Q$150,IF(D19=5,Calcs!$R$150,IF(D19=6,Calcs!$S$150,IF(D19=7,Calcs!$T$150,IF(D19=8,Calcs!$U$150,0))))))))","v":374},{"$f":"IF(E19=1,Calcs!$N$150,IF(E19=2,Calcs!$O$150,IF(E19=3,Calcs!$P$150,IF(E19=4,Calcs!$Q$150,IF(E19=5,Calcs!$R$150,IF(E19=6,Calcs!$S$150,IF(E19=7,Calcs!$T$150,IF(E19=8,Calcs!$U$150,0))))))))","v":0},{"$f":"IF(F19=1,Calcs!$N$150,IF(F19=2,Calcs!$O$150,IF(F19=3,Calcs!$P$150,IF(F19=4,Calcs!$Q$150,IF(F19=5,Calcs!$R$150,IF(F19=6,Calcs!$S$150,IF(F19=7,Calcs!$T$150,IF(F19=8,Calcs!$U$150,0))))))))","v":442},{"$f":"IF(G19=1,Calcs!$N$150,IF(G19=2,Calcs!$O$150,IF(G19=3,Calcs!$P$150,IF(G19=4,Calcs!$Q$150,IF(G19=5,Calcs!$R$150,IF(G19=6,Calcs!$S$150,IF(G19=7,Calcs!$T$150,IF(G19=8,Calcs!$U$150,0))))))))","v":0},{"$f":"IF(H19=1,Calcs!$N$150,IF(H19=2,Calcs!$O$150,IF(H19=3,Calcs!$P$150,IF(H19=4,Calcs!$Q$150,IF(H19=5,Calcs!$R$150,IF(H19=6,Calcs!$S$150,IF(H19=7,Calcs!$T$150,IF(H19=8,Calcs!$U$150,0))))))))","v":374},{"$f":"IF(I19=1,Calcs!$N$150,IF(I19=2,Calcs!$O$150,IF(I19=3,Calcs!$P$150,IF(I19=4,Calcs!$Q$150,IF(I19=5,Calcs!$R$150,IF(I19=6,Calcs!$S$150,IF(I19=7,Calcs!$T$150,IF(I19=8,Calcs!$U$150,0))))))))","v":0},{"$f":"IF(J19=1,Calcs!$N$150,IF(J19=2,Calcs!$O$150,IF(J19=3,Calcs!$P$150,IF(J19=4,Calcs!$Q$150,IF(J19=5,Calcs!$R$150,IF(J19=6,Calcs!$S$150,IF(J19=7,Calcs!$T$150,IF(J19=8,Calcs!$U$150,0))))))))","v":442},{"$f":"IF(K19=1,Calcs!$N$150,IF(K19=2,Calcs!$O$150,IF(K19=3,Calcs!$P$150,IF(K19=4,Calcs!$Q$150,IF(K19=5,Calcs!$R$150,IF(K19=6,Calcs!$S$150,IF(K19=7,Calcs!$T$150,IF(K19=8,Calcs!$U$150,0))))))))","v":0},{"$f":"IF(L19=1,Calcs!$N$150,IF(L19=2,Calcs!$O$150,IF(L19=3,Calcs!$P$150,IF(L19=4,Calcs!$Q$150,IF(L19=5,Calcs!$R$150,IF(L19=6,Calcs!$S$150,IF(L19=7,Calcs!$T$150,IF(L19=8,Calcs!$U$150,0))))))))","v":374},null,{"$f":"'+Prices'!AJ91","v":442},{"$f":"'+Prices'!AK91","v":448},{"$f":"'+Prices'!AL91","v":360},{"$f":"'+Prices'!AP91","v":374},null,null,null,null,"Prices"]
[14,"Intermediate seeding rate",{"$f":"IF(C20=1,Calcs!$N$151,IF(C20=2,Calcs!$O$151,IF(C20=3,Calcs!$P$151,IF(C20=4,Calcs!$Q$151,IF(C20=5,Calcs!$R$151,IF(C20=6,Calcs!$S$151,IF(C20=7,Calcs!$T$151,IF(C20=8,Calcs!$U$151,0))))))))","v":0},{"$f":"IF(D20=1,Calcs!$N$151,IF(D20=2,Calcs!$O$151,IF(D20=3,Calcs!$P$151,IF(D20=4,Calcs!$Q$151,IF(D20=5,Calcs!$R$151,IF(D20=6,Calcs!$S$151,IF(D20=7,Calcs!$T$151,IF(D20=8,Calcs!$U$151,0))))))))","v":0},{"$f":"IF(E20=1,Calcs!$N$151,IF(E20=2,Calcs!$O$151,IF(E20=3,Calcs!$P$151,IF(E20=4,Calcs!$Q$151,IF(E20=5,Calcs!$R$151,IF(E20=6,Calcs!$S$151,IF(E20=7,Calcs!$T$151,IF(E20=8,Calcs!$U$151,0))))))))","v":0},{"$f":"IF(F20=1,Calcs!$N$151,IF(F20=2,Calcs!$O$151,IF(F20=3,Calcs!$P$151,IF(F20=4,Calcs!$Q$151,IF(F20=5,Calcs!$R$151,IF(F20=6,Calcs!$S$151,IF(F20=7,Calcs!$T$151,IF(F20=8,Calcs!$U$151,0))))))))","v":0},{"$f":"IF(G20=1,Calcs!$N$151,IF(G20=2,Calcs!$O$151,IF(G20=3,Calcs!$P$151,IF(G20=4,Calcs!$Q$151,IF(G20=5,Calcs!$R$151,IF(G20=6,Calcs!$S$151,IF(G20=7,Calcs!$T$151,IF(G20=8,Calcs!$U$151,0))))))))","v":0},{"$f":"IF(H20=1,Calcs!$N$151,IF(H20=2,Calcs!$O$151,IF(H20=3,Calcs!$P$151,IF(H20=4,Calcs!$Q$151,IF(H20=5,Calcs!$R$151,IF(H20=6,Calcs!$S$151,IF(H20=7,Calcs!$T$151,IF(H20=8,Calcs!$U$151,0))))))))","v":0},{"$f":"IF(I20=1,Calcs!$N$151,IF(I20=2,Calcs!$O$151,IF(I20=3,Calcs!$P$151,IF(I20=4,Calcs!$Q$151,IF(I20=5,Calcs!$R$151,IF(I20=6,Calcs!$S$151,IF(I20=7,Calcs!$T$151,IF(I20=8,Calcs!$U$151,0))))))))","v":0},{"$f":"IF(J20=1,Calcs!$N$151,IF(J20=2,Calcs!$O$151,IF(J20=3,Calcs!$P$151,IF(J20=4,Calcs!$Q$151,IF(J20=5,Calcs!$R$151,IF(J20=6,Calcs!$S$151,IF(J20=7,Calcs!$T$151,IF(J20=8,Calcs!$U$151,0))))))))","v":0},{"$f":"IF(K20=1,Calcs!$N$151,IF(K20=2,Calcs!$O$151,IF(K20=3,Calcs!$P$151,IF(K20=4,Calcs!$Q$151,IF(K20=5,Calcs!$R$151,IF(K20=6,Calcs!$S$151,IF(K20=7,Calcs!$T$151,IF(K20=8,Calcs!$U$151,0))))))))","v":0},{"$f":"IF(L20=1,Calcs!$N$151,IF(L20=2,Calcs!$O$151,IF(L20=3,Calcs!$P$151,IF(L20=4,Calcs!$Q$151,IF(L20=5,Calcs!$R$151,IF(L20=6,Calcs!$S$151,IF(L20=7,Calcs!$T$151,IF(L20=8,Calcs!$U$151,0))))))))","v":0},null,{"$f":"'+Prices'!AJ91+'+Prices'!AJ98","v":632.05999999999995},{"$f":"'+Prices'!AK91+'+Prices'!AK98","v":490.44210526315788},{"$f":"'+Prices'!AL91+'+Prices'!AL98","v":400},{"$f":"'+Prices'!AP91+'+Prices'!AP98","v":448.8},null,null,null,null,"Prices"]
[15,"High seeding rate",{"$f":"IF(C21=1,Calcs!$N$152,IF(C21=2,Calcs!$O$152,IF(C21=3,Calcs!$P$152,IF(C21=4,Calcs!$Q$152,IF(C21=5,Calcs!$R$152,IF(C21=6,Calcs!$S$152,IF(C21=7,Calcs!$T$152,IF(C21=8,Calcs!$U$152,0))))))))","v":0},{"$f":"IF(D21=1,Calcs!$N$152,IF(D21=2,Calcs!$O$152,IF(D21=3,Calcs!$P$152,IF(D21=4,Calcs!$Q$152,IF(D21=5,Calcs!$R$152,IF(D21=6,Calcs!$S$152,IF(D21=7,Calcs!$T$152,IF(D21=8,Calcs!$U$152,0))))))))","v":0},{"$f":"IF(E21=1,Calcs!$N$152,IF(E21=2,Calcs!$O$152,IF(E21=3,Calcs!$P$152,IF(E21=4,Calcs!$Q$152,IF(E21=5,Calcs!$R$152,IF(E21=6,Calcs!$S$152,IF(E21=7,Calcs!$T$152,IF(E21=8,Calcs!$U$152,0))))))))","v":817.7},{"$f":"IF(F21=1,Calcs!$N$152,IF(F21=2,Calcs!$O$152,IF(F21=3,Calcs!$P$152,IF(F21=4,Calcs!$Q$152,IF(F21=5,Calcs!$R$152,IF(F21=6,Calcs!$S$152,IF(F21=7,Calcs!$T$152,IF(F21=8,Calcs!$U$152,0))))))))","v":0},{"$f":"IF(G21=1,Calcs!$N$152,IF(G21=2,Calcs!$O$152,IF(G21=3,Calcs!$P$152,IF(G21=4,Calcs!$Q$152,IF(G21=5,Calcs!$R$152,IF(G21=6,Calcs!$S$152,IF(G21=7,Calcs!$T$152,IF(G21=8,Calcs!$U$152,0))))))))","v":0},{"$f":"IF(H21=1,Calcs!$N$152,IF(H21=2,Calcs!$O$152,IF(H21=3,Calcs!$P$152,IF(H21=4,Calcs!$Q$152,IF(H21=5,Calcs!$R$152,IF(H21=6,Calcs!$S$152,IF(H21=7,Calcs!$T$152,IF(H21=8,Calcs!$U$152,0))))))))","v":0},{"$f":"IF(I21=1,Calcs!$N$152,IF(I21=2,Calcs!$O$152,IF(I21=3,Calcs!$P$152,IF(I21=4,Calcs!$Q$152,IF(I21=5,Calcs!$R$152,IF(I21=6,Calcs!$S$152,IF(I21=7,Calcs!$T$152,IF(I21=8,Calcs!$U$152,0))))))))","v":817.7},{"$f":"IF(J21=1,Calcs!$N$152,IF(J21=2,Calcs!$O$152,IF(J21=3,Calcs!$P$152,IF(J21=4,Calcs!$Q$152,IF(J21=5,Calcs!$R$152,IF(J21=6,Calcs!$S$152,IF(J21=7,Calcs!$T$152,IF(J21=8,Calcs!$U$152,0))))))))","v":0},{"$f":"IF(K21=1,Calcs!$N$152,IF(K21=2,Calcs!$O$152,IF(K21=3,Calcs!$P$152,IF(K21=4,Calcs!$Q$152,IF(K21=5,Calcs!$R$152,IF(K21=6,Calcs!$S$152,IF(K21=7,Calcs!$T$152,IF(K21=8,Calcs!$U$152,0))))))))","v":0},{"$f":"IF(L21=1,Calcs!$N$152,IF(L21=2,Calcs!$O$152,IF(L21=3,Calcs!$P$152,IF(L21=4,Calcs!$Q$152,IF(L21=5,Calcs!$R$152,IF(L21=6,Calcs!$S$152,IF(L21=7,Calcs!$T$152,IF(L21=8,Calcs!$U$152,0))))))))","v":0},null,{"$f":"'+Prices'!AJ91+'+Prices'!AJ99","v":817.7},{"$f":"'+Prices'!AK91+'+Prices'!AK99","v":530.52631578947364},{"$f":"'+Prices'!AL91+'+Prices'!AL99","v":440},{"$f":"'+Prices'!AP91+'+Prices'!AP99","v":523.6},null,null,null,null,"Prices"]
[16,"Cover crops",{"$f":"IF(C22=1,Calcs!$N$153,IF(C22=2,Calcs!$O$153,IF(C22=3,Calcs!$P$153,IF(C22=4,Calcs!$Q$153,0))))","v":0},{"$f":"IF(D22=1,Calcs!$N$153,IF(D22=2,Calcs!$O$153,IF(D22=3,Calcs!$P$153,IF(D22=4,Calcs!$Q$153,0))))","v":0},{"$f":"IF(E22=1,Calcs!$N$153,IF(E22=2,Calcs!$O$153,IF(E22=3,Calcs!$P$153,IF(E22=4,Calcs!$Q$153,0))))","v":0},{"$f":"IF(F22=1,Calcs!$N$153,IF(F22=2,Calcs!$O$153,IF(F22=3,Calcs!$P$153,IF(F22=4,Calcs!$Q$153,0))))","v":0},{"$f":"IF(G22=1,Calcs!$N$153,IF(G22=2,Calcs!$O$153,IF(G22=3,Calcs!$P$153,IF(G22=4,Calcs!$Q$153,0))))","v":0},{"$f":"IF(H22=1,Calcs!$N$153,IF(H22=2,Calcs!$O$153,IF(H22=3,Calcs!$P$153,IF(H22=4,Calcs!$Q$153,0))))","v":0},{"$f":"IF(I22=1,Calcs!$N$153,IF(I22=2,Calcs!$O$153,IF(I22=3,Calcs!$P$153,IF(I22=4,Calcs!$Q$153,0))))","v":0},{"$f":"IF(J22=1,Calcs!$N$153,IF(J22=2,Calcs!$O$153,IF(J22=3,Calcs!$P$153,IF(J22=4,Calcs!$Q$153,0))))","v":0},{"$f":"IF(K22=1,Calcs!$N$153,IF(K22=2,Calcs!$O$153,IF(K22=3,Calcs!$P$153,IF(K22=4,Calcs!$Q$153,0))))","v":0},{"$f":"IF(L22=1,Calcs!$N$153,IF(L22=2,Calcs!$O$153,IF(L22=3,Calcs!$P$153,IF(L22=4,Calcs!$Q$153,0))))","v":0},null,{"$f":"'+Prices'!AJ$100","v":500},{"$f":"'+Prices'!AK$100","v":500},{"$f":"'+Prices'!AL$100","v":500},{"$f":"'+Prices'!AM$100","v":600},null,null,null,null,"Prices"]
[17,"No cover crops",{"$f":"IF(C23=1,Calcs!$N$154,IF(C23=2,Calcs!$O$154,IF(C23=3,Calcs!$P$154,IF(C23=4,Calcs!$Q$154,0))))","v":0},{"$f":"IF(D23=1,Calcs!$N$154,IF(D23=2,Calcs!$O$154,IF(D23=3,Calcs!$P$154,IF(D23=4,Calcs!$Q$154,0))))","v":0},{"$f":"IF(E23=1,Calcs!$N$154,IF(E23=2,Calcs!$O$154,IF(E23=3,Calcs!$P$154,IF(E23=4,Calcs!$Q$154,0))))","v":0},{"$f":"IF(F23=1,Calcs!$N$154,IF(F23=2,Calcs!$O$154,IF(F23=3,Calcs!$P$154,IF(F23=4,Calcs!$Q$154,0))))","v":0},{"$f":"IF(G23=1,Calcs!$N$154,IF(G23=2,Calcs!$O$154,IF(G23=3,Calcs!$P$154,IF(G23=4,Calcs!$Q$154,0))))","v":0},{"$f":"IF(H23=1,Calcs!$N$154,IF(H23=2,Calcs!$O$154,IF(H23=3,Calcs!$P$154,IF(H23=4,Calcs!$Q$154,0))))","v":0},{"$f":"IF(I23=1,Calcs!$N$154,IF(I23=2,Calcs!$O$154,IF(I23=3,Calcs!$P$154,IF(I23=4,Calcs!$Q$154,0))))","v":0},{"$f":"IF(J23=1,Calcs!$N$154,IF(J23=2,Calcs!$O$154,IF(J23=3,Calcs!$P$154,IF(J23=4,Calcs!$Q$154,0))))","v":0},{"$f":"IF(K23=1,Calcs!$N$154,IF(K23=2,Calcs!$O$154,IF(K23=3,Calcs!$P$154,IF(K23=4,Calcs!$Q$154,0))))","v":0},{"$f":"IF(L23=1,Calcs!$N$154,IF(L23=2,Calcs!$O$154,IF(L23=3,Calcs!$P$154,IF(L23=4,Calcs!$Q$154,0))))","v":0},null,0,0,0,0]
[18,{"$f":"\"Pre-E: \"&'1.Profile'!C19","v":"Pre-E: Boxer 1 l"},{"$f":"(IF(C24=1,Calcs!$N155,IF(C24=2,Calcs!$O155,IF(C24=3,Calcs!$P155,IF(C24=4,Calcs!$Q155,IF(C24=5,Calcs!$R155,IF(C24=6,Calcs!$S155,IF(C24=7,Calcs!$T155,0))))))))","v":0},{"$f":"(IF(D24=1,Calcs!$N155,IF(D24=2,Calcs!$O155,IF(D24=3,Calcs!$P155,IF(D24=4,Calcs!$Q155,IF(D24=5,Calcs!$R155,IF(D24=6,Calcs!$S155,IF(D24=7,Calcs!$T155,0))))))))","v":0},{"$f":"(IF(E24=1,Calcs!$N155,IF(E24=2,Calcs!$O155,IF(E24=3,Calcs!$P155,IF(E24=4,Calcs!$Q155,IF(E24=5,Calcs!$R155,IF(E24=6,Calcs!$S155,IF(E24=7,Calcs!$T155,0))))))))","v":255},{"$f":"(IF(F24=1,Calcs!$N155,IF(F24=2,Calcs!$O155,IF(F24=3,Calcs!$P155,IF(F24=4,Calcs!$Q155,IF(F24=5,Calcs!$R155,IF(F24=6,Calcs!$S155,IF(F24=7,Calcs!$T155,0))))))))","v":255},{"$f":"(IF(G24=1,Calcs!$N155,IF(G24=2,Calcs!$O155,IF(G24=3,Calcs!$P155,IF(G24=4,Calcs!$Q155,IF(G24=5,Calcs!$R155,IF(G24=6,Calcs!$S155,IF(G24=7,Calcs!$T155,0))))))))","v":0},{"$f":"(IF(H24=1,Calcs!$N155,IF(H24=2,Calcs!$O155,IF(H24=3,Calcs!$P155,IF(H24=4,Calcs!$Q155,IF(H24=5,Calcs!$R155,IF(H24=6,Calcs!$S155,IF(H24=7,Calcs!$T155,0))))))))","v":0},{"$f":"(IF(I24=1,Calcs!$N155,IF(I24=2,Calcs!$O155,IF(I24=3,Calcs!$P155,IF(I24=4,Calcs!$Q155,IF(I24=5,Calcs!$R155,IF(I24=6,Calcs!$S155,IF(I24=7,Calcs!$T155,0))))))))","v":255},{"$f":"(IF(J24=1,Calcs!$N155,IF(J24=2,Calcs!$O155,IF(J24=3,Calcs!$P155,IF(J24=4,Calcs!$Q155,IF(J24=5,Calcs!$R155,IF(J24=6,Calcs!$S155,IF(J24=7,Calcs!$T155,0))))))))","v":255},{"$f":"(IF(K24=1,Calcs!$N155,IF(K24=2,Calcs!$O155,IF(K24=3,Calcs!$P155,IF(K24=4,Calcs!$Q155,IF(K24=5,Calcs!$R155,IF(K24=6,Calcs!$S155,IF(K24=7,Calcs!$T155,0))))))))","v":0},{"$f":"(IF(L24=1,Calcs!$N155,IF(L24=2,Calcs!$O155,IF(L24=3,Calcs!$P155,IF(L24=4,Calcs!$Q155,IF(L24=5,Calcs!$R155,IF(L24=6,Calcs!$S155,IF(L24=7,Calcs!$T155,0))))))))","v":0},null,{"$f":"'1.Profile'!E19+$AB$138","v":255},{"$f":"'1.Profile'!E19+$AB$138","v":255},{"$f":"'1.Profile'!E19+$AB$138","v":255},{"$f":"'1.Profile'!G19+$AC$138","v":75},null,null,null,null,"Profile","+boom"]
[19,{"$f":"\"Pre-E: \"&'1.Profile'!C20","v":"Pre-E: Boxer 2 l"},{"$f":"(IF(C25=1,Calcs!$N156,IF(C25=2,Calcs!$O156,IF(C25=3,Calcs!$P156,IF(C25=4,Calcs!$Q156,IF(C25=5,Calcs!$R156,IF(C25=6,Calcs!$S156,IF(C25=7,Calcs!$T156,0))))))))","v":0},{"$f":"(IF(D25=1,Calcs!$N156,IF(D25=2,Calcs!$O156,IF(D25=3,Calcs!$P156,IF(D25=4,Calcs!$Q156,IF(D25=5,Calcs!$R156,IF(D25=6,Calcs!$S156,IF(D25=7,Calcs!$T156,0))))))))","v":0},{"$f":"(IF(E25=1,Calcs!$N156,IF(E25=2,Calcs!$O156,IF(E25=3,Calcs!$P156,IF(E25=4,Calcs!$Q156,IF(E25=5,Calcs!$R156,IF(E25=6,Calcs!$S156,IF(E25=7,Calcs!$T156,0))))))))","v":0},{"$f":"(IF(F25=1,Calcs!$N156,IF(F25=2,Calcs!$O156,IF(F25=3,Calcs!$P156,IF(F25=4,Calcs!$Q156,IF(F25=5,Calcs!$R156,IF(F25=6,Calcs!$S156,IF(F25=7,Calcs!$T156,0))))))))","v":0},{"$f":"(IF(G25=1,Calcs!$N156,IF(G25=2,Calcs!$O156,IF(G25=3,Calcs!$P156,IF(G25=4,Calcs!$Q156,IF(G25=5,Calcs!$R156,IF(G25=6,Calcs!$S156,IF(G25=7,Calcs!$T156,0))))))))","v":0},{"$f":"(IF(H25=1,Calcs!$N156,IF(H25=2,Calcs!$O156,IF(H25=3,Calcs!$P156,IF(H25=4,Calcs!$Q156,IF(H25=5,Calcs!$R156,IF(H25=6,Calcs!$S156,IF(H25=7,Calcs!$T156,0))))))))","v":0},{"$f":"(IF(I25=1,Calcs!$N156,IF(I25=2,Calcs!$O156,IF(I25=3,Calcs!$P156,IF(I25=4,Calcs!$Q156,IF(I25=5,Calcs!$R156,IF(I25=6,Calcs!$S156,IF(I25=7,Calcs!$T156,0))))))))","v":0},{"$f":"(IF(J25=1,Calcs!$N156,IF(J25=2,Calcs!$O156,IF(J25=3,Calcs!$P156,IF(J25=4,Calcs!$Q156,IF(J25=5,Calcs!$R156,IF(J25=6,Calcs!$S156,IF(J25=7,Calcs!$T156,0))))))))","v":0},{"$f":"(IF(K25=1,Calcs!$N156,IF(K25=2,Calcs!$O156,IF(K25=3,Calcs!$P156,IF(K25=4,Calcs!$Q156,IF(K25=5,Calcs!$R156,IF(K25=6,Calcs!$S156,IF(K25=7,Calcs!$T156,0))))))))","v":0},{"$f":"(IF(L25=1,Calcs!$N156,IF(L25=2,Calcs!$O156,IF(L25=3,Calcs!$P156,IF(L25=4,Calcs!$Q156,IF(L25=5,Calcs!$R156,IF(L25=6,Calcs!$S156,IF(L25=7,Calcs!$T156,0))))))))","v":0},null,{"$f":"'1.Profile'!E20+$AB$138","v":435},{"$f":"'1.Profile'!E20+$AB$138","v":435},{"$f":"'1.Profile'!E20+$AB$138","v":435},{"$f":"'1.Profile'!G20+$AC$138","v":75},null,null,null,null,null,"+boom"]
[20,{"$f":"\"Post-E: \"&'1.Profile'!C22","v":"Post-E: Topik"},{"$f":"(IF(C26=1,Calcs!$N157,IF(C26=2,Calcs!$O157,IF(C26=3,Calcs!$P157,IF(C26=4,Calcs!$Q157,IF(C26=5,Calcs!$R157,IF(C26=6,Calcs!$S157,IF(C26=7,Calcs!$T157,IF(C26=8,Calcs!$U157,0)))))))))","v":0},{"$f":"(IF(D26=1,Calcs!$N157,IF(D26=2,Calcs!$O157,IF(D26=3,Calcs!$P157,IF(D26=4,Calcs!$Q157,IF(D26=5,Calcs!$R157,IF(D26=6,Calcs!$S157,IF(D26=7,Calcs!$T157,IF(D26=8,Calcs!$U157,0)))))))))","v":0},{"$f":"(IF(E26=1,Calcs!$N157,IF(E26=2,Calcs!$O157,IF(E26=3,Calcs!$P157,IF(E26=4,Calcs!$Q157,IF(E26=5,Calcs!$R157,IF(E26=6,Calcs!$S157,IF(E26=7,Calcs!$T157,IF(E26=8,Calcs!$U157,0)))))))))","v":0},{"$f":"(IF(F26=1,Calcs!$N157,IF(F26=2,Calcs!$O157,IF(F26=3,Calcs!$P157,IF(F26=4,Calcs!$Q157,IF(F26=5,Calcs!$R157,IF(F26=6,Calcs!$S157,IF(F26=7,Calcs!$T157,IF(F26=8,Calcs!$U157,0)))))))))","v":323},{"$f":"(IF(G26=1,Calcs!$N157,IF(G26=2,Calcs!$O157,IF(G26=3,Calcs!$P157,IF(G26=4,Calcs!$Q157,IF(G26=5,Calcs!$R157,IF(G26=6,Calcs!$S157,IF(G26=7,Calcs!$T157,IF(G26=8,Calcs!$U157,0)))))))))","v":0},{"$f":"(IF(H26=1,Calcs!$N157,IF(H26=2,Calcs!$O157,IF(H26=3,Calcs!$P157,IF(H26=4,Calcs!$Q157,IF(H26=5,Calcs!$R157,IF(H26=6,Calcs!$S157,IF(H26=7,Calcs!$T157,IF(H26=8,Calcs!$U157,0)))))))))","v":0},{"$f":"(IF(I26=1,Calcs!$N157,IF(I26=2,Calcs!$O157,IF(I26=3,Calcs!$P157,IF(I26=4,Calcs!$Q157,IF(I26=5,Calcs!$R157,IF(I26=6,Calcs!$S157,IF(I26=7,Calcs!$T157,IF(I26=8,Calcs!$U157,0)))))))))","v":0},{"$f":"(IF(J26=1,Calcs!$N157,IF(J26=2,Calcs!$O157,IF(J26=3,Calcs!$P157,IF(J26=4,Calcs!$Q157,IF(J26=5,Calcs!$R157,IF(J26=6,Calcs!$S157,IF(J26=7,Calcs!$T157,IF(J26=8,Calcs!$U157,0)))))))))","v":323},{"$f":"(IF(K26=1,Calcs!$N157,IF(K26=2,Calcs!$O157,IF(K26=3,Calcs!$P157,IF(K26=4,Calcs!$Q157,IF(K26=5,Calcs!$R157,IF(K26=6,Calcs!$S157,IF(K26=7,Calcs!$T157,IF(K26=8,Calcs!$U157,0)))))))))","v":0},{"$f":"(IF(L26=1,Calcs!$N157,IF(L26=2,Calcs!$O157,IF(L26=3,Calcs!$P157,IF(L26=4,Calcs!$Q157,IF(L26=5,Calcs!$R157,IF(L26=6,Calcs!$S157,IF(L26=7,Calcs!$T157,IF(L26=8,Calcs!$U157,0)))))))))","v":0},null,{"$f":"'1.Profile'!$E$22+$AB$138","v":323},{"$f":"'1.Profile'!$E$22+$AB$138","v":323},{"$f":"'1.Profile'!$E$22+$AB$138","v":323},{"$f":"'1.Profile'!$G$22+$AC$138","v":75},null,null,null,null,null,"+boom"]
[21,{"$f":"\"Post-E: \"&'1.Profile'!C23","v":"Post-E: Atlantis OD"},{"$f":"(IF(C27=1,Calcs!$N158,IF(C27=2,Calcs!$O158,IF(C27=3,Calcs!$P158,IF(C27=4,Calcs!$Q158,IF(C27=5,Calcs!$R158,IF(C27=6,Calcs!$S158,IF(C27=7,Calcs!$T158,IF(C27=8,Calcs!$U158,0)))))))))","v":0},{"$f":"(IF(D27=1,Calcs!$N158,IF(D27=2,Calcs!$O158,IF(D27=3,Calcs!$P158,IF(D27=4,Calcs!$Q158,IF(D27=5,Calcs!$R158,IF(D27=6,Calcs!$S158,IF(D27=7,Calcs!$T158,IF(D27=8,Calcs!$U158,0)))))))))","v":0},{"$f":"(IF(E27=1,Calcs!$N158,IF(E27=2,Calcs!$O158,IF(E27=3,Calcs!$P158,IF(E27=4,Calcs!$Q158,IF(E27=5,Calcs!$R158,IF(E27=6,Calcs!$S158,IF(E27=7,Calcs!$T158,IF(E27=8,Calcs!$U158,0)))))))))","v":0},{"$f":"(IF(F27=1,Calcs!$N158,IF(F27=2,Calcs!$O158,IF(F27=3,Calcs!$P158,IF(F27=4,Calcs!$Q158,IF(F27=5,Calcs!$R158,IF(F27=6,Calcs!$S158,IF(F27=7,Calcs!$T158,IF(F27=8,Calcs!$U158,0)))))))))","v":0},{"$f":"(IF(G27=1,Calcs!$N158,IF(G27=2,Calcs!$O158,IF(G27=3,Calcs!$P158,IF(G27=4,Calcs!$Q158,IF(G27=5,Calcs!$R158,IF(G27=6,Calcs!$S158,IF(G27=7,Calcs!$T158,IF(G27=8,Calcs!$U158,0)))))))))","v":0},{"$f":"(IF(H27=1,Calcs!$N158,IF(H27=2,Calcs!$O158,IF(H27=3,Calcs!$P158,IF(H27=4,Calcs!$Q158,IF(H27=5,Calcs!$R158,IF(H27=6,Calcs!$S158,IF(H27=7,Calcs!$T158,IF(H27=8,Calcs!$U158,0)))))))))","v":0},{"$f":"(IF(I27=1,Calcs!$N158,IF(I27=2,Calcs!$O158,IF(I27=3,Calcs!$P158,IF(I27=4,Calcs!$Q158,IF(I27=5,Calcs!$R158,IF(I27=6,Calcs!$S158,IF(I27=7,Calcs!$T158,IF(I27=8,Calcs!$U158,0)))))))))","v":0},{"$f":"(IF(J27=1,Calcs!$N158,IF(J27=2,Calcs!$O158,IF(J27=3,Calcs!$P158,IF(J27=4,Calcs!$Q158,IF(J27=5,Calcs!$R158,IF(J27=6,Calcs!$S158,IF(J27=7,Calcs!$T158,IF(J27=8,Calcs!$U158,0)))))))))","v":0},{"$f":"(IF(K27=1,Calcs!$N158,IF(K27=2,Calcs!$O158,IF(K27=3,Calcs!$P158,IF(K27=4,Calcs!$Q158,IF(K27=5,Calcs!$R158,IF(K27=6,Calcs!$S158,IF(K27=7,Calcs!$T158,IF(K27=8,Calcs!$U158,0)))))))))","v":0},{"$f":"(IF(L27=1,Calcs!$N158,IF(L27=2,Calcs!$O158,IF(L27=3,Calcs!$P158,IF(L27=4,Calcs!$Q158,IF(L27=5,Calcs!$R158,IF(L27=6,Calcs!$S158,IF(L27=7,Calcs!$T158,IF(L27=8,Calcs!$U158,0)))))))))","v":0},null,{"$f":"'1.Profile'!$E$23+$AB$138","v":333},{"$f":"'1.Profile'!$E$23+$AB$138","v":333},{"$f":"'1.Profile'!$E$23+$AB$138","v":333},{"$f":"'1.Profile'!$G$23+$AC$138","v":75},null,null,null,null,null,"+boom"]
[22,{"$f":"\"Post-E: \"&'1.Profile'!C24","v":"Post-E: Hussar Plus OD"},{"$f":"(IF(C28=1,Calcs!$N159,IF(C28=2,Calcs!$O159,IF(C28=3,Calcs!$P159,IF(C28=4,Calcs!$Q159,IF(C28=5,Calcs!$R159,IF(C28=6,Calcs!$S159,IF(C28=7,Calcs!$T159,IF(C28=8,Calcs!$U159,0)))))))))","v":0},{"$f":"(IF(D28=1,Calcs!$N159,IF(D28=2,Calcs!$O159,IF(D28=3,Calcs!$P159,IF(D28=4,Calcs!$Q159,IF(D28=5,Calcs!$R159,IF(D28=6,Calcs!$S159,IF(D28=7,Calcs!$T159,IF(D28=8,Calcs!$U159,0)))))))))","v":0},{"$f":"(IF(E28=1,Calcs!$N159,IF(E28=2,Calcs!$O159,IF(E28=3,Calcs!$P159,IF(E28=4,Calcs!$Q159,IF(E28=5,Calcs!$R159,IF(E28=6,Calcs!$S159,IF(E28=7,Calcs!$T159,IF(E28=8,Calcs!$U159,0)))))))))","v":0},{"$f":"(IF(F28=1,Calcs!$N159,IF(F28=2,Calcs!$O159,IF(F28=3,Calcs!$P159,IF(F28=4,Calcs!$Q159,IF(F28=5,Calcs!$R159,IF(F28=6,Calcs!$S159,IF(F28=7,Calcs!$T159,IF(F28=8,Calcs!$U159,0)))))))))","v":0},{"$f":"(IF(G28=1,Calcs!$N159,IF(G28=2,Calcs!$O159,IF(G28=3,Calcs!$P159,IF(G28=4,Calcs!$Q159,IF(G28=5,Calcs!$R159,IF(G28=6,Calcs!$S159,IF(G28=7,Calcs!$T159,IF(G28=8,Calcs!$U159,0)))))))))","v":0},{"$f":"(IF(H28=1,Calcs!$N159,IF(H28=2,Calcs!$O159,IF(H28=3,Calcs!$P159,IF(H28=4,Calcs!$Q159,IF(H28=5,Calcs!$R159,IF(H28=6,Calcs!$S159,IF(H28=7,Calcs!$T159,IF(H28=8,Calcs!$U159,0)))))))))","v":0},{"$f":"(IF(I28=1,Calcs!$N159,IF(I28=2,Calcs!$O159,IF(I28=3,Calcs!$P159,IF(I28=4,Calcs!$Q159,IF(I28=5,Calcs!$R159,IF(I28=6,Calcs!$S159,IF(I28=7,Calcs!$T159,IF(I28=8,Calcs!$U159,0)))))))))","v":0},{"$f":"(IF(J28=1,Calcs!$N159,IF(J28=2,Calcs!$O159,IF(J28=3,Calcs!$P159,IF(J28=4,Calcs!$Q159,IF(J28=5,Calcs!$R159,IF(J28=6,Calcs!$S159,IF(J28=7,Calcs!$T159,IF(J28=8,Calcs!$U159,0)))))))))","v":0},{"$f":"(IF(K28=1,Calcs!$N159,IF(K28=2,Calcs!$O159,IF(K28=3,Calcs!$P159,IF(K28=4,Calcs!$Q159,IF(K28=5,Calcs!$R159,IF(K28=6,Calcs!$S159,IF(K28=7,Calcs!$T159,IF(K28=8,Calcs!$U159,0)))))))))","v":0},{"$f":"(IF(L28=1,Calcs!$N159,IF(L28=2,Calcs!$O159,IF(L28=3,Calcs!$P159,IF(L28=4,Calcs!$Q159,IF(L28=5,Calcs!$R159,IF(L28=6,Calcs!$S159,IF(L28=7,Calcs!$T159,IF(L28=8,Calcs!$U159,0)))))))))","v":0},null,{"$f":"'1.Profile'!$E$24+$AB$138","v":251},{"$f":"'1.Profile'!$E$24+$AB$138","v":251},{"$f":"'1.Profile'!$E$24+$AB$138","v":251},{"$f":"'1.Profile'!$G$24+$AC$138","v":75},null,null,null,null,null,"+boom"]
[23,{"$f":"\"Post-E: \"&'1.Profile'!C25","v":"Post-E: Broadway"},{"$f":"(IF(C29=1,Calcs!$N160,IF(C29=2,Calcs!$O160,IF(C29=3,Calcs!$P160,IF(C29=4,Calcs!$Q160,IF(C29=5,Calcs!$R160,IF(C29=6,Calcs!$S160,IF(C29=7,Calcs!$T160,IF(C29=8,Calcs!$U160,0)))))))))","v":0},{"$f":"(IF(D29=1,Calcs!$N160,IF(D29=2,Calcs!$O160,IF(D29=3,Calcs!$P160,IF(D29=4,Calcs!$Q160,IF(D29=5,Calcs!$R160,IF(D29=6,Calcs!$S160,IF(D29=7,Calcs!$T160,IF(D29=8,Calcs!$U160,0)))))))))","v":0},{"$f":"(IF(E29=1,Calcs!$N160,IF(E29=2,Calcs!$O160,IF(E29=3,Calcs!$P160,IF(E29=4,Calcs!$Q160,IF(E29=5,Calcs!$R160,IF(E29=6,Calcs!$S160,IF(E29=7,Calcs!$T160,IF(E29=8,Calcs!$U160,0)))))))))","v":0},{"$f":"(IF(F29=1,Calcs!$N160,IF(F29=2,Calcs!$O160,IF(F29=3,Calcs!$P160,IF(F29=4,Calcs!$Q160,IF(F29=5,Calcs!$R160,IF(F29=6,Calcs!$S160,IF(F29=7,Calcs!$T160,IF(F29=8,Calcs!$U160,0)))))))))","v":0},{"$f":"(IF(G29=1,Calcs!$N160,IF(G29=2,Calcs!$O160,IF(G29=3,Calcs!$P160,IF(G29=4,Calcs!$Q160,IF(G29=5,Calcs!$R160,IF(G29=6,Calcs!$S160,IF(G29=7,Calcs!$T160,IF(G29=8,Calcs!$U160,0)))))))))","v":0},{"$f":"(IF(H29=1,Calcs!$N160,IF(H29=2,Calcs!$O160,IF(H29=3,Calcs!$P160,IF(H29=4,Calcs!$Q160,IF(H29=5,Calcs!$R160,IF(H29=6,Calcs!$S160,IF(H29=7,Calcs!$T160,IF(H29=8,Calcs!$U160,0)))))))))","v":0},{"$f":"(IF(I29=1,Calcs!$N160,IF(I29=2,Calcs!$O160,IF(I29=3,Calcs!$P160,IF(I29=4,Calcs!$Q160,IF(I29=5,Calcs!$R160,IF(I29=6,Calcs!$S160,IF(I29=7,Calcs!$T160,IF(I29=8,Calcs!$U160,0)))))))))","v":0},{"$f":"(IF(J29=1,Calcs!$N160,IF(J29=2,Calcs!$O160,IF(J29=3,Calcs!$P160,IF(J29=4,Calcs!$Q160,IF(J29=5,Calcs!$R160,IF(J29=6,Calcs!$S160,IF(J29=7,Calcs!$T160,IF(J29=8,Calcs!$U160,0)))))))))","v":0},{"$f":"(IF(K29=1,Calcs!$N160,IF(K29=2,Calcs!$O160,IF(K29=3,Calcs!$P160,IF(K29=4,Calcs!$Q160,IF(K29=5,Calcs!$R160,IF(K29=6,Calcs!$S160,IF(K29=7,Calcs!$T160,IF(K29=8,Calcs!$U160,0)))))))))","v":0},{"$f":"(IF(L29=1,Calcs!$N160,IF(L29=2,Calcs!$O160,IF(L29=3,Calcs!$P160,IF(L29=4,Calcs!$Q160,IF(L29=5,Calcs!$R160,IF(L29=6,Calcs!$S160,IF(L29=7,Calcs!$T160,IF(L29=8,Calcs!$U160,0)))))))))","v":0},null,{"$f":"'1.Profile'!$E$25+$AB$138","v":235},{"$f":"'1.Profile'!$E$25+$AB$138","v":235},{"$f":"'1.Profile'!$E$25+$AB$138","v":235},{"$f":"'1.Profile'!$G$25+$AC$138","v":75},null,null,null,null,null,"+boom"]
[24,{"$f":"\"Post-E: \"&'1.Profile'!C26","v":"Post-E: Cossack OD"},{"$f":"(IF(C30=1,Calcs!$N161,IF(C30=2,Calcs!$O161,IF(C30=3,Calcs!$P161,IF(C30=4,Calcs!$Q161,IF(C30=5,Calcs!$R161,IF(C30=6,Calcs!$S161,IF(C30=7,Calcs!$T161,IF(C30=8,Calcs!$U161,0)))))))))","v":0},{"$f":"(IF(D30=1,Calcs!$N161,IF(D30=2,Calcs!$O161,IF(D30=3,Calcs!$P161,IF(D30=4,Calcs!$Q161,IF(D30=5,Calcs!$R161,IF(D30=6,Calcs!$S161,IF(D30=7,Calcs!$T161,IF(D30=8,Calcs!$U161,0)))))))))","v":0},{"$f":"(IF(E30=1,Calcs!$N161,IF(E30=2,Calcs!$O161,IF(E30=3,Calcs!$P161,IF(E30=4,Calcs!$Q161,IF(E30=5,Calcs!$R161,IF(E30=6,Calcs!$S161,IF(E30=7,Calcs!$T161,IF(E30=8,Calcs!$U161,0)))))))))","v":0},{"$f":"(IF(F30=1,Calcs!$N161,IF(F30=2,Calcs!$O161,IF(F30=3,Calcs!$P161,IF(F30=4,Calcs!$Q161,IF(F30=5,Calcs!$R161,IF(F30=6,Calcs!$S161,IF(F30=7,Calcs!$T161,IF(F30=8,Calcs!$U161,0)))))))))","v":0},{"$f":"(IF(G30=1,Calcs!$N161,IF(G30=2,Calcs!$O161,IF(G30=3,Calcs!$P161,IF(G30=4,Calcs!$Q161,IF(G30=5,Calcs!$R161,IF(G30=6,Calcs!$S161,IF(G30=7,Calcs!$T161,IF(G30=8,Calcs!$U161,0)))))))))","v":0},{"$f":"(IF(H30=1,Calcs!$N161,IF(H30=2,Calcs!$O161,IF(H30=3,Calcs!$P161,IF(H30=4,Calcs!$Q161,IF(H30=5,Calcs!$R161,IF(H30=6,Calcs!$S161,IF(H30=7,Calcs!$T161,IF(H30=8,Calcs!$U161,0)))))))))","v":0},{"$f":"(IF(I30=1,Calcs!$N161,IF(I30=2,Calcs!$O161,IF(I30=3,Calcs!$P161,IF(I30=4,Calcs!$Q161,IF(I30=5,Calcs!$R161,IF(I30=6,Calcs!$S161,IF(I30=7,Calcs!$T161,IF(I30=8,Calcs!$U161,0)))))))))","v":0},{"$f":"(IF(J30=1,Calcs!$N161,IF(J30=2,Calcs!$O161,IF(J30=3,Calcs!$P161,IF(J30=4,Calcs!$Q161,IF(J30=5,Calcs!$R161,IF(J30=6,Calcs!$S161,IF(J30=7,Calcs!$T161,IF(J30=8,Calcs!$U161,0)))))))))","v":0},{"$f":"(IF(K30=1,Calcs!$N161,IF(K30=2,Calcs!$O161,IF(K30=3,Calcs!$P161,IF(K30=4,Calcs!$Q161,IF(K30=5,Calcs!$R161,IF(K30=6,Calcs!$S161,IF(K30=7,Calcs!$T161,IF(K30=8,Calcs!$U161,0)))))))))","v":0},{"$f":"(IF(L30=1,Calcs!$N161,IF(L30=2,Calcs!$O161,IF(L30=3,Calcs!$P161,IF(L30=4,Calcs!$Q161,IF(L30=5,Calcs!$R161,IF(L30=6,Calcs!$S161,IF(L30=7,Calcs!$T161,IF(L30=8,Calcs!$U161,0)))))))))","v":0},null,{"$f":"'1.Profile'!$E$26+$AB$138","v":419},{"$f":"'1.Profile'!$E$26+$AB$138","v":419},{"$f":"'1.Profile'!$E$26+$AB$138","v":419},{"$f":"'1.Profile'!$G$26+$AC$138","v":75},null,null,null,null,null,"+boom"]
[25,{"$f":"\"Post-E: \"&'1.Profile'!C27","v":"Post-E: Focus Ultra"},{"$f":"(IF(C31=1,Calcs!$N162,IF(C31=2,Calcs!$O162,IF(C31=3,Calcs!$P162,IF(C31=4,Calcs!$Q162,IF(C31=5,Calcs!$R162,IF(C31=6,Calcs!$S162,IF(C31=7,Calcs!$T162,IF(C31=8,Calcs!$U162,0)))))))))","v":0},{"$f":"(IF(D31=1,Calcs!$N162,IF(D31=2,Calcs!$O162,IF(D31=3,Calcs!$P162,IF(D31=4,Calcs!$Q162,IF(D31=5,Calcs!$R162,IF(D31=6,Calcs!$S162,IF(D31=7,Calcs!$T162,IF(D31=8,Calcs!$U162,0)))))))))","v":0},{"$f":"(IF(E31=1,Calcs!$N162,IF(E31=2,Calcs!$O162,IF(E31=3,Calcs!$P162,IF(E31=4,Calcs!$Q162,IF(E31=5,Calcs!$R162,IF(E31=6,Calcs!$S162,IF(E31=7,Calcs!$T162,IF(E31=8,Calcs!$U162,0)))))))))","v":0},{"$f":"(IF(F31=1,Calcs!$N162,IF(F31=2,Calcs!$O162,IF(F31=3,Calcs!$P162,IF(F31=4,Calcs!$Q162,IF(F31=5,Calcs!$R162,IF(F31=6,Calcs!$S162,IF(F31=7,Calcs!$T162,IF(F31=8,Calcs!$U162,0)))))))))","v":0},{"$f":"(IF(G31=1,Calcs!$N162,IF(G31=2,Calcs!$O162,IF(G31=3,Calcs!$P162,IF(G31=4,Calcs!$Q162,IF(G31=5,Calcs!$R162,IF(G31=6,Calcs!$S162,IF(G31=7,Calcs!$T162,IF(G31=8,Calcs!$U162,0)))))))))","v":0},{"$f":"(IF(H31=1,Calcs!$N162,IF(H31=2,Calcs!$O162,IF(H31=3,Calcs!$P162,IF(H31=4,Calcs!$Q162,IF(H31=5,Calcs!$R162,IF(H31=6,Calcs!$S162,IF(H31=7,Calcs!$T162,IF(H31=8,Calcs!$U162,0)))))))))","v":0},{"$f":"(IF(I31=1,Calcs!$N162,IF(I31=2,Calcs!$O162,IF(I31=3,Calcs!$P162,IF(I31=4,Calcs!$Q162,IF(I31=5,Calcs!$R162,IF(I31=6,Calcs!$S162,IF(I31=7,Calcs!$T162,IF(I31=8,Calcs!$U162,0)))))))))","v":0},{"$f":"(IF(J31=1,Calcs!$N162,IF(J31=2,Calcs!$O162,IF(J31=3,Calcs!$P162,IF(J31=4,Calcs!$Q162,IF(J31=5,Calcs!$R162,IF(J31=6,Calcs!$S162,IF(J31=7,Calcs!$T162,IF(J31=8,Calcs!$U162,0)))))))))","v":0},{"$f":"(IF(K31=1,Calcs!$N162,IF(K31=2,Calcs!$O162,IF(K31=3,Calcs!$P162,IF(K31=4,Calcs!$Q162,IF(K31=5,Calcs!$R162,IF(K31=6,Calcs!$S162,IF(K31=7,Calcs!$T162,IF(K31=8,Calcs!$U162,0)))))))))","v":0},{"$f":"(IF(L31=1,Calcs!$N162,IF(L31=2,Calcs!$O162,IF(L31=3,Calcs!$P162,IF(L31=4,Calcs!$Q162,IF(L31=5,Calcs!$R162,IF(L31=6,Calcs!$S162,IF(L31=7,Calcs!$T162,IF(L31=8,Calcs!$U162,0)))))))))","v":0},null,{"$f":"'1.Profile'!$E$27+$AB$138","v":75},{"$f":"'1.Profile'!$E$27+$AB$138","v":75},{"$f":"'1.Profile'!$E$27+$AB$138","v":75},{"$f":"'1.Profile'!$G$27+$AC$138","v":345},null,null,null,null,null,"+boom"]
[26,{"$f":"\"Post-E: \"&'1.Profile'!C28","v":"Post-E: Kerb"},{"$f":"(IF(C32=1,Calcs!$N163,IF(C32=2,Calcs!$O163,IF(C32=3,Calcs!$P163,IF(C32=4,Calcs!$Q163,IF(C32=5,Calcs!$R163,IF(C32=6,Calcs!$S163,IF(C32=7,Calcs!$T163,IF(C32=8,Calcs!$U163,0)))))))))","v":0},{"$f":"(IF(D32=1,Calcs!$N163,IF(D32=2,Calcs!$O163,IF(D32=3,Calcs!$P163,IF(D32=4,Calcs!$Q163,IF(D32=5,Calcs!$R163,IF(D32=6,Calcs!$S163,IF(D32=7,Calcs!$T163,IF(D32=8,Calcs!$U163,0)))))))))","v":469},{"$f":"(IF(E32=1,Calcs!$N163,IF(E32=2,Calcs!$O163,IF(E32=3,Calcs!$P163,IF(E32=4,Calcs!$Q163,IF(E32=5,Calcs!$R163,IF(E32=6,Calcs!$S163,IF(E32=7,Calcs!$T163,IF(E32=8,Calcs!$U163,0)))))))))","v":0},{"$f":"(IF(F32=1,Calcs!$N163,IF(F32=2,Calcs!$O163,IF(F32=3,Calcs!$P163,IF(F32=4,Calcs!$Q163,IF(F32=5,Calcs!$R163,IF(F32=6,Calcs!$S163,IF(F32=7,Calcs!$T163,IF(F32=8,Calcs!$U163,0)))))))))","v":0},{"$f":"(IF(G32=1,Calcs!$N163,IF(G32=2,Calcs!$O163,IF(G32=3,Calcs!$P163,IF(G32=4,Calcs!$Q163,IF(G32=5,Calcs!$R163,IF(G32=6,Calcs!$S163,IF(G32=7,Calcs!$T163,IF(G32=8,Calcs!$U163,0)))))))))","v":0},{"$f":"(IF(H32=1,Calcs!$N163,IF(H32=2,Calcs!$O163,IF(H32=3,Calcs!$P163,IF(H32=4,Calcs!$Q163,IF(H32=5,Calcs!$R163,IF(H32=6,Calcs!$S163,IF(H32=7,Calcs!$T163,IF(H32=8,Calcs!$U163,0)))))))))","v":469},{"$f":"(IF(I32=1,Calcs!$N163,IF(I32=2,Calcs!$O163,IF(I32=3,Calcs!$P163,IF(I32=4,Calcs!$Q163,IF(I32=5,Calcs!$R163,IF(I32=6,Calcs!$S163,IF(I32=7,Calcs!$T163,IF(I32=8,Calcs!$U163,0)))))))))","v":0},{"$f":"(IF(J32=1,Calcs!$N163,IF(J32=2,Calcs!$O163,IF(J32=3,Calcs!$P163,IF(J32=4,Calcs!$Q163,IF(J32=5,Calcs!$R163,IF(J32=6,Calcs!$S163,IF(J32=7,Calcs!$T163,IF(J32=8,Calcs!$U163,0)))))))))","v":0},{"$f":"(IF(K32=1,Calcs!$N163,IF(K32=2,Calcs!$O163,IF(K32=3,Calcs!$P163,IF(K32=4,Calcs!$Q163,IF(K32=5,Calcs!$R163,IF(K32=6,Calcs!$S163,IF(K32=7,Calcs!$T163,IF(K32=8,Calcs!$U163,0)))))))))","v":0},{"$f":"(IF(L32=1,Calcs!$N163,IF(L32=2,Calcs!$O163,IF(L32=3,Calcs!$P163,IF(L32=4,Calcs!$Q163,IF(L32=5,Calcs!$R163,IF(L32=6,Calcs!$S163,IF(L32=7,Calcs!$T163,IF(L32=8,Calcs!$U163,0)))))))))","v":469},null,{"$f":"'1.Profile'!$E$28+$AB$138","v":75},{"$f":"'1.Profile'!$E$28+$AB$138","v":75},{"$f":"'1.Profile'!$E$28+$AB$138","v":75},{"$f":"'1.Profile'!$G$28+$AC$138","v":469},null,null,null,null,null,"+boom"]
[27,"Glyphosate Early"]
[28,"Glyphosate Medium",null,"The cost is applied to the 'Glyphosate rate' below"]
[29,"Glyphosate Late"]
[30,"None",{"$f":"IF(C36=1,Calcs!$N167,IF(C36=2,Calcs!$O167,IF(C36=3,Calcs!$P167,IF(C36=4,Calcs!$Q167,IF(C36=5,Calcs!$R167,IF(C36=6,Calcs!$S167,IF(C36=7,Calcs!$T167,IF(C36=8,Calcs!$U167,0))))))))","v":0},{"$f":"IF(D36=1,Calcs!$N167,IF(D36=2,Calcs!$O167,IF(D36=3,Calcs!$P167,IF(D36=4,Calcs!$Q167,IF(D36=5,Calcs!$R167,IF(D36=6,Calcs!$S167,IF(D36=7,Calcs!$T167,IF(D36=8,Calcs!$U167,0))))))))","v":0},{"$f":"IF(E36=1,Calcs!$N167,IF(E36=2,Calcs!$O167,IF(E36=3,Calcs!$P167,IF(E36=4,Calcs!$Q167,IF(E36=5,Calcs!$R167,IF(E36=6,Calcs!$S167,IF(E36=7,Calcs!$T167,IF(E36=8,Calcs!$U167,0))))))))","v":0},{"$f":"IF(F36=1,Calcs!$N167,IF(F36=2,Calcs!$O167,IF(F36=3,Calcs!$P167,IF(F36=4,Calcs!$Q167,IF(F36=5,Calcs!$R167,IF(F36=6,Calcs!$S167,IF(F36=7,Calcs!$T167,IF(F36=8,Calcs!$U167,0))))))))","v":0},{"$f":"IF(G36=1,Calcs!$N167,IF(G36=2,Calcs!$O167,IF(G36=3,Calcs!$P167,IF(G36=4,Calcs!$Q167,IF(G36=5,Calcs!$R167,IF(G36=6,Calcs!$S167,IF(G36=7,Calcs!$T167,IF(G36=8,Calcs!$U167,0))))))))","v":0},{"$f":"IF(H36=1,Calcs!$N167,IF(H36=2,Calcs!$O167,IF(H36=3,Calcs!$P167,IF(H36=4,Calcs!$Q167,IF(H36=5,Calcs!$R167,IF(H36=6,Calcs!$S167,IF(H36=7,Calcs!$T167,IF(H36=8,Calcs!$U167,0))))))))","v":0},{"$f":"IF(I36=1,Calcs!$N167,IF(I36=2,Calcs!$O167,IF(I36=3,Calcs!$P167,IF(I36=4,Calcs!$Q167,IF(I36=5,Calcs!$R167,IF(I36=6,Calcs!$S167,IF(I36=7,Calcs!$T167,IF(I36=8,Calcs!$U167,0))))))))","v":0},{"$f":"IF(J36=1,Calcs!$N167,IF(J36=2,Calcs!$O167,IF(J36=3,Calcs!$P167,IF(J36=4,Calcs!$Q167,IF(J36=5,Calcs!$R167,IF(J36=6,Calcs!$S167,IF(J36=7,Calcs!$T167,IF(J36=8,Calcs!$U167,0))))))))","v":0},{"$f":"IF(K36=1,Calcs!$N167,IF(K36=2,Calcs!$O167,IF(K36=3,Calcs!$P167,IF(K36=4,Calcs!$Q167,IF(K36=5,Calcs!$R167,IF(K36=6,Calcs!$S167,IF(K36=7,Calcs!$T167,IF(K36=8,Calcs!$U167,0))))))))","v":0},{"$f":"IF(L36=1,Calcs!$N167,IF(L36=2,Calcs!$O167,IF(L36=3,Calcs!$P167,IF(L36=4,Calcs!$Q167,IF(L36=5,Calcs!$R167,IF(L36=6,Calcs!$S167,IF(L36=7,Calcs!$T167,IF(L36=8,Calcs!$U167,0))))))))","v":0},null,null,null,null,null,0,0,0,0,"Profile"]
[31,{"$f":"\"Glyphosate rate: \"&'1.Profile'!C16","v":"Glyphosate rate: 540"},{"$f":"IF(C37=1,Calcs!$N168,IF(C37=2,Calcs!$O168,IF(C37=3,Calcs!$P168,IF(C37=4,Calcs!$Q168,IF(C37=5,Calcs!$R168,IF(C37=6,Calcs!$S168,IF(C37=7,Calcs!$T168,IF(C37=8,Calcs!$U168,0))))))))","v":0},{"$f":"IF(D37=1,Calcs!$N168,IF(D37=2,Calcs!$O168,IF(D37=3,Calcs!$P168,IF(D37=4,Calcs!$Q168,IF(D37=5,Calcs!$R168,IF(D37=6,Calcs!$S168,IF(D37=7,Calcs!$T168,IF(D37=8,Calcs!$U168,0))))))))","v":0},{"$f":"IF(E37=1,Calcs!$N168,IF(E37=2,Calcs!$O168,IF(E37=3,Calcs!$P168,IF(E37=4,Calcs!$Q168,IF(E37=5,Calcs!$R168,IF(E37=6,Calcs!$S168,IF(E37=7,Calcs!$T168,IF(E37=8,Calcs!$U168,0))))))))","v":0},{"$f":"IF(F37=1,Calcs!$N168,IF(F37=2,Calcs!$O168,IF(F37=3,Calcs!$P168,IF(F37=4,Calcs!$Q168,IF(F37=5,Calcs!$R168,IF(F37=6,Calcs!$S168,IF(F37=7,Calcs!$T168,IF(F37=8,Calcs!$U168,0))))))))","v":0},{"$f":"IF(G37=1,Calcs!$N168,IF(G37=2,Calcs!$O168,IF(G37=3,Calcs!$P168,IF(G37=4,Calcs!$Q168,IF(G37=5,Calcs!$R168,IF(G37=6,Calcs!$S168,IF(G37=7,Calcs!$T168,IF(G37=8,Calcs!$U168,0))))))))","v":0},{"$f":"IF(H37=1,Calcs!$N168,IF(H37=2,Calcs!$O168,IF(H37=3,Calcs!$P168,IF(H37=4,Calcs!$Q168,IF(H37=5,Calcs!$R168,IF(H37=6,Calcs!$S168,IF(H37=7,Calcs!$T168,IF(H37=8,Calcs!$U168,0))))))))","v":0},{"$f":"IF(I37=1,Calcs!$N168,IF(I37=2,Calcs!$O168,IF(I37=3,Calcs!$P168,IF(I37=4,Calcs!$Q168,IF(I37=5,Calcs!$R168,IF(I37=6,Calcs!$S168,IF(I37=7,Calcs!$T168,IF(I37=8,Calcs!$U168,0))))))))","v":0},{"$f":"IF(J37=1,Calcs!$N168,IF(J37=2,Calcs!$O168,IF(J37=3,Calcs!$P168,IF(J37=4,Calcs!$Q168,IF(J37=5,Calcs!$R168,IF(J37=6,Calcs!$S168,IF(J37=7,Calcs!$T168,IF(J37=8,Calcs!$U168,0))))))))","v":0},{"$f":"IF(K37=1,Calcs!$N168,IF(K37=2,Calcs!$O168,IF(K37=3,Calcs!$P168,IF(K37=4,Calcs!$Q168,IF(K37=5,Calcs!$R168,IF(K37=6,Calcs!$S168,IF(K37=7,Calcs!$T168,IF(K37=8,Calcs!$U168,0))))))))","v":0},{"$f":"IF(L37=1,Calcs!$N168,IF(L37=2,Calcs!$O168,IF(L37=3,Calcs!$P168,IF(L37=4,Calcs!$Q168,IF(L37=5,Calcs!$R168,IF(L37=6,Calcs!$S168,IF(L37=7,Calcs!$T168,IF(L37=8,Calcs!$U168,0))))))))","v":0},null,null,null,null,null,{"$f":"'1.Profile'!$F$16+AB163","v":75},{"$f":"'1.Profile'!$F$16+AB163","v":75},{"$f":"'1.Profile'!$F$16+AB163","v":75},{"$f":"'1.Profile'!$F$16+AD163","v":75},null,"+boom"]
[32,{"$f":"\"Glyphosate rate: \"&'1.Profile'!C17","v":"Glyphosate rate: 1080"},{"$f":"IF(C38=1,Calcs!$N169,IF(C38=2,Calcs!$O169,IF(C38=3,Calcs!$P169,IF(C38=4,Calcs!$Q169,IF(C38=5,Calcs!$R169,IF(C38=6,Calcs!$S169,IF(C38=7,Calcs!$T169,IF(C38=8,Calcs!$U169,0))))))))","v":0},{"$f":"IF(D38=1,Calcs!$N169,IF(D38=2,Calcs!$O169,IF(D38=3,Calcs!$P169,IF(D38=4,Calcs!$Q169,IF(D38=5,Calcs!$R169,IF(D38=6,Calcs!$S169,IF(D38=7,Calcs!$T169,IF(D38=8,Calcs!$U169,0))))))))","v":0},{"$f":"IF(E38=1,Calcs!$N169,IF(E38=2,Calcs!$O169,IF(E38=3,Calcs!$P169,IF(E38=4,Calcs!$Q169,IF(E38=5,Calcs!$R169,IF(E38=6,Calcs!$S169,IF(E38=7,Calcs!$T169,IF(E38=8,Calcs!$U169,0))))))))","v":0},{"$f":"IF(F38=1,Calcs!$N169,IF(F38=2,Calcs!$O169,IF(F38=3,Calcs!$P169,IF(F38=4,Calcs!$Q169,IF(F38=5,Calcs!$R169,IF(F38=6,Calcs!$S169,IF(F38=7,Calcs!$T169,IF(F38=8,Calcs!$U169,0))))))))","v":0},{"$f":"IF(G38=1,Calcs!$N169,IF(G38=2,Calcs!$O169,IF(G38=3,Calcs!$P169,IF(G38=4,Calcs!$Q169,IF(G38=5,Calcs!$R169,IF(G38=6,Calcs!$S169,IF(G38=7,Calcs!$T169,IF(G38=8,Calcs!$U169,0))))))))","v":0},{"$f":"IF(H38=1,Calcs!$N169,IF(H38=2,Calcs!$O169,IF(H38=3,Calcs!$P169,IF(H38=4,Calcs!$Q169,IF(H38=5,Calcs!$R169,IF(H38=6,Calcs!$S169,IF(H38=7,Calcs!$T169,IF(H38=8,Calcs!$U169,0))))))))","v":0},{"$f":"IF(I38=1,Calcs!$N169,IF(I38=2,Calcs!$O169,IF(I38=3,Calcs!$P169,IF(I38=4,Calcs!$Q169,IF(I38=5,Calcs!$R169,IF(I38=6,Calcs!$S169,IF(I38=7,Calcs!$T169,IF(I38=8,Calcs!$U169,0))))))))","v":0},{"$f":"IF(J38=1,Calcs!$N169,IF(J38=2,Calcs!$O169,IF(J38=3,Calcs!$P169,IF(J38=4,Calcs!$Q169,IF(J38=5,Calcs!$R169,IF(J38=6,Calcs!$S169,IF(J38=7,Calcs!$T169,IF(J38=8,Calcs!$U169,0))))))))","v":0},{"$f":"IF(K38=1,Calcs!$N169,IF(K38=2,Calcs!$O169,IF(K38=3,Calcs!$P169,IF(K38=4,Calcs!$Q169,IF(K38=5,Calcs!$R169,IF(K38=6,Calcs!$S169,IF(K38=7,Calcs!$T169,IF(K38=8,Calcs!$U169,0))))))))","v":0},{"$f":"IF(L38=1,Calcs!$N169,IF(L38=2,Calcs!$O169,IF(L38=3,Calcs!$P169,IF(L38=4,Calcs!$Q169,IF(L38=5,Calcs!$R169,IF(L38=6,Calcs!$S169,IF(L38=7,Calcs!$T169,IF(L38=8,Calcs!$U169,0))))))))","v":0},null,null,null,null,null,{"$f":"'1.Profile'!$F$17+AB163","v":150},{"$f":"'1.Profile'!$F$17+AB163","v":150},{"$f":"'1.Profile'!$F$17+AB163","v":150},{"$f":"'1.Profile'!$F$17+AD163","v":150},null,"+boom"]
[33,"Need-based plough",{"$f":"IF(C39=1,Calcs!$N170,IF(C39=2,Calcs!$O170,IF(C39=3,Calcs!$P170,IF(C39=4,Calcs!$Q170,IF(C39=5,Calcs!$R170,IF(C39=6,Calcs!$S170,IF(C39=7,Calcs!$T170,IF(C39=8,$U170,0))))))))","v":0},{"$f":"IF(D39=1,Calcs!$N170,IF(D39=2,Calcs!$O170,IF(D39=3,Calcs!$P170,IF(D39=4,Calcs!$Q170,IF(D39=5,Calcs!$R170,IF(D39=6,Calcs!$S170,IF(D39=7,Calcs!$T170,IF(D39=8,$U170,0))))))))","v":0},{"$f":"IF(E39=1,Calcs!$N170,IF(E39=2,Calcs!$O170,IF(E39=3,Calcs!$P170,IF(E39=4,Calcs!$Q170,IF(E39=5,Calcs!$R170,IF(E39=6,Calcs!$S170,IF(E39=7,Calcs!$T170,IF(E39=8,$U170,0))))))))","v":0},{"$f":"IF(F39=1,Calcs!$N170,IF(F39=2,Calcs!$O170,IF(F39=3,Calcs!$P170,IF(F39=4,Calcs!$Q170,IF(F39=5,Calcs!$R170,IF(F39=6,Calcs!$S170,IF(F39=7,Calcs!$T170,IF(F39=8,$U170,0))))))))","v":0},{"$f":"IF(G39=1,Calcs!$N170,IF(G39=2,Calcs!$O170,IF(G39=3,Calcs!$P170,IF(G39=4,Calcs!$Q170,IF(G39=5,Calcs!$R170,IF(G39=6,Calcs!$S170,IF(G39=7,Calcs!$T170,IF(G39=8,$U170,0))))))))","v":0},{"$f":"IF(H39=1,Calcs!$N170,IF(H39=2,Calcs!$O170,IF(H39=3,Calcs!$P170,IF(H39=4,Calcs!$Q170,IF(H39=5,Calcs!$R170,IF(H39=6,Calcs!$S170,IF(H39=7,Calcs!$T170,IF(H39=8,$U170,0))))))))","v":0},{"$f":"IF(I39=1,Calcs!$N170,IF(I39=2,Calcs!$O170,IF(I39=3,Calcs!$P170,IF(I39=4,Calcs!$Q170,IF(I39=5,Calcs!$R170,IF(I39=6,Calcs!$S170,IF(I39=7,Calcs!$T170,IF(I39=8,$U170,0))))))))","v":0},{"$f":"IF(J39=1,Calcs!$N170,IF(J39=2,Calcs!$O170,IF(J39=3,Calcs!$P170,IF(J39=4,Calcs!$Q170,IF(J39=5,Calcs!$R170,IF(J39=6,Calcs!$S170,IF(J39=7,Calcs!$T170,IF(J39=8,$U170,0))))))))","v":0},{"$f":"IF(K39=1,Calcs!$N170,IF(K39=2,Calcs!$O170,IF(K39=3,Calcs!$P170,IF(K39=4,Calcs!$Q170,IF(K39=5,Calcs!$R170,IF(K39=6,Calcs!$S170,IF(K39=7,Calcs!$T170,IF(K39=8,$U170,0))))))))","v":0},{"$f":"IF(L39=1,Calcs!$N170,IF(L39=2,Calcs!$O170,IF(L39=3,Calcs!$P170,IF(L39=4,Calcs!$Q170,IF(L39=5,Calcs!$R170,IF(L39=6,Calcs!$S170,IF(L39=7,Calcs!$T170,IF(L39=8,$U170,0))))))))","v":0},null,null,null,null,null,{"$f":"'+Prices'!$AJ$95","v":4842},{"$f":"'+Prices'!$AJ$95","v":4842},{"$f":"'+Prices'!$AJ$95","v":4842},{"$f":"'+Prices'!$AJ$95","v":4842}]
[34,"Plough",{"$f":"IF(C40=1,Calcs!$N171,IF(C40=2,Calcs!$O171,IF(C40=3,Calcs!$P171,IF(C40=4,Calcs!$Q171,IF(C40=5,Calcs!$R171,IF(C40=6,Calcs!$S171,IF(C40=7,Calcs!$T171,IF(C40=8,$U171,0))))))))","v":4842},{"$f":"IF(D40=1,Calcs!$N171,IF(D40=2,Calcs!$O171,IF(D40=3,Calcs!$P171,IF(D40=4,Calcs!$Q171,IF(D40=5,Calcs!$R171,IF(D40=6,Calcs!$S171,IF(D40=7,Calcs!$T171,IF(D40=8,$U171,0))))))))","v":0},{"$f":"IF(E40=1,Calcs!$N171,IF(E40=2,Calcs!$O171,IF(E40=3,Calcs!$P171,IF(E40=4,Calcs!$Q171,IF(E40=5,Calcs!$R171,IF(E40=6,Calcs!$S171,IF(E40=7,Calcs!$T171,IF(E40=8,$U171,0))))))))","v":0},{"$f":"IF(F40=1,Calcs!$N171,IF(F40=2,Calcs!$O171,IF(F40=3,Calcs!$P171,IF(F40=4,Calcs!$Q171,IF(F40=5,Calcs!$R171,IF(F40=6,Calcs!$S171,IF(F40=7,Calcs!$T171,IF(F40=8,$U171,0))))))))","v":0},{"$f":"IF(G40=1,Calcs!$N171,IF(G40=2,Calcs!$O171,IF(G40=3,Calcs!$P171,IF(G40=4,Calcs!$Q171,IF(G40=5,Calcs!$R171,IF(G40=6,Calcs!$S171,IF(G40=7,Calcs!$T171,IF(G40=8,$U171,0))))))))","v":4842},{"$f":"IF(H40=1,Calcs!$N171,IF(H40=2,Calcs!$O171,IF(H40=3,Calcs!$P171,IF(H40=4,Calcs!$Q171,IF(H40=5,Calcs!$R171,IF(H40=6,Calcs!$S171,IF(H40=7,Calcs!$T171,IF(H40=8,$U171,0))))))))","v":0},{"$f":"IF(I40=1,Calcs!$N171,IF(I40=2,Calcs!$O171,IF(I40=3,Calcs!$P171,IF(I40=4,Calcs!$Q171,IF(I40=5,Calcs!$R171,IF(I40=6,Calcs!$S171,IF(I40=7,Calcs!$T171,IF(I40=8,$U171,0))))))))","v":0},{"$f":"IF(J40=1,Calcs!$N171,IF(J40=2,Calcs!$O171,IF(J40=3,Calcs!$P171,IF(J40=4,Calcs!$Q171,IF(J40=5,Calcs!$R171,IF(J40=6,Calcs!$S171,IF(J40=7,Calcs!$T171,IF(J40=8,$U171,0))))))))","v":0},{"$f":"IF(K40=1,Calcs!$N171,IF(K40=2,Calcs!$O171,IF(K40=3,Calcs!$P171,IF(K40=4,Calcs!$Q171,IF(K40=5,Calcs!$R171,IF(K40=6,Calcs!$S171,IF(K40=7,Calcs!$T171,IF(K40=8,$U171,0))))))))","v":4842},{"$f":"IF(L40=1,Calcs!$N171,IF(L40=2,Calcs!$O171,IF(L40=3,Calcs!$P171,IF(L40=4,Calcs!$Q171,IF(L40=5,Calcs!$R171,IF(L40=6,Calcs!$S171,IF(L40=7,Calcs!$T171,IF(L40=8,$U171,0))))))))","v":0},null,null,null,null,null,{"$f":"'+Prices'!$AJ$95","v":4842},{"$f":"'+Prices'!$AJ$95","v":4842},{"$f":"'+Prices'!$AJ$95","v":4842},{"$f":"'+Prices'!$AJ$95","v":4842},"Prices"]
[35,"Reduced tillage",{"$f":"IF(C41=1,Calcs!$N172,IF(C41=2,Calcs!$O172,IF(C41=3,Calcs!$P172,IF(C41=4,Calcs!$Q172,IF(C41=5,Calcs!$R172,IF(C41=6,Calcs!$S172,IF(C41=7,Calcs!$T172,IF(C41=8,$U172,0))))))))","v":0},{"$f":"IF(D41=1,Calcs!$N172,IF(D41=2,Calcs!$O172,IF(D41=3,Calcs!$P172,IF(D41=4,Calcs!$Q172,IF(D41=5,Calcs!$R172,IF(D41=6,Calcs!$S172,IF(D41=7,Calcs!$T172,IF(D41=8,$U172,0))))))))","v":0},{"$f":"IF(E41=1,Calcs!$N172,IF(E41=2,Calcs!$O172,IF(E41=3,Calcs!$P172,IF(E41=4,Calcs!$Q172,IF(E41=5,Calcs!$R172,IF(E41=6,Calcs!$S172,IF(E41=7,Calcs!$T172,IF(E41=8,$U172,0))))))))","v":0},{"$f":"IF(F41=1,Calcs!$N172,IF(F41=2,Calcs!$O172,IF(F41=3,Calcs!$P172,IF(F41=4,Calcs!$Q172,IF(F41=5,Calcs!$R172,IF(F41=6,Calcs!$S172,IF(F41=7,Calcs!$T172,IF(F41=8,$U172,0))))))))","v":0},{"$f":"IF(G41=1,Calcs!$N172,IF(G41=2,Calcs!$O172,IF(G41=3,Calcs!$P172,IF(G41=4,Calcs!$Q172,IF(G41=5,Calcs!$R172,IF(G41=6,Calcs!$S172,IF(G41=7,Calcs!$T172,IF(G41=8,$U172,0))))))))","v":0},{"$f":"IF(H41=1,Calcs!$N172,IF(H41=2,Calcs!$O172,IF(H41=3,Calcs!$P172,IF(H41=4,Calcs!$Q172,IF(H41=5,Calcs!$R172,IF(H41=6,Calcs!$S172,IF(H41=7,Calcs!$T172,IF(H41=8,$U172,0))))))))","v":0},{"$f":"IF(I41=1,Calcs!$N172,IF(I41=2,Calcs!$O172,IF(I41=3,Calcs!$P172,IF(I41=4,Calcs!$Q172,IF(I41=5,Calcs!$R172,IF(I41=6,Calcs!$S172,IF(I41=7,Calcs!$T172,IF(I41=8,$U172,0))))))))","v":0},{"$f":"IF(J41=1,Calcs!$N172,IF(J41=2,Calcs!$O172,IF(J41=3,Calcs!$P172,IF(J41=4,Calcs!$Q172,IF(J41=5,Calcs!$R172,IF(J41=6,Calcs!$S172,IF(J41=7,Calcs!$T172,IF(J41=8,$U172,0))))))))","v":0},{"$f":"IF(K41=1,Calcs!$N172,IF(K41=2,Calcs!$O172,IF(K41=3,Calcs!$P172,IF(K41=4,Calcs!$Q172,IF(K41=5,Calcs!$R172,IF(K41=6,Calcs!$S172,IF(K41=7,Calcs!$T172,IF(K41=8,$U172,0))))))))","v":0},{"$f":"IF(L41=1,Calcs!$N172,IF(L41=2,Calcs!$O172,IF(L41=3,Calcs!$P172,IF(L41=4,Calcs!$Q172,IF(L41=5,Calcs!$R172,IF(L41=6,Calcs!$S172,IF(L41=7,Calcs!$T172,IF(L41=8,$U172,0))))))))","v":0},null,null,null,null,null,{"$f":"'+Prices'!$AJ$96","v":4172},{"$f":"'+Prices'!$AJ$96","v":4172},{"$f":"'+Prices'!$AJ$96","v":4172},{"$f":"'+Prices'!$AJ$96","v":4172},"Prices"]
[36,"No-till",{"$f":"IF(C42=1,Calcs!$N173,IF(C42=2,Calcs!$O173,IF(C42=3,Calcs!$P173,IF(C42=4,Calcs!$Q173,IF(C42=5,Calcs!$R173,IF(C42=6,Calcs!$S173,IF(C42=7,Calcs!$T173,IF(C42=8,$U173,0))))))))","v":0},{"$f":"IF(D42=1,Calcs!$N173,IF(D42=2,Calcs!$O173,IF(D42=3,Calcs!$P173,IF(D42=4,Calcs!$Q173,IF(D42=5,Calcs!$R173,IF(D42=6,Calcs!$S173,IF(D42=7,Calcs!$T173,IF(D42=8,$U173,0))))))))","v":0},{"$f":"IF(E42=1,Calcs!$N173,IF(E42=2,Calcs!$O173,IF(E42=3,Calcs!$P173,IF(E42=4,Calcs!$Q173,IF(E42=5,Calcs!$R173,IF(E42=6,Calcs!$S173,IF(E42=7,Calcs!$T173,IF(E42=8,$U173,0))))))))","v":0},{"$f":"IF(F42=1,Calcs!$N173,IF(F42=2,Calcs!$O173,IF(F42=3,Calcs!$P173,IF(F42=4,Calcs!$Q173,IF(F42=5,Calcs!$R173,IF(F42=6,Calcs!$S173,IF(F42=7,Calcs!$T173,IF(F42=8,$U173,0))))))))","v":0},{"$f":"IF(G42=1,Calcs!$N173,IF(G42=2,Calcs!$O173,IF(G42=3,Calcs!$P173,IF(G42=4,Calcs!$Q173,IF(G42=5,Calcs!$R173,IF(G42=6,Calcs!$S173,IF(G42=7,Calcs!$T173,IF(G42=8,$U173,0))))))))","v":0},{"$f":"IF(H42=1,Calcs!$N173,IF(H42=2,Calcs!$O173,IF(H42=3,Calcs!$P173,IF(H42=4,Calcs!$Q173,IF(H42=5,Calcs!$R173,IF(H42=6,Calcs!$S173,IF(H42=7,Calcs!$T173,IF(H42=8,$U173,0))))))))","v":0},{"$f":"IF(I42=1,Calcs!$N173,IF(I42=2,Calcs!$O173,IF(I42=3,Calcs!$P173,IF(I42=4,Calcs!$Q173,IF(I42=5,Calcs!$R173,IF(I42=6,Calcs!$S173,IF(I42=7,Calcs!$T173,IF(I42=8,$U173,0))))))))","v":0},{"$f":"IF(J42=1,Calcs!$N173,IF(J42=2,Calcs!$O173,IF(J42=3,Calcs!$P173,IF(J42=4,Calcs!$Q173,IF(J42=5,Calcs!$R173,IF(J42=6,Calcs!$S173,IF(J42=7,Calcs!$T173,IF(J42=8,$U173,0))))))))","v":0},{"$f":"IF(K42=1,Calcs!$N173,IF(K42=2,Calcs!$O173,IF(K42=3,Calcs!$P173,IF(K42=4,Calcs!$Q173,IF(K42=5,Calcs!$R173,IF(K42=6,Calcs!$S173,IF(K42=7,Calcs!$T173,IF(K42=8,$U173,0))))))))","v":0},{"$f":"IF(L42=1,Calcs!$N173,IF(L42=2,Calcs!$O173,IF(L42=3,Calcs!$P173,IF(L42=4,Calcs!$Q173,IF(L42=5,Calcs!$R173,IF(L42=6,Calcs!$S173,IF(L42=7,Calcs!$T173,IF(L42=8,$U173,0))))))))","v":0},null,null,null,null,null,{"$f":"'+Prices'!$AJ$97","v":3852},{"$f":"'+Prices'!$AJ$97","v":3852},{"$f":"'+Prices'!$AJ$97","v":3852},{"$f":"'+Prices'!$AJ$97","v":3852},"Prices"]
[37,"Early sowing",null,"Since sowing must occur anyway, the cost attributable to weed control is zero and ",null,null,null,null,null,null,null,null,null,null,null,null,null,null,null,null,null,null,null,null,"Residue removal accounted for in Prices, Machinary"]
[38,"Intermediate sowing",null,"included instead in the non-weed control costs, from the Prices page to the "]
[39,"Late Sowing","Production cost table below, to the Eco results.",null,null,null,null,null,"Yield penalty accounted for in 'Bio results'."]
[40,"Standard seeding rate",{"$f":"IF(C46=1,Calcs!$N$150,IF(C46=2,Calcs!$O$150,IF(C46=3,Calcs!$P$150,IF(C46=4,Calcs!$Q$150,IF(C46=5,Calcs!$R$177,IF(C46=6,Calcs!$S$177,IF(C46=7,Calcs!$T$177,IF(C46=8,Calcs!$U$177,0))))))))","v":360},{"$f":"IF(D46=1,Calcs!$N$150,IF(D46=2,Calcs!$O$150,IF(D46=3,Calcs!$P$150,IF(D46=4,Calcs!$Q$150,IF(D46=5,Calcs!$R$177,IF(D46=6,Calcs!$S$177,IF(D46=7,Calcs!$T$177,IF(D46=8,Calcs!$U$177,0))))))))","v":0},{"$f":"IF(E46=1,Calcs!$N$150,IF(E46=2,Calcs!$O$150,IF(E46=3,Calcs!$P$150,IF(E46=4,Calcs!$Q$150,IF(E46=5,Calcs!$R$177,IF(E46=6,Calcs!$S$177,IF(E46=7,Calcs!$T$177,IF(E46=8,Calcs!$U$177,0))))))))","v":0},{"$f":"IF(F46=1,Calcs!$N$150,IF(F46=2,Calcs!$O$150,IF(F46=3,Calcs!$P$150,IF(F46=4,Calcs!$Q$150,IF(F46=5,Calcs!$R$177,IF(F46=6,Calcs!$S$177,IF(F46=7,Calcs!$T$177,IF(F46=8,Calcs!$U$177,0))))))))","v":0},{"$f":"IF(G46=1,Calcs!$N$150,IF(G46=2,Calcs!$O$150,IF(G46=3,Calcs!$P$150,IF(G46=4,Calcs!$Q$150,IF(G46=5,Calcs!$R$177,IF(G46=6,Calcs!$S$177,IF(G46=7,Calcs!$T$177,IF(G46=8,Calcs!$U$177,0))))))))","v":360},{"$f":"IF(H46=1,Calcs!$N$150,IF(H46=2,Calcs!$O$150,IF(H46=3,Calcs!$P$150,IF(H46=4,Calcs!$Q$150,IF(H46=5,Calcs!$R$177,IF(H46=6,Calcs!$S$177,IF(H46=7,Calcs!$T$177,IF(H46=8,Calcs!$U$177,0))))))))","v":0},{"$f":"IF(I46=1,Calcs!$N$150,IF(I46=2,Calcs!$O$150,IF(I46=3,Calcs!$P$150,IF(I46=4,Calcs!$Q$150,IF(I46=5,Calcs!$R$177,IF(I46=6,Calcs!$S$177,IF(I46=7,Calcs!$T$177,IF(I46=8,Calcs!$U$177,0))))))))","v":0},{"$f":"IF(J46=1,Calcs!$N$150,IF(J46=2,Calcs!$O$150,IF(J46=3,Calcs!$P$150,IF(J46=4,Calcs!$Q$150,IF(J46=5,Calcs!$R$177,IF(J46=6,Calcs!$S$177,IF(J46=7,Calcs!$T$177,IF(J46=8,Calcs!$U$177,0))))))))","v":0},{"$f":"IF(K46=1,Calcs!$N$150,IF(K46=2,Calcs!$O$150,IF(K46=3,Calcs!$P$150,IF(K46=4,Calcs!$Q$150,IF(K46=5,Calcs!$R$177,IF(K46=6,Calcs!$S$177,IF(K46=7,Calcs!$T$177,IF(K46=8,Calcs!$U$177,0))))))))","v":360},{"$f":"IF(L46=1,Calcs!$N$150,IF(L46=2,Calcs!$O$150,IF(L46=3,Calcs!$P$150,IF(L46=4,Calcs!$Q$150,IF(L46=5,Calcs!$R$177,IF(L46=6,Calcs!$S$177,IF(L46=7,Calcs!$T$177,IF(L46=8,Calcs!$U$177,0))))))))","v":0},null,null,null,null,null,{"$f":"'+Prices'!AM91","v":360},{"$f":"'+Prices'!AN91","v":378},{"$f":"'+Prices'!AO91","v":428},{"$f":"'+Prices'!AO91","v":428},"Prices"]
[41,"Intermediate seeding rate",{"$f":"IF(C47=1,Calcs!$N$150,IF(C47=2,Calcs!$O$150,IF(C47=3,Calcs!$P$150,IF(C47=4,Calcs!$Q$150,IF(C47=5,Calcs!$R$178,IF(C47=6,Calcs!$S$178,IF(C47=7,Calcs!$T$178,IF(C47=8,Calcs!$U$178,0))))))))","v":0},{"$f":"IF(D47=1,Calcs!$N$150,IF(D47=2,Calcs!$O$150,IF(D47=3,Calcs!$P$150,IF(D47=4,Calcs!$Q$150,IF(D47=5,Calcs!$R$178,IF(D47=6,Calcs!$S$178,IF(D47=7,Calcs!$T$178,IF(D47=8,Calcs!$U$178,0))))))))","v":0},{"$f":"IF(E47=1,Calcs!$N$150,IF(E47=2,Calcs!$O$150,IF(E47=3,Calcs!$P$150,IF(E47=4,Calcs!$Q$150,IF(E47=5,Calcs!$R$178,IF(E47=6,Calcs!$S$178,IF(E47=7,Calcs!$T$178,IF(E47=8,Calcs!$U$178,0))))))))","v":0},{"$f":"IF(F47=1,Calcs!$N$150,IF(F47=2,Calcs!$O$150,IF(F47=3,Calcs!$P$150,IF(F47=4,Calcs!$Q$150,IF(F47=5,Calcs!$R$178,IF(F47=6,Calcs!$S$178,IF(F47=7,Calcs!$T$178,IF(F47=8,Calcs!$U$178,0))))))))","v":0},{"$f":"IF(G47=1,Calcs!$N$150,IF(G47=2,Calcs!$O$150,IF(G47=3,Calcs!$P$150,IF(G47=4,Calcs!$Q$150,IF(G47=5,Calcs!$R$178,IF(G47=6,Calcs!$S$178,IF(G47=7,Calcs!$T$178,IF(G47=8,Calcs!$U$178,0))))))))","v":0},{"$f":"IF(H47=1,Calcs!$N$150,IF(H47=2,Calcs!$O$150,IF(H47=3,Calcs!$P$150,IF(H47=4,Calcs!$Q$150,IF(H47=5,Calcs!$R$178,IF(H47=6,Calcs!$S$178,IF(H47=7,Calcs!$T$178,IF(H47=8,Calcs!$U$178,0))))))))","v":0},{"$f":"IF(I47=1,Calcs!$N$150,IF(I47=2,Calcs!$O$150,IF(I47=3,Calcs!$P$150,IF(I47=4,Calcs!$Q$150,IF(I47=5,Calcs!$R$178,IF(I47=6,Calcs!$S$178,IF(I47=7,Calcs!$T$178,IF(I47=8,Calcs!$U$178,0))))))))","v":0},{"$f":"IF(J47=1,Calcs!$N$150,IF(J47=2,Calcs!$O$150,IF(J47=3,Calcs!$P$150,IF(J47=4,Calcs!$Q$150,IF(J47=5,Calcs!$R$178,IF(J47=6,Calcs!$S$178,IF(J47=7,Calcs!$T$178,IF(J47=8,Calcs!$U$178,0))))))))","v":0},{"$f":"IF(K47=1,Calcs!$N$150,IF(K47=2,Calcs!$O$150,IF(K47=3,Calcs!$P$150,IF(K47=4,Calcs!$Q$150,IF(K47=5,Calcs!$R$178,IF(K47=6,Calcs!$S$178,IF(K47=7,Calcs!$T$178,IF(K47=8,Calcs!$U$178,0))))))))","v":0},{"$f":"IF(L47=1,Calcs!$N$150,IF(L47=2,Calcs!$O$150,IF(L47=3,Calcs!$P$150,IF(L47=4,Calcs!$Q$150,IF(L47=5,Calcs!$R$178,IF(L47=6,Calcs!$S$178,IF(L47=7,Calcs!$T$178,IF(L47=8,Calcs!$U$178,0))))))))","v":0},null,null,null,null,null,{"$f":"'+Prices'!AM91+'+Prices'!AM98","v":385.71428571428572},{"$f":"'+Prices'!AN91+'+Prices'!AN98","v":405},{"$f":"'+Prices'!AO91+'+Prices'!AO98","v":440.58823529411762},{"$f":"'+Prices'!AP91+'+Prices'!AP98","v":448.8},"Prices"]
[42,"High seeding rate",{"$f":"IF(C48=1,Calcs!$N$152,IF(C48=2,Calcs!$O$152,IF(C48=3,Calcs!$P$152,IF(C48=4,Calcs!$Q$152,IF(C48=5,Calcs!$R$179,IF(C48=6,Calcs!$S$179,IF(C48=7,Calcs!$T$179,IF(C48=8,Calcs!$U$179,0))))))))","v":0},{"$f":"IF(D48=1,Calcs!$N$152,IF(D48=2,Calcs!$O$152,IF(D48=3,Calcs!$P$152,IF(D48=4,Calcs!$Q$152,IF(D48=5,Calcs!$R$179,IF(D48=6,Calcs!$S$179,IF(D48=7,Calcs!$T$179,IF(D48=8,Calcs!$U$179,0))))))))","v":0},{"$f":"IF(E48=1,Calcs!$N$152,IF(E48=2,Calcs!$O$152,IF(E48=3,Calcs!$P$152,IF(E48=4,Calcs!$Q$152,IF(E48=5,Calcs!$R$179,IF(E48=6,Calcs!$S$179,IF(E48=7,Calcs!$T$179,IF(E48=8,Calcs!$U$179,0))))))))","v":0},{"$f":"IF(F48=1,Calcs!$N$152,IF(F48=2,Calcs!$O$152,IF(F48=3,Calcs!$P$152,IF(F48=4,Calcs!$Q$152,IF(F48=5,Calcs!$R$179,IF(F48=6,Calcs!$S$179,IF(F48=7,Calcs!$T$179,IF(F48=8,Calcs!$U$179,0))))))))","v":0},{"$f":"IF(G48=1,Calcs!$N$152,IF(G48=2,Calcs!$O$152,IF(G48=3,Calcs!$P$152,IF(G48=4,Calcs!$Q$152,IF(G48=5,Calcs!$R$179,IF(G48=6,Calcs!$S$179,IF(G48=7,Calcs!$T$179,IF(G48=8,Calcs!$U$179,0))))))))","v":0},{"$f":"IF(H48=1,Calcs!$N$152,IF(H48=2,Calcs!$O$152,IF(H48=3,Calcs!$P$152,IF(H48=4,Calcs!$Q$152,IF(H48=5,Calcs!$R$179,IF(H48=6,Calcs!$S$179,IF(H48=7,Calcs!$T$179,IF(H48=8,Calcs!$U$179,0))))))))","v":0},{"$f":"IF(I48=1,Calcs!$N$152,IF(I48=2,Calcs!$O$152,IF(I48=3,Calcs!$P$152,IF(I48=4,Calcs!$Q$152,IF(I48=5,Calcs!$R$179,IF(I48=6,Calcs!$S$179,IF(I48=7,Calcs!$T$179,IF(I48=8,Calcs!$U$179,0))))))))","v":0},{"$f":"IF(J48=1,Calcs!$N$152,IF(J48=2,Calcs!$O$152,IF(J48=3,Calcs!$P$152,IF(J48=4,Calcs!$Q$152,IF(J48=5,Calcs!$R$179,IF(J48=6,Calcs!$S$179,IF(J48=7,Calcs!$T$179,IF(J48=8,Calcs!$U$179,0))))))))","v":0},{"$f":"IF(K48=1,Calcs!$N$152,IF(K48=2,Calcs!$O$152,IF(K48=3,Calcs!$P$152,IF(K48=4,Calcs!$Q$152,IF(K48=5,Calcs!$R$179,IF(K48=6,Calcs!$S$179,IF(K48=7,Calcs!$T$179,IF(K48=8,Calcs!$U$179,0))))))))","v":0},{"$f":"IF(L48=1,Calcs!$N$152,IF(L48=2,Calcs!$O$152,IF(L48=3,Calcs!$P$152,IF(L48=4,Calcs!$Q$152,IF(L48=5,Calcs!$R$179,IF(L48=6,Calcs!$S$179,IF(L48=7,Calcs!$T$179,IF(L48=8,Calcs!$U$179,0))))))))","v":0},null,null,null,null,null,{"$f":"'+Prices'!AM91+'+Prices'!AM99","v":411.42857142857144},{"$f":"'+Prices'!AN91+'+Prices'!AN99","v":432},{"$f":"'+Prices'!AO91+'+Prices'!AO99","v":473.31764705882352},{"$f":"'+Prices'!AP91+'+Prices'!AP99","v":523.6},"Prices"]
[43,"Cover crops",{"$f":"IF(C49=5,Calcs!$R$180,IF(C49=6,Calcs!$S$180,IF(C49=7,Calcs!$T$180,IF(C49=8,Calcs!$U$180,0))))","v":0},{"$f":"IF(D49=5,Calcs!$R$180,IF(D49=6,Calcs!$S$180,IF(D49=7,Calcs!$T$180,IF(D49=8,Calcs!$U$180,0))))","v":0},{"$f":"IF(E49=5,Calcs!$R$180,IF(E49=6,Calcs!$S$180,IF(E49=7,Calcs!$T$180,IF(E49=8,Calcs!$U$180,0))))","v":0},{"$f":"IF(F49=5,Calcs!$R$180,IF(F49=6,Calcs!$S$180,IF(F49=7,Calcs!$T$180,IF(F49=8,Calcs!$U$180,0))))","v":0},{"$f":"IF(G49=5,Calcs!$R$180,IF(G49=6,Calcs!$S$180,IF(G49=7,Calcs!$T$180,IF(G49=8,Calcs!$U$180,0))))","v":0},{"$f":"IF(H49=5,Calcs!$R$180,IF(H49=6,Calcs!$S$180,IF(H49=7,Calcs!$T$180,IF(H49=8,Calcs!$U$180,0))))","v":0},{"$f":"IF(I49=5,Calcs!$R$180,IF(I49=6,Calcs!$S$180,IF(I49=7,Calcs!$T$180,IF(I49=8,Calcs!$U$180,0))))","v":0},{"$f":"IF(J49=5,Calcs!$R$180,IF(J49=6,Calcs!$S$180,IF(J49=7,Calcs!$T$180,IF(J49=8,Calcs!$U$180,0))))","v":0},{"$f":"IF(K49=5,Calcs!$R$180,IF(K49=6,Calcs!$S$180,IF(K49=7,Calcs!$T$180,IF(K49=8,Calcs!$U$180,0))))","v":0},{"$f":"IF(L49=5,Calcs!$R$180,IF(L49=6,Calcs!$S$180,IF(L49=7,Calcs!$T$180,IF(L49=8,Calcs!$U$180,0))))","v":0},null,null,null,null,null,{"$f":"'+Prices'!AM$99","v":51.428571428571423},{"$f":"'+Prices'!AN$99","v":54},{"$f":"'+Prices'!AO$99","v":45.317647058823532},{"$f":"'+Prices'!AP$99","v":149.6},"Prices"]
[44,"No cover crops",{"$f":"IF(C50=5,Calcs!$R$154,IF(C50=6,Calcs!$S$154,IF(C50=7,Calcs!$T$154,IF(C50=8,Calcs!$U$154,0))))","v":0},{"$f":"IF(D50=5,Calcs!$R$154,IF(D50=6,Calcs!$S$154,IF(D50=7,Calcs!$T$154,IF(D50=8,Calcs!$U$154,0))))","v":0},{"$f":"IF(E50=5,Calcs!$R$154,IF(E50=6,Calcs!$S$154,IF(E50=7,Calcs!$T$154,IF(E50=8,Calcs!$U$154,0))))","v":0},{"$f":"IF(F50=5,Calcs!$R$154,IF(F50=6,Calcs!$S$154,IF(F50=7,Calcs!$T$154,IF(F50=8,Calcs!$U$154,0))))","v":0},{"$f":"IF(G50=5,Calcs!$R$154,IF(G50=6,Calcs!$S$154,IF(G50=7,Calcs!$T$154,IF(G50=8,Calcs!$U$154,0))))","v":0},{"$f":"IF(H50=5,Calcs!$R$154,IF(H50=6,Calcs!$S$154,IF(H50=7,Calcs!$T$154,IF(H50=8,Calcs!$U$154,0))))","v":0},{"$f":"IF(I50=5,Calcs!$R$154,IF(I50=6,Calcs!$S$154,IF(I50=7,Calcs!$T$154,IF(I50=8,Calcs!$U$154,0))))","v":0},{"$f":"IF(J50=5,Calcs!$R$154,IF(J50=6,Calcs!$S$154,IF(J50=7,Calcs!$T$154,IF(J50=8,Calcs!$U$154,0))))","v":0},{"$f":"IF(K50=5,Calcs!$R$154,IF(K50=6,Calcs!$S$154,IF(K50=7,Calcs!$T$154,IF(K50=8,Calcs!$U$154,0))))","v":0},{"$f":"IF(L50=5,Calcs!$R$154,IF(L50=6,Calcs!$S$154,IF(L50=7,Calcs!$T$154,IF(L50=8,Calcs!$U$154,0))))","v":0},null,null,null,null,null,0,0,0,0,"Prices"]
[45,{"$f":"\"Post-E: \"&'1.Profile'!C22","v":"Post-E: Topik"},{"$f":"(IF(C51=1,Calcs!$N182,IF(C51=2,Calcs!$O182,IF(C51=3,Calcs!$P182,IF(C51=4,Calcs!$Q182,IF(C51=5,Calcs!$R182,IF(C51=6,Calcs!$S182,IF(C51=7,Calcs!$T182,IF(C51=8,Calcs!$U182,0)))))))))","v":0},{"$f":"(IF(D51=1,Calcs!$N182,IF(D51=2,Calcs!$O182,IF(D51=3,Calcs!$P182,IF(D51=4,Calcs!$Q182,IF(D51=5,Calcs!$R182,IF(D51=6,Calcs!$S182,IF(D51=7,Calcs!$T182,IF(D51=8,Calcs!$U182,0)))))))))","v":0},{"$f":"(IF(E51=1,Calcs!$N182,IF(E51=2,Calcs!$O182,IF(E51=3,Calcs!$P182,IF(E51=4,Calcs!$Q182,IF(E51=5,Calcs!$R182,IF(E51=6,Calcs!$S182,IF(E51=7,Calcs!$T182,IF(E51=8,Calcs!$U182,0)))))))))","v":0},{"$f":"(IF(F51=1,Calcs!$N182,IF(F51=2,Calcs!$O182,IF(F51=3,Calcs!$P182,IF(F51=4,Calcs!$Q182,IF(F51=5,Calcs!$R182,IF(F51=6,Calcs!$S182,IF(F51=7,Calcs!$T182,IF(F51=8,Calcs!$U182,0)))))))))","v":0},{"$f":"(IF(G51=1,Calcs!$N182,IF(G51=2,Calcs!$O182,IF(G51=3,Calcs!$P182,IF(G51=4,Calcs!$Q182,IF(G51=5,Calcs!$R182,IF(G51=6,Calcs!$S182,IF(G51=7,Calcs!$T182,IF(G51=8,Calcs!$U182,0)))))))))","v":0},{"$f":"(IF(H51=1,Calcs!$N182,IF(H51=2,Calcs!$O182,IF(H51=3,Calcs!$P182,IF(H51=4,Calcs!$Q182,IF(H51=5,Calcs!$R182,IF(H51=6,Calcs!$S182,IF(H51=7,Calcs!$T182,IF(H51=8,Calcs!$U182,0)))))))))","v":0},{"$f":"(IF(I51=1,Calcs!$N182,IF(I51=2,Calcs!$O182,IF(I51=3,Calcs!$P182,IF(I51=4,Calcs!$Q182,IF(I51=5,Calcs!$R182,IF(I51=6,Calcs!$S182,IF(I51=7,Calcs!$T182,IF(I51=8,Calcs!$U182,0)))))))))","v":0},{"$f":"(IF(J51=1,Calcs!$N182,IF(J51=2,Calcs!$O182,IF(J51=3,Calcs!$P182,IF(J51=4,Calcs!$Q182,IF(J51=5,Calcs!$R182,IF(J51=6,Calcs!$S182,IF(J51=7,Calcs!$T182,IF(J51=8,Calcs!$U182,0)))))))))","v":0},{"$f":"(IF(K51=1,Calcs!$N182,IF(K51=2,Calcs!$O182,IF(K51=3,Calcs!$P182,IF(K51=4,Calcs!$Q182,IF(K51=5,Calcs!$R182,IF(K51=6,Calcs!$S182,IF(K51=7,Calcs!$T182,IF(K51=8,Calcs!$U182,0)))))))))","v":0},{"$f":"(IF(L51=1,Calcs!$N182,IF(L51=2,Calcs!$O182,IF(L51=3,Calcs!$P182,IF(L51=4,Calcs!$Q182,IF(L51=5,Calcs!$R182,IF(L51=6,Calcs!$S182,IF(L51=7,Calcs!$T182,IF(L51=8,Calcs!$U182,0)))))))))","v":0},null,{"$f":"'1.Profile'!$E$22+$AB$138","v":323},{"$f":"'1.Profile'!$E$22+$AB$138","v":323},{"$f":"'1.Profile'!$E$22+$AB$138","v":323},{"$f":"'1.Profile'!$G$22+$AC$138","v":75},{"$f":"'1.Profile'!$F$22+$AB$138","v":75},{"$f":"'1.Profile'!$F$22+$AB$138","v":75},{"$f":"'1.Profile'!$F$22+$AB$138","v":75},{"$f":"'1.Profile'!$H$22+$AD$138","v":75},"Profile","+boom"]
[46,{"$f":"\"Post-E: \"&'1.Profile'!C23","v":"Post-E: Atlantis OD"},{"$f":"(IF(C52=1,Calcs!$N183,IF(C52=2,Calcs!$O183,IF(C52=3,Calcs!$P183,IF(C52=4,Calcs!$Q183,IF(C52=5,Calcs!$R183,IF(C52=6,Calcs!$S183,IF(C52=7,Calcs!$T183,IF(C52=8,Calcs!$U183,0)))))))))","v":0},{"$f":"(IF(D52=1,Calcs!$N183,IF(D52=2,Calcs!$O183,IF(D52=3,Calcs!$P183,IF(D52=4,Calcs!$Q183,IF(D52=5,Calcs!$R183,IF(D52=6,Calcs!$S183,IF(D52=7,Calcs!$T183,IF(D52=8,Calcs!$U183,0)))))))))","v":0},{"$f":"(IF(E52=1,Calcs!$N183,IF(E52=2,Calcs!$O183,IF(E52=3,Calcs!$P183,IF(E52=4,Calcs!$Q183,IF(E52=5,Calcs!$R183,IF(E52=6,Calcs!$S183,IF(E52=7,Calcs!$T183,IF(E52=8,Calcs!$U183,0)))))))))","v":0},{"$f":"(IF(F52=1,Calcs!$N183,IF(F52=2,Calcs!$O183,IF(F52=3,Calcs!$P183,IF(F52=4,Calcs!$Q183,IF(F52=5,Calcs!$R183,IF(F52=6,Calcs!$S183,IF(F52=7,Calcs!$T183,IF(F52=8,Calcs!$U183,0)))))))))","v":0},{"$f":"(IF(G52=1,Calcs!$N183,IF(G52=2,Calcs!$O183,IF(G52=3,Calcs!$P183,IF(G52=4,Calcs!$Q183,IF(G52=5,Calcs!$R183,IF(G52=6,Calcs!$S183,IF(G52=7,Calcs!$T183,IF(G52=8,Calcs!$U183,0)))))))))","v":0},{"$f":"(IF(H52=1,Calcs!$N183,IF(H52=2,Calcs!$O183,IF(H52=3,Calcs!$P183,IF(H52=4,Calcs!$Q183,IF(H52=5,Calcs!$R183,IF(H52=6,Calcs!$S183,IF(H52=7,Calcs!$T183,IF(H52=8,Calcs!$U183,0)))))))))","v":0},{"$f":"(IF(I52=1,Calcs!$N183,IF(I52=2,Calcs!$O183,IF(I52=3,Calcs!$P183,IF(I52=4,Calcs!$Q183,IF(I52=5,Calcs!$R183,IF(I52=6,Calcs!$S183,IF(I52=7,Calcs!$T183,IF(I52=8,Calcs!$U183,0)))))))))","v":0},{"$f":"(IF(J52=1,Calcs!$N183,IF(J52=2,Calcs!$O183,IF(J52=3,Calcs!$P183,IF(J52=4,Calcs!$Q183,IF(J52=5,Calcs!$R183,IF(J52=6,Calcs!$S183,IF(J52=7,Calcs!$T183,IF(J52=8,Calcs!$U183,0)))))))))","v":0},{"$f":"(IF(K52=1,Calcs!$N183,IF(K52=2,Calcs!$O183,IF(K52=3,Calcs!$P183,IF(K52=4,Calcs!$Q183,IF(K52=5,Calcs!$R183,IF(K52=6,Calcs!$S183,IF(K52=7,Calcs!$T183,IF(K52=8,Calcs!$U183,0)))))))))","v":0},{"$f":"(IF(L52=1,Calcs!$N183,IF(L52=2,Calcs!$O183,IF(L52=3,Calcs!$P183,IF(L52=4,Calcs!$Q183,IF(L52=5,Calcs!$R183,IF(L52=6,Calcs!$S183,IF(L52=7,Calcs!$T183,IF(L52=8,Calcs!$U183,0)))))))))","v":0},null,{"$f":"'1.Profile'!$E$23+$AB$138","v":333},{"$f":"'1.Profile'!$E$23+$AB$138","v":333},{"$f":"'1.Profile'!$E$23+$AB$138","v":333},{"$f":"'1.Profile'!$G$23+$AC$138","v":75},{"$f":"'1.Profile'!$F$23+$AB$138","v":75},{"$f":"'1.Profile'!$F$23+$AB$138","v":75},{"$f":"'1.Profile'!$F$23+$AB$138","v":75},{"$f":"'1.Profile'!$H$23+$AD$138","v":75},"Profile","+boom"]
[47,{"$f":"\"Post-E: \"&'1.Profile'!C24","v":"Post-E: Hussar Plus OD"},{"$f":"(IF(C53=1,Calcs!$N184,IF(C53=2,Calcs!$O184,IF(C53=3,Calcs!$P184,IF(C53=4,Calcs!$Q184,IF(C53=5,Calcs!$R184,IF(C53=6,Calcs!$S184,IF(C53=7,Calcs!$T184,IF(C53=8,Calcs!$U184,0)))))))))","v":163},{"$f":"(IF(D53=1,Calcs!$N184,IF(D53=2,Calcs!$O184,IF(D53=3,Calcs!$P184,IF(D53=4,Calcs!$Q184,IF(D53=5,Calcs!$R184,IF(D53=6,Calcs!$S184,IF(D53=7,Calcs!$T184,IF(D53=8,Calcs!$U184,0)))))))))","v":0},{"$f":"(IF(E53=1,Calcs!$N184,IF(E53=2,Calcs!$O184,IF(E53=3,Calcs!$P184,IF(E53=4,Calcs!$Q184,IF(E53=5,Calcs!$R184,IF(E53=6,Calcs!$S184,IF(E53=7,Calcs!$T184,IF(E53=8,Calcs!$U184,0)))))))))","v":251},{"$f":"(IF(F53=1,Calcs!$N184,IF(F53=2,Calcs!$O184,IF(F53=3,Calcs!$P184,IF(F53=4,Calcs!$Q184,IF(F53=5,Calcs!$R184,IF(F53=6,Calcs!$S184,IF(F53=7,Calcs!$T184,IF(F53=8,Calcs!$U184,0)))))))))","v":0},{"$f":"(IF(G53=1,Calcs!$N184,IF(G53=2,Calcs!$O184,IF(G53=3,Calcs!$P184,IF(G53=4,Calcs!$Q184,IF(G53=5,Calcs!$R184,IF(G53=6,Calcs!$S184,IF(G53=7,Calcs!$T184,IF(G53=8,Calcs!$U184,0)))))))))","v":163},{"$f":"(IF(H53=1,Calcs!$N184,IF(H53=2,Calcs!$O184,IF(H53=3,Calcs!$P184,IF(H53=4,Calcs!$Q184,IF(H53=5,Calcs!$R184,IF(H53=6,Calcs!$S184,IF(H53=7,Calcs!$T184,IF(H53=8,Calcs!$U184,0)))))))))","v":0},{"$f":"(IF(I53=1,Calcs!$N184,IF(I53=2,Calcs!$O184,IF(I53=3,Calcs!$P184,IF(I53=4,Calcs!$Q184,IF(I53=5,Calcs!$R184,IF(I53=6,Calcs!$S184,IF(I53=7,Calcs!$T184,IF(I53=8,Calcs!$U184,0)))))))))","v":251},{"$f":"(IF(J53=1,Calcs!$N184,IF(J53=2,Calcs!$O184,IF(J53=3,Calcs!$P184,IF(J53=4,Calcs!$Q184,IF(J53=5,Calcs!$R184,IF(J53=6,Calcs!$S184,IF(J53=7,Calcs!$T184,IF(J53=8,Calcs!$U184,0)))))))))","v":0},{"$f":"(IF(K53=1,Calcs!$N184,IF(K53=2,Calcs!$O184,IF(K53=3,Calcs!$P184,IF(K53=4,Calcs!$Q184,IF(K53=5,Calcs!$R184,IF(K53=6,Calcs!$S184,IF(K53=7,Calcs!$T184,IF(K53=8,Calcs!$U184,0)))))))))","v":163},{"$f":"(IF(L53=1,Calcs!$N184,IF(L53=2,Calcs!$O184,IF(L53=3,Calcs!$P184,IF(L53=4,Calcs!$Q184,IF(L53=5,Calcs!$R184,IF(L53=6,Calcs!$S184,IF(L53=7,Calcs!$T184,IF(L53=8,Calcs!$U184,0)))))))))","v":0},null,{"$f":"'1.Profile'!$E$24+$AB$138","v":251},{"$f":"'1.Profile'!$E$24+$AB$138","v":251},{"$f":"'1.Profile'!$E$24+$AB$138","v":251},{"$f":"'1.Profile'!$G$24+$AC$138","v":75},{"$f":"'1.Profile'!$F$24+$AB$138","v":163},{"$f":"'1.Profile'!$F$24+$AB$138","v":163},{"$f":"'1.Profile'!$F$24+$AB$138","v":163},{"$f":"'1.Profile'!$H$24+$AD$138","v":75},"Profile","+boom"]
[48,{"$f":"\"Post-E: \"&'1.Profile'!C25","v":"Post-E: Broadway"},{"$f":"(IF(C54=1,Calcs!$N185,IF(C54=2,Calcs!$O185,IF(C54=3,Calcs!$P185,IF(C54=4,Calcs!$Q185,IF(C54=5,Calcs!$R185,IF(C54=6,Calcs!$S185,IF(C54=7,Calcs!$T185,IF(C54=8,Calcs!$U185,0)))))))))","v":0},{"$f":"(IF(D54=1,Calcs!$N185,IF(D54=2,Calcs!$O185,IF(D54=3,Calcs!$P185,IF(D54=4,Calcs!$Q185,IF(D54=5,Calcs!$R185,IF(D54=6,Calcs!$S185,IF(D54=7,Calcs!$T185,IF(D54=8,Calcs!$U185,0)))))))))","v":0},{"$f":"(IF(E54=1,Calcs!$N185,IF(E54=2,Calcs!$O185,IF(E54=3,Calcs!$P185,IF(E54=4,Calcs!$Q185,IF(E54=5,Calcs!$R185,IF(E54=6,Calcs!$S185,IF(E54=7,Calcs!$T185,IF(E54=8,Calcs!$U185,0)))))))))","v":0},{"$f":"(IF(F54=1,Calcs!$N185,IF(F54=2,Calcs!$O185,IF(F54=3,Calcs!$P185,IF(F54=4,Calcs!$Q185,IF(F54=5,Calcs!$R185,IF(F54=6,Calcs!$S185,IF(F54=7,Calcs!$T185,IF(F54=8,Calcs!$U185,0)))))))))","v":0},{"$f":"(IF(G54=1,Calcs!$N185,IF(G54=2,Calcs!$O185,IF(G54=3,Calcs!$P185,IF(G54=4,Calcs!$Q185,IF(G54=5,Calcs!$R185,IF(G54=6,Calcs!$S185,IF(G54=7,Calcs!$T185,IF(G54=8,Calcs!$U185,0)))))))))","v":0},{"$f":"(IF(H54=1,Calcs!$N185,IF(H54=2,Calcs!$O185,IF(H54=3,Calcs!$P185,IF(H54=4,Calcs!$Q185,IF(H54=5,Calcs!$R185,IF(H54=6,Calcs!$S185,IF(H54=7,Calcs!$T185,IF(H54=8,Calcs!$U185,0)))))))))","v":0},{"$f":"(IF(I54=1,Calcs!$N185,IF(I54=2,Calcs!$O185,IF(I54=3,Calcs!$P185,IF(I54=4,Calcs!$Q185,IF(I54=5,Calcs!$R185,IF(I54=6,Calcs!$S185,IF(I54=7,Calcs!$T185,IF(I54=8,Calcs!$U185,0)))))))))","v":0},{"$f":"(IF(J54=1,Calcs!$N185,IF(J54=2,Calcs!$O185,IF(J54=3,Calcs!$P185,IF(J54=4,Calcs!$Q185,IF(J54=5,Calcs!$R185,IF(J54=6,Calcs!$S185,IF(J54=7,Calcs!$T185,IF(J54=8,Calcs!$U185,0)))))))))","v":0},{"$f":"(IF(K54=1,Calcs!$N185,IF(K54=2,Calcs!$O185,IF(K54=3,Calcs!$P185,IF(K54=4,Calcs!$Q185,IF(K54=5,Calcs!$R185,IF(K54=6,Calcs!$S185,IF(K54=7,Calcs!$T185,IF(K54=8,Calcs!$U185,0)))))))))","v":0},{"$f":"(IF(L54=1,Calcs!$N185,IF(L54=2,Calcs!$O185,IF(L54=3,Calcs!$P185,IF(L54=4,Calcs!$Q185,IF(L54=5,Calcs!$R185,IF(L54=6,Calcs!$S185,IF(L54=7,Calcs!$T185,IF(L54=8,Calcs!$U185,0)))))))))","v":0},null,{"$f":"'1.Profile'!$E$25+$AB$138","v":235},{"$f":"'1.Profile'!$E$25+$AB$138","v":235},{"$f":"'1.Profile'!$E$25+$AB$138","v":235},{"$f":"'1.Profile'!$G$25+$AC$138","v":75},{"$f":"'1.Profile'!$F$25+$AB$138","v":75},{"$f":"'1.Profile'!$F$25+$AB$138","v":75},{"$f":"'1.Profile'!$F$25+$AB$138","v":75},{"$f":"'1.Profile'!$H$25+$AD$138","v":75},"Profile","+boom"]
[49,{"$f":"\"Post-E: \"&'1.Profile'!C26","v":"Post-E: Cossack OD"},{"$f":"(IF(C55=1,Calcs!$N186,IF(C55=2,Calcs!$O186,IF(C55=3,Calcs!$P186,IF(C55=4,Calcs!$Q186,IF(C55=5,Calcs!$R186,IF(C55=6,Calcs!$S186,IF(C55=7,Calcs!$T186,IF(C55=8,Calcs!$U186,0)))))))))","v":0},{"$f":"(IF(D55=1,Calcs!$N186,IF(D55=2,Calcs!$O186,IF(D55=3,Calcs!$P186,IF(D55=4,Calcs!$Q186,IF(D55=5,Calcs!$R186,IF(D55=6,Calcs!$S186,IF(D55=7,Calcs!$T186,IF(D55=8,Calcs!$U186,0)))))))))","v":0},{"$f":"(IF(E55=1,Calcs!$N186,IF(E55=2,Calcs!$O186,IF(E55=3,Calcs!$P186,IF(E55=4,Calcs!$Q186,IF(E55=5,Calcs!$R186,IF(E55=6,Calcs!$S186,IF(E55=7,Calcs!$T186,IF(E55=8,Calcs!$U186,0)))))))))","v":0},{"$f":"(IF(F55=1,Calcs!$N186,IF(F55=2,Calcs!$O186,IF(F55=3,Calcs!$P186,IF(F55=4,Calcs!$Q186,IF(F55=5,Calcs!$R186,IF(F55=6,Calcs!$S186,IF(F55=7,Calcs!$T186,IF(F55=8,Calcs!$U186,0)))))))))","v":0},{"$f":"(IF(G55=1,Calcs!$N186,IF(G55=2,Calcs!$O186,IF(G55=3,Calcs!$P186,IF(G55=4,Calcs!$Q186,IF(G55=5,Calcs!$R186,IF(G55=6,Calcs!$S186,IF(G55=7,Calcs!$T186,IF(G55=8,Calcs!$U186,0)))))))))","v":0},{"$f":"(IF(H55=1,Calcs!$N186,IF(H55=2,Calcs!$O186,IF(H55=3,Calcs!$P186,IF(H55=4,Calcs!$Q186,IF(H55=5,Calcs!$R186,IF(H55=6,Calcs!$S186,IF(H55=7,Calcs!$T186,IF(H55=8,Calcs!$U186,0)))))))))","v":0},{"$f":"(IF(I55=1,Calcs!$N186,IF(I55=2,Calcs!$O186,IF(I55=3,Calcs!$P186,IF(I55=4,Calcs!$Q186,IF(I55=5,Calcs!$R186,IF(I55=6,Calcs!$S186,IF(I55=7,Calcs!$T186,IF(I55=8,Calcs!$U186,0)))))))))","v":0},{"$f":"(IF(J55=1,Calcs!$N186,IF(J55=2,Calcs!$O186,IF(J55=3,Calcs!$P186,IF(J55=4,Calcs!$Q186,IF(J55=5,Calcs!$R186,IF(J55=6,Calcs!$S186,IF(J55=7,Calcs!$T186,IF(J55=8,Calcs!$U186,0)))))))))","v":0},{"$f":"(IF(K55=1,Calcs!$N186,IF(K55=2,Calcs!$O186,IF(K55=3,Calcs!$P186,IF(K55=4,Calcs!$Q186,IF(K55=5,Calcs!$R186,IF(K55=6,Calcs!$S186,IF(K55=7,Calcs!$T186,IF(K55=8,Calcs!$U186,0)))))))))","v":0},{"$f":"(IF(L55=1,Calcs!$N186,IF(L55=2,Calcs!$O186,IF(L55=3,Calcs!$P186,IF(L55=4,Calcs!$Q186,IF(L55=5,Calcs!$R186,IF(L55=6,Calcs!$S186,IF(L55=7,Calcs!$T186,IF(L55=8,Calcs!$U186,0)))))))))","v":0},null,{"$f":"'1.Profile'!$E$26+$AB$138","v":419},{"$f":"'1.Profile'!$E$26+$AB$138","v":419},{"$f":"'1.Profile'!$E$26+$AB$138","v":419},{"$f":"'1.Profile'!$G$26+$AC$138","v":75},{"$f":"'1.Profile'!$F$26+$AB$138","v":75},{"$f":"'1.Profile'!$F$26+$AB$138","v":75},{"$f":"'1.Profile'!$F$26+$AB$138","v":75},{"$f":"'1.Profile'!$H$26+$AD$138","v":75},"Profile","+boom"]
[50,{"$f":"\"Post-E: \"&'1.Profile'!C27","v":"Post-E: Focus Ultra"},{"$f":"(IF(C56=1,Calcs!$N187,IF(C56=2,Calcs!$O187,IF(C56=3,Calcs!$P187,IF(C56=4,Calcs!$Q187,IF(C56=5,Calcs!$R187,IF(C56=6,Calcs!$S187,IF(C56=7,Calcs!$T187,IF(C56=8,Calcs!$U187,0)))))))))","v":0},{"$f":"(IF(D56=1,Calcs!$N187,IF(D56=2,Calcs!$O187,IF(D56=3,Calcs!$P187,IF(D56=4,Calcs!$Q187,IF(D56=5,Calcs!$R187,IF(D56=6,Calcs!$S187,IF(D56=7,Calcs!$T187,IF(D56=8,Calcs!$U187,0)))))))))","v":0},{"$f":"(IF(E56=1,Calcs!$N187,IF(E56=2,Calcs!$O187,IF(E56=3,Calcs!$P187,IF(E56=4,Calcs!$Q187,IF(E56=5,Calcs!$R187,IF(E56=6,Calcs!$S187,IF(E56=7,Calcs!$T187,IF(E56=8,Calcs!$U187,0)))))))))","v":0},{"$f":"(IF(F56=1,Calcs!$N187,IF(F56=2,Calcs!$O187,IF(F56=3,Calcs!$P187,IF(F56=4,Calcs!$Q187,IF(F56=5,Calcs!$R187,IF(F56=6,Calcs!$S187,IF(F56=7,Calcs!$T187,IF(F56=8,Calcs!$U187,0)))))))))","v":0},{"$f":"(IF(G56=1,Calcs!$N187,IF(G56=2,Calcs!$O187,IF(G56=3,Calcs!$P187,IF(G56=4,Calcs!$Q187,IF(G56=5,Calcs!$R187,IF(G56=6,Calcs!$S187,IF(G56=7,Calcs!$T187,IF(G56=8,Calcs!$U187,0)))))))))","v":0},{"$f":"(IF(H56=1,Calcs!$N187,IF(H56=2,Calcs!$O187,IF(H56=3,Calcs!$P187,IF(H56=4,Calcs!$Q187,IF(H56=5,Calcs!$R187,IF(H56=6,Calcs!$S187,IF(H56=7,Calcs!$T187,IF(H56=8,Calcs!$U187,0)))))))))","v":0},{"$f":"(IF(I56=1,Calcs!$N187,IF(I56=2,Calcs!$O187,IF(I56=3,Calcs!$P187,IF(I56=4,Calcs!$Q187,IF(I56=5,Calcs!$R187,IF(I56=6,Calcs!$S187,IF(I56=7,Calcs!$T187,IF(I56=8,Calcs!$U187,0)))))))))","v":0},{"$f":"(IF(J56=1,Calcs!$N187,IF(J56=2,Calcs!$O187,IF(J56=3,Calcs!$P187,IF(J56=4,Calcs!$Q187,IF(J56=5,Calcs!$R187,IF(J56=6,Calcs!$S187,IF(J56=7,Calcs!$T187,IF(J56=8,Calcs!$U187,0)))))))))","v":0},{"$f":"(IF(K56=1,Calcs!$N187,IF(K56=2,Calcs!$O187,IF(K56=3,Calcs!$P187,IF(K56=4,Calcs!$Q187,IF(K56=5,Calcs!$R187,IF(K56=6,Calcs!$S187,IF(K56=7,Calcs!$T187,IF(K56=8,Calcs!$U187,0)))))))))","v":0},{"$f":"(IF(L56=1,Calcs!$N187,IF(L56=2,Calcs!$O187,IF(L56=3,Calcs!$P187,IF(L56=4,Calcs!$Q187,IF(L56=5,Calcs!$R187,IF(L56=6,Calcs!$S187,IF(L56=7,Calcs!$T187,IF(L56=8,Calcs!$U187,0)))))))))","v":0},null,{"$f":"'1.Profile'!$E$27+$AB$138","v":75},{"$f":"'1.Profile'!$E$27+$AB$138","v":75},{"$f":"'1.Profile'!$E$27+$AB$138","v":75},{"$f":"'1.Profile'!$G$27+$AC$138","v":345},{"$f":"'1.Profile'!$F$27+$AB$138","v":75},{"$f":"'1.Profile'!$F$27+$AB$138","v":75},{"$f":"'1.Profile'!$F$27+$AB$138","v":75},{"$f":"'1.Profile'!$H$27+$AD$138","v":435},"Profile","+boom"]
[51,{"$f":"\"Post-E: \"&'1.Profile'!C28","v":"Post-E: Kerb"},{"$f":"(IF(C57=1,Calcs!$N188,IF(C57=2,Calcs!$O188,IF(C57=3,Calcs!$P188,IF(C57=4,Calcs!$Q188,IF(C57=5,Calcs!$R188,IF(C57=6,Calcs!$S188,IF(C57=7,Calcs!$T188,IF(C57=8,Calcs!$U188,0)))))))))","v":0},{"$f":"(IF(D57=1,Calcs!$N188,IF(D57=2,Calcs!$O188,IF(D57=3,Calcs!$P188,IF(D57=4,Calcs!$Q188,IF(D57=5,Calcs!$R188,IF(D57=6,Calcs!$S188,IF(D57=7,Calcs!$T188,IF(D57=8,Calcs!$U188,0)))))))))","v":0},{"$f":"(IF(E57=1,Calcs!$N188,IF(E57=2,Calcs!$O188,IF(E57=3,Calcs!$P188,IF(E57=4,Calcs!$Q188,IF(E57=5,Calcs!$R188,IF(E57=6,Calcs!$S188,IF(E57=7,Calcs!$T188,IF(E57=8,Calcs!$U188,0)))))))))","v":0},{"$f":"(IF(F57=1,Calcs!$N188,IF(F57=2,Calcs!$O188,IF(F57=3,Calcs!$P188,IF(F57=4,Calcs!$Q188,IF(F57=5,Calcs!$R188,IF(F57=6,Calcs!$S188,IF(F57=7,Calcs!$T188,IF(F57=8,Calcs!$U188,0)))))))))","v":0},{"$f":"(IF(G57=1,Calcs!$N188,IF(G57=2,Calcs!$O188,IF(G57=3,Calcs!$P188,IF(G57=4,Calcs!$Q188,IF(G57=5,Calcs!$R188,IF(G57=6,Calcs!$S188,IF(G57=7,Calcs!$T188,IF(G57=8,Calcs!$U188,0)))))))))","v":0},{"$f":"(IF(H57=1,Calcs!$N188,IF(H57=2,Calcs!$O188,IF(H57=3,Calcs!$P188,IF(H57=4,Calcs!$Q188,IF(H57=5,Calcs!$R188,IF(H57=6,Calcs!$S188,IF(H57=7,Calcs!$T188,IF(H57=8,Calcs!$U188,0)))))))))","v":0},{"$f":"(IF(I57=1,Calcs!$N188,IF(I57=2,Calcs!$O188,IF(I57=3,Calcs!$P188,IF(I57=4,Calcs!$Q188,IF(I57=5,Calcs!$R188,IF(I57=6,Calcs!$S188,IF(I57=7,Calcs!$T188,IF(I57=8,Calcs!$U188,0)))))))))","v":0},{"$f":"(IF(J57=1,Calcs!$N188,IF(J57=2,Calcs!$O188,IF(J57=3,Calcs!$P188,IF(J57=4,Calcs!$Q188,IF(J57=5,Calcs!$R188,IF(J57=6,Calcs!$S188,IF(J57=7,Calcs!$T188,IF(J57=8,Calcs!$U188,0)))))))))","v":0},{"$f":"(IF(K57=1,Calcs!$N188,IF(K57=2,Calcs!$O188,IF(K57=3,Calcs!$P188,IF(K57=4,Calcs!$Q188,IF(K57=5,Calcs!$R188,IF(K57=6,Calcs!$S188,IF(K57=7,Calcs!$T188,IF(K57=8,Calcs!$U188,0)))))))))","v":0},{"$f":"(IF(L57=1,Calcs!$N188,IF(L57=2,Calcs!$O188,IF(L57=3,Calcs!$P188,IF(L57=4,Calcs!$Q188,IF(L57=5,Calcs!$R188,IF(L57=6,Calcs!$S188,IF(L57=7,Calcs!$T188,IF(L57=8,Calcs!$U188,0)))))))))","v":0},null,{"$f":"'1.Profile'!$E$28+$AB$138","v":75},{"$f":"'1.Profile'!$E$28+$AB$138","v":75},{"$f":"'1.Profile'!$E$28+$AB$138","v":75},{"$f":"'1.Profile'!$G$28+$AC$138","v":469},{"$f":"'1.Profile'!$F$28+$AB$138","v":75},{"$f":"'1.Profile'!$F$28+$AB$138","v":75},{"$f":"'1.Profile'!$F$28+$AB$138","v":75},{"$f":"'1.Profile'!$H$28+$AD$138","v":75},"Profile","+boom"]
[52,"Summer option: None",{"$f":"IF(C58=1,Calcs!$N$189,IF(C58=2,Calcs!$O$189,IF(C58=3,Calcs!$P$189,IF(C58=4,Calcs!$Q$189,IF(C58=5,Calcs!$R$189,IF(C58=6,Calcs!$S$189,IF(C58=7,Calcs!$T$189,IF(C58=8,Calcs!$U$189,0))))))))","v":0},{"$f":"IF(D58=1,Calcs!$N$189,IF(D58=2,Calcs!$O$189,IF(D58=3,Calcs!$P$189,IF(D58=4,Calcs!$Q$189,IF(D58=5,Calcs!$R$189,IF(D58=6,Calcs!$S$189,IF(D58=7,Calcs!$T$189,IF(D58=8,Calcs!$U$189,0))))))))","v":0},{"$f":"IF(E58=1,Calcs!$N$189,IF(E58=2,Calcs!$O$189,IF(E58=3,Calcs!$P$189,IF(E58=4,Calcs!$Q$189,IF(E58=5,Calcs!$R$189,IF(E58=6,Calcs!$S$189,IF(E58=7,Calcs!$T$189,IF(E58=8,Calcs!$U$189,0))))))))","v":0},{"$f":"IF(F58=1,Calcs!$N$189,IF(F58=2,Calcs!$O$189,IF(F58=3,Calcs!$P$189,IF(F58=4,Calcs!$Q$189,IF(F58=5,Calcs!$R$189,IF(F58=6,Calcs!$S$189,IF(F58=7,Calcs!$T$189,IF(F58=8,Calcs!$U$189,0))))))))","v":0},{"$f":"IF(G58=1,Calcs!$N$189,IF(G58=2,Calcs!$O$189,IF(G58=3,Calcs!$P$189,IF(G58=4,Calcs!$Q$189,IF(G58=5,Calcs!$R$189,IF(G58=6,Calcs!$S$189,IF(G58=7,Calcs!$T$189,IF(G58=8,Calcs!$U$189,0))))))))","v":0},{"$f":"IF(H58=1,Calcs!$N$189,IF(H58=2,Calcs!$O$189,IF(H58=3,Calcs!$P$189,IF(H58=4,Calcs!$Q$189,IF(H58=5,Calcs!$R$189,IF(H58=6,Calcs!$S$189,IF(H58=7,Calcs!$T$189,IF(H58=8,Calcs!$U$189,0))))))))","v":0},{"$f":"IF(I58=1,Calcs!$N$189,IF(I58=2,Calcs!$O$189,IF(I58=3,Calcs!$P$189,IF(I58=4,Calcs!$Q$189,IF(I58=5,Calcs!$R$189,IF(I58=6,Calcs!$S$189,IF(I58=7,Calcs!$T$189,IF(I58=8,Calcs!$U$189,0))))))))","v":0},{"$f":"IF(J58=1,Calcs!$N$189,IF(J58=2,Calcs!$O$189,IF(J58=3,Calcs!$P$189,IF(J58=4,Calcs!$Q$189,IF(J58=5,Calcs!$R$189,IF(J58=6,Calcs!$S$189,IF(J58=7,Calcs!$T$189,IF(J58=8,Calcs!$U$189,0))))))))","v":0},{"$f":"IF(K58=1,Calcs!$N$189,IF(K58=2,Calcs!$O$189,IF(K58=3,Calcs!$P$189,IF(K58=4,Calcs!$Q$189,IF(K58=5,Calcs!$R$189,IF(K58=6,Calcs!$S$189,IF(K58=7,Calcs!$T$189,IF(K58=8,Calcs!$U$189,0))))))))","v":0},{"$f":"IF(L58=1,Calcs!$N$189,IF(L58=2,Calcs!$O$189,IF(L58=3,Calcs!$P$189,IF(L58=4,Calcs!$Q$189,IF(L58=5,Calcs!$R$189,IF(L58=6,Calcs!$S$189,IF(L58=7,Calcs!$T$189,IF(L58=8,Calcs!$U$189,0))))))))","v":0},null,0,0,0,0,0,0,0,0]
[53,"Summer option: dessication",{"$f":"IF(C59=1,Calcs!$N$190,IF(C59=2,Calcs!$O$190,IF(C59=3,Calcs!$P$190,IF(C59=4,Calcs!$Q$190,IF(C59=5,Calcs!$R$190,IF(C59=6,Calcs!$S$190,IF(C59=7,Calcs!$T$190,IF(C59=8,Calcs!$U$190,0))))))))","v":0},{"$f":"IF(D59=1,Calcs!$N$190,IF(D59=2,Calcs!$O$190,IF(D59=3,Calcs!$P$190,IF(D59=4,Calcs!$Q$190,IF(D59=5,Calcs!$R$190,IF(D59=6,Calcs!$S$190,IF(D59=7,Calcs!$T$190,IF(D59=8,Calcs!$U$190,0))))))))","v":0},{"$f":"IF(E59=1,Calcs!$N$190,IF(E59=2,Calcs!$O$190,IF(E59=3,Calcs!$P$190,IF(E59=4,Calcs!$Q$190,IF(E59=5,Calcs!$R$190,IF(E59=6,Calcs!$S$190,IF(E59=7,Calcs!$T$190,IF(E59=8,Calcs!$U$190,0))))))))","v":0},{"$f":"IF(F59=1,Calcs!$N$190,IF(F59=2,Calcs!$O$190,IF(F59=3,Calcs!$P$190,IF(F59=4,Calcs!$Q$190,IF(F59=5,Calcs!$R$190,IF(F59=6,Calcs!$S$190,IF(F59=7,Calcs!$T$190,IF(F59=8,Calcs!$U$190,0))))))))","v":0},{"$f":"IF(G59=1,Calcs!$N$190,IF(G59=2,Calcs!$O$190,IF(G59=3,Calcs!$P$190,IF(G59=4,Calcs!$Q$190,IF(G59=5,Calcs!$R$190,IF(G59=6,Calcs!$S$190,IF(G59=7,Calcs!$T$190,IF(G59=8,Calcs!$U$190,0))))))))","v":0},{"$f":"IF(H59=1,Calcs!$N$190,IF(H59=2,Calcs!$O$190,IF(H59=3,Calcs!$P$190,IF(H59=4,Calcs!$Q$190,IF(H59=5,Calcs!$R$190,IF(H59=6,Calcs!$S$190,IF(H59=7,Calcs!$T$190,IF(H59=8,Calcs!$U$190,0))))))))","v":0},{"$f":"IF(I59=1,Calcs!$N$190,IF(I59=2,Calcs!$O$190,IF(I59=3,Calcs!$P$190,IF(I59=4,Calcs!$Q$190,IF(I59=5,Calcs!$R$190,IF(I59=6,Calcs!$S$190,IF(I59=7,Calcs!$T$190,IF(I59=8,Calcs!$U$190,0))))))))","v":0},{"$f":"IF(J59=1,Calcs!$N$190,IF(J59=2,Calcs!$O$190,IF(J59=3,Calcs!$P$190,IF(J59=4,Calcs!$Q$190,IF(J59=5,Calcs!$R$190,IF(J59=6,Calcs!$S$190,IF(J59=7,Calcs!$T$190,IF(J59=8,Calcs!$U$190,0))))))))","v":0},{"$f":"IF(K59=1,Calcs!$N$190,IF(K59=2,Calcs!$O$190,IF(K59=3,Calcs!$P$190,IF(K59=4,Calcs!$Q$190,IF(K59=5,Calcs!$R$190,IF(K59=6,Calcs!$S$190,IF(K59=7,Calcs!$T$190,IF(K59=8,Calcs!$U$190,0))))))))","v":0},{"$f":"IF(L59=1,Calcs!$N$190,IF(L59=2,Calcs!$O$190,IF(L59=3,Calcs!$P$190,IF(L59=4,Calcs!$Q$190,IF(L59=5,Calcs!$R$190,IF(L59=6,Calcs!$S$190,IF(L59=7,Calcs!$T$190,IF(L59=8,Calcs!$U$190,0))))))))","v":0},null,{"$f":"'1.Profile'!$E$17","v":150},{"$f":"'1.Profile'!$E$17","v":150},{"$f":"'1.Profile'!$E$17","v":150},28,{"$f":"'1.Profile'!$F$17","v":150},{"$f":"'1.Profile'!$F$17","v":150},{"$f":"'1.Profile'!$F$17","v":150},28,"Det skal besluttes hvordan doses medtages"]
[54,"Summer option: crop sacrifies",null,"Conditions are inluded in eco results for grain gross receipts"]
[55,{"$f":"\"Summer option: \"&'1.Profile'!C32","v":"Summer option: Mulighed 1"},{"$f":"IF(C61=1,Calcs!$N$192,IF(C61=2,Calcs!$O$192,IF(C61=3,Calcs!$P$192,IF(C61=4,Calcs!$Q$192,IF(C61=5,Calcs!$R$192,IF(C61=6,Calcs!$S$192,IF(C61=7,Calcs!$T$192,IF(C61=8,Calcs!$U$192,0))))))))","v":0},{"$f":"IF(D61=1,Calcs!$N$192,IF(D61=2,Calcs!$O$192,IF(D61=3,Calcs!$P$192,IF(D61=4,Calcs!$Q$192,IF(D61=5,Calcs!$R$192,IF(D61=6,Calcs!$S$192,IF(D61=7,Calcs!$T$192,IF(D61=8,Calcs!$U$192,0))))))))","v":0},{"$f":"IF(E61=1,Calcs!$N$192,IF(E61=2,Calcs!$O$192,IF(E61=3,Calcs!$P$192,IF(E61=4,Calcs!$Q$192,IF(E61=5,Calcs!$R$192,IF(E61=6,Calcs!$S$192,IF(E61=7,Calcs!$T$192,IF(E61=8,Calcs!$U$192,0))))))))","v":0},{"$f":"IF(F61=1,Calcs!$N$192,IF(F61=2,Calcs!$O$192,IF(F61=3,Calcs!$P$192,IF(F61=4,Calcs!$Q$192,IF(F61=5,Calcs!$R$192,IF(F61=6,Calcs!$S$192,IF(F61=7,Calcs!$T$192,IF(F61=8,Calcs!$U$192,0))))))))","v":0},{"$f":"IF(G61=1,Calcs!$N$192,IF(G61=2,Calcs!$O$192,IF(G61=3,Calcs!$P$192,IF(G61=4,Calcs!$Q$192,IF(G61=5,Calcs!$R$192,IF(G61=6,Calcs!$S$192,IF(G61=7,Calcs!$T$192,IF(G61=8,Calcs!$U$192,0))))))))","v":0},{"$f":"IF(H61=1,Calcs!$N$192,IF(H61=2,Calcs!$O$192,IF(H61=3,Calcs!$P$192,IF(H61=4,Calcs!$Q$192,IF(H61=5,Calcs!$R$192,IF(H61=6,Calcs!$S$192,IF(H61=7,Calcs!$T$192,IF(H61=8,Calcs!$U$192,0))))))))","v":0},{"$f":"IF(I61=1,Calcs!$N$192,IF(I61=2,Calcs!$O$192,IF(I61=3,Calcs!$P$192,IF(I61=4,Calcs!$Q$192,IF(I61=5,Calcs!$R$192,IF(I61=6,Calcs!$S$192,IF(I61=7,Calcs!$T$192,IF(I61=8,Calcs!$U$192,0))))))))","v":0},{"$f":"IF(J61=1,Calcs!$N$192,IF(J61=2,Calcs!$O$192,IF(J61=3,Calcs!$P$192,IF(J61=4,Calcs!$Q$192,IF(J61=5,Calcs!$R$192,IF(J61=6,Calcs!$S$192,IF(J61=7,Calcs!$T$192,IF(J61=8,Calcs!$U$192,0))))))))","v":0},{"$f":"IF(K61=1,Calcs!$N$192,IF(K61=2,Calcs!$O$192,IF(K61=3,Calcs!$P$192,IF(K61=4,Calcs!$Q$192,IF(K61=5,Calcs!$R$192,IF(K61=6,Calcs!$S$192,IF(K61=7,Calcs!$T$192,IF(K61=8,Calcs!$U$192,0))))))))","v":0},{"$f":"IF(L61=1,Calcs!$N$192,IF(L61=2,Calcs!$O$192,IF(L61=3,Calcs!$P$192,IF(L61=4,Calcs!$Q$192,IF(L61=5,Calcs!$R$192,IF(L61=6,Calcs!$S$192,IF(L61=7,Calcs!$T$192,IF(L61=8,Calcs!$U$192,0))))))))","v":0},null,{"$f":"'1.Profile'!E32","v":0},{"$f":"'1.Profile'!E32","v":0},{"$f":"'1.Profile'!E32","v":0},{"$f":"'1.Profile'!G32","v":0},{"$f":"'1.Profile'!F32","v":0},{"$f":"'1.Profile'!F32","v":0},{"$f":"'1.Profile'!F32","v":0},{"$f":"'1.Profile'!H32","v":0}]
[56,{"$f":"\"Summer option: \"&'1.Profile'!C33","v":"Summer option: Mulighed 2"},{"$f":"IF(C62=1,Calcs!$N$193,IF(C62=2,Calcs!$O$193,IF(C62=3,Calcs!$P$193,IF(C62=4,Calcs!$Q$193,IF(C62=5,Calcs!$R$193,IF(C62=6,Calcs!$S$193,IF(C62=7,Calcs!$T$193,IF(C62=8,Calcs!$U$193,0))))))))","v":0},{"$f":"IF(D62=1,Calcs!$N$193,IF(D62=2,Calcs!$O$193,IF(D62=3,Calcs!$P$193,IF(D62=4,Calcs!$Q$193,IF(D62=5,Calcs!$R$193,IF(D62=6,Calcs!$S$193,IF(D62=7,Calcs!$T$193,IF(D62=8,Calcs!$U$193,0))))))))","v":0},{"$f":"IF(E62=1,Calcs!$N$193,IF(E62=2,Calcs!$O$193,IF(E62=3,Calcs!$P$193,IF(E62=4,Calcs!$Q$193,IF(E62=5,Calcs!$R$193,IF(E62=6,Calcs!$S$193,IF(E62=7,Calcs!$T$193,IF(E62=8,Calcs!$U$193,0))))))))","v":0},{"$f":"IF(F62=1,Calcs!$N$193,IF(F62=2,Calcs!$O$193,IF(F62=3,Calcs!$P$193,IF(F62=4,Calcs!$Q$193,IF(F62=5,Calcs!$R$193,IF(F62=6,Calcs!$S$193,IF(F62=7,Calcs!$T$193,IF(F62=8,Calcs!$U$193,0))))))))","v":0},{"$f":"IF(G62=1,Calcs!$N$193,IF(G62=2,Calcs!$O$193,IF(G62=3,Calcs!$P$193,IF(G62=4,Calcs!$Q$193,IF(G62=5,Calcs!$R$193,IF(G62=6,Calcs!$S$193,IF(G62=7,Calcs!$T$193,IF(G62=8,Calcs!$U$193,0))))))))","v":0},{"$f":"IF(H62=1,Calcs!$N$193,IF(H62=2,Calcs!$O$193,IF(H62=3,Calcs!$P$193,IF(H62=4,Calcs!$Q$193,IF(H62=5,Calcs!$R$193,IF(H62=6,Calcs!$S$193,IF(H62=7,Calcs!$T$193,IF(H62=8,Calcs!$U$193,0))))))))","v":0},{"$f":"IF(I62=1,Calcs!$N$193,IF(I62=2,Calcs!$O$193,IF(I62=3,Calcs!$P$193,IF(I62=4,Calcs!$Q$193,IF(I62=5,Calcs!$R$193,IF(I62=6,Calcs!$S$193,IF(I62=7,Calcs!$T$193,IF(I62=8,Calcs!$U$193,0))))))))","v":0},{"$f":"IF(J62=1,Calcs!$N$193,IF(J62=2,Calcs!$O$193,IF(J62=3,Calcs!$P$193,IF(J62=4,Calcs!$Q$193,IF(J62=5,Calcs!$R$193,IF(J62=6,Calcs!$S$193,IF(J62=7,Calcs!$T$193,IF(J62=8,Calcs!$U$193,0))))))))","v":0},{"$f":"IF(K62=1,Calcs!$N$193,IF(K62=2,Calcs!$O$193,IF(K62=3,Calcs!$P$193,IF(K62=4,Calcs!$Q$193,IF(K62=5,Calcs!$R$193,IF(K62=6,Calcs!$S$193,IF(K62=7,Calcs!$T$193,IF(K62=8,Calcs!$U$193,0))))))))","v":0},{"$f":"IF(L62=1,Calcs!$N$193,IF(L62=2,Calcs!$O$193,IF(L62=3,Calcs!$P$193,IF(L62=4,Calcs!$Q$193,IF(L62=5,Calcs!$R$193,IF(L62=6,Calcs!$S$193,IF(L62=7,Calcs!$T$193,IF(L62=8,Calcs!$U$193,0))))))))","v":0},null,{"$f":"'1.Profile'!E33","v":0},{"$f":"'1.Profile'!E33","v":0},{"$f":"'1.Profile'!E33","v":0},{"$f":"'1.Profile'!G33","v":0},{"$f":"'1.Profile'!F33","v":0},{"$f":"'1.Profile'!F33","v":0},{"$f":"'1.Profile'!F33","v":0},{"$f":"'1.Profile'!H33","v":0}]
[57,"Harvester with bale presser",{"$f":"IF(C63=1,Calcs!$N$194,IF(C63=2,Calcs!$O$194,IF(C63=3,Calcs!$P$194,IF(C63=5,Calcs!$R$194,IF(C63=6,Calcs!$S$194,IF(C63=7,Calcs!$T$194,0))))))","v":0},{"$f":"IF(D63=1,Calcs!$N$194,IF(D63=2,Calcs!$O$194,IF(D63=3,Calcs!$P$194,IF(D63=5,Calcs!$R$194,IF(D63=6,Calcs!$S$194,IF(D63=7,Calcs!$T$194,0))))))","v":0},{"$f":"IF(E63=1,Calcs!$N$194,IF(E63=2,Calcs!$O$194,IF(E63=3,Calcs!$P$194,IF(E63=5,Calcs!$R$194,IF(E63=6,Calcs!$S$194,IF(E63=7,Calcs!$T$194,0))))))","v":0},{"$f":"IF(F63=1,Calcs!$N$194,IF(F63=2,Calcs!$O$194,IF(F63=3,Calcs!$P$194,IF(F63=5,Calcs!$R$194,IF(F63=6,Calcs!$S$194,IF(F63=7,Calcs!$T$194,0))))))","v":0},{"$f":"IF(G63=1,Calcs!$N$194,IF(G63=2,Calcs!$O$194,IF(G63=3,Calcs!$P$194,IF(G63=5,Calcs!$R$194,IF(G63=6,Calcs!$S$194,IF(G63=7,Calcs!$T$194,0))))))","v":0},{"$f":"IF(H63=1,Calcs!$N$194,IF(H63=2,Calcs!$O$194,IF(H63=3,Calcs!$P$194,IF(H63=5,Calcs!$R$194,IF(H63=6,Calcs!$S$194,IF(H63=7,Calcs!$T$194,0))))))","v":0},{"$f":"IF(I63=1,Calcs!$N$194,IF(I63=2,Calcs!$O$194,IF(I63=3,Calcs!$P$194,IF(I63=5,Calcs!$R$194,IF(I63=6,Calcs!$S$194,IF(I63=7,Calcs!$T$194,0))))))","v":0},{"$f":"IF(J63=1,Calcs!$N$194,IF(J63=2,Calcs!$O$194,IF(J63=3,Calcs!$P$194,IF(J63=5,Calcs!$R$194,IF(J63=6,Calcs!$S$194,IF(J63=7,Calcs!$T$194,0))))))","v":0},{"$f":"IF(K63=1,Calcs!$N$194,IF(K63=2,Calcs!$O$194,IF(K63=3,Calcs!$P$194,IF(K63=5,Calcs!$R$194,IF(K63=6,Calcs!$S$194,IF(K63=7,Calcs!$T$194,0))))))","v":0},{"$f":"IF(L63=1,Calcs!$N$194,IF(L63=2,Calcs!$O$194,IF(L63=3,Calcs!$P$194,IF(L63=5,Calcs!$R$194,IF(L63=6,Calcs!$S$194,IF(L63=7,Calcs!$T$194,0))))))","v":0},null,{"$f":"'+Prices'!$AJ$70","v":1200},{"$f":"'+Prices'!$AJ$70","v":1200},{"$f":"'+Prices'!$AJ$70","v":1200},null,{"$f":"'+Prices'!$AJ$70","v":1200},{"$f":"'+Prices'!$AJ$70","v":1200},{"$f":"'+Prices'!$AJ$70","v":1200}]
[58,"Harvester with chopping of straws",{"$f":"IF(C64=1,Calcs!$N$195,IF(C64=2,Calcs!$O$195,IF(C64=3,Calcs!$P$195,IF(C64=5,Calcs!$R$195,IF(C64=6,Calcs!$S$195,IF(C64=7,Calcs!$T$195,0))))))","v":1125},{"$f":"IF(D64=1,Calcs!$N$195,IF(D64=2,Calcs!$O$195,IF(D64=3,Calcs!$P$195,IF(D64=5,Calcs!$R$195,IF(D64=6,Calcs!$S$195,IF(D64=7,Calcs!$T$195,0))))))","v":0},{"$f":"IF(E64=1,Calcs!$N$195,IF(E64=2,Calcs!$O$195,IF(E64=3,Calcs!$P$195,IF(E64=5,Calcs!$R$195,IF(E64=6,Calcs!$S$195,IF(E64=7,Calcs!$T$195,0))))))","v":1125},{"$f":"IF(F64=1,Calcs!$N$195,IF(F64=2,Calcs!$O$195,IF(F64=3,Calcs!$P$195,IF(F64=5,Calcs!$R$195,IF(F64=6,Calcs!$S$195,IF(F64=7,Calcs!$T$195,0))))))","v":1125},{"$f":"IF(G64=1,Calcs!$N$195,IF(G64=2,Calcs!$O$195,IF(G64=3,Calcs!$P$195,IF(G64=5,Calcs!$R$195,IF(G64=6,Calcs!$S$195,IF(G64=7,Calcs!$T$195,0))))))","v":1125},{"$f":"IF(H64=1,Calcs!$N$195,IF(H64=2,Calcs!$O$195,IF(H64=3,Calcs!$P$195,IF(H64=5,Calcs!$R$195,IF(H64=6,Calcs!$S$195,IF(H64=7,Calcs!$T$195,0))))))","v":0},{"$f":"IF(I64=1,Calcs!$N$195,IF(I64=2,Calcs!$O$195,IF(I64=3,Calcs!$P$195,IF(I64=5,Calcs!$R$195,IF(I64=6,Calcs!$S$195,IF(I64=7,Calcs!$T$195,0))))))","v":1125},{"$f":"IF(J64=1,Calcs!$N$195,IF(J64=2,Calcs!$O$195,IF(J64=3,Calcs!$P$195,IF(J64=5,Calcs!$R$195,IF(J64=6,Calcs!$S$195,IF(J64=7,Calcs!$T$195,0))))))","v":1125},{"$f":"IF(K64=1,Calcs!$N$195,IF(K64=2,Calcs!$O$195,IF(K64=3,Calcs!$P$195,IF(K64=5,Calcs!$R$195,IF(K64=6,Calcs!$S$195,IF(K64=7,Calcs!$T$195,0))))))","v":1125},{"$f":"IF(L64=1,Calcs!$N$195,IF(L64=2,Calcs!$O$195,IF(L64=3,Calcs!$P$195,IF(L64=5,Calcs!$R$195,IF(L64=6,Calcs!$S$195,IF(L64=7,Calcs!$T$195,0))))))","v":0},null,{"$f":"'+Prices'!$AJ$71","v":1125},{"$f":"'+Prices'!$AJ$71","v":1125},{"$f":"'+Prices'!$AJ$71","v":1125},null,{"$f":"'+Prices'!$AJ$71","v":1125},{"$f":"'+Prices'!$AJ$71","v":1125},{"$f":"'+Prices'!$AJ$71","v":1125}]
[59,"Oilseed rape, harvest",{"$f":"IF(C65=4,Calcs!$Q$196,0)","v":0},{"$f":"IF(D65=4,Calcs!$Q$196,0)","v":850},{"$f":"IF(E65=4,Calcs!$Q$196,0)","v":0},{"$f":"IF(F65=4,Calcs!$Q$196,0)","v":0},{"$f":"IF(G65=4,Calcs!$Q$196,0)","v":0},{"$f":"IF(H65=4,Calcs!$Q$196,0)","v":850},{"$f":"IF(I65=4,Calcs!$Q$196,0)","v":0},{"$f":"IF(J65=4,Calcs!$Q$196,0)","v":0},{"$f":"IF(K65=4,Calcs!$Q$196,0)","v":0},{"$f":"IF(L65=4,Calcs!$Q$196,0)","v":850},null,null,null,null,{"$f":"'+Prices'!$AJ$72","v":850}]
[60,"Oilseed rape, harvest, with swathing",{"$f":"IF(C66=4,Calcs!$Q$197,0)","v":0},{"$f":"IF(D66=4,Calcs!$Q$197,0)","v":0},{"$f":"IF(E66=4,Calcs!$Q$197,0)","v":0},{"$f":"IF(F66=4,Calcs!$Q$197,0)","v":0},{"$f":"IF(G66=4,Calcs!$Q$197,0)","v":0},{"$f":"IF(H66=4,Calcs!$Q$197,0)","v":0},{"$f":"IF(I66=4,Calcs!$Q$197,0)","v":0},{"$f":"IF(J66=4,Calcs!$Q$197,0)","v":0},{"$f":"IF(K66=4,Calcs!$Q$197,0)","v":0},{"$f":"IF(L66=4,Calcs!$Q$197,0)","v":0},null,null,null,null,{"$f":"'+Prices'!$AJ$73","v":1350}]
[61,"Legumes, harvest with chopping",{"$f":"IF(C67=8,Calcs!$U$198,0)","v":0},{"$f":"IF(D67=8,Calcs!$U$198,0)","v":0},{"$f":"IF(E67=8,Calcs!$U$198,0)","v":0},{"$f":"IF(F67=8,Calcs!$U$198,0)","v":0},{"$f":"IF(G67=8,Calcs!$U$198,0)","v":0},{"$f":"IF(H67=8,Calcs!$U$198,0)","v":0},{"$f":"IF(I67=8,Calcs!$U$198,0)","v":0},{"$f":"IF(J67=8,Calcs!$U$198,0)","v":0},{"$f":"IF(K67=8,Calcs!$U$198,0)","v":0},{"$f":"IF(L67=8,Calcs!$U$198,0)","v":0},null,null,null,null,null,null,null,null,{"$f":"'+Prices'!$AJ$74","v":1300}]
[null,"Seed Catching",{"$f":"IF(C68=1,Calcs!$N$199,IF(C68=2,Calcs!$O$199,IF(C68=3,Calcs!$P$199,IF(C68=4,Calcs!$Q$199,IF(C68=5,Calcs!$R$199,IF(C68=6,Calcs!$S$199,IF(C68=7,Calcs!$T$199,IF(C68=8,Calcs!$U$199,0))))))))","v":0},{"$f":"IF(D68=1,Calcs!$N$199,IF(D68=2,Calcs!$O$199,IF(D68=3,Calcs!$P$199,IF(D68=4,Calcs!$Q$199,IF(D68=5,Calcs!$R$199,IF(D68=6,Calcs!$S$199,IF(D68=7,Calcs!$T$199,IF(D68=8,Calcs!$U$199,0))))))))","v":0},{"$f":"IF(E68=1,Calcs!$N$199,IF(E68=2,Calcs!$O$199,IF(E68=3,Calcs!$P$199,IF(E68=4,Calcs!$Q$199,IF(E68=5,Calcs!$R$199,IF(E68=6,Calcs!$S$199,IF(E68=7,Calcs!$T$199,IF(E68=8,Calcs!$U$199,0))))))))","v":0},{"$f":"IF(F68=1,Calcs!$N$199,IF(F68=2,Calcs!$O$199,IF(F68=3,Calcs!$P$199,IF(F68=4,Calcs!$Q$199,IF(F68=5,Calcs!$R$199,IF(F68=6,Calcs!$S$199,IF(F68=7,Calcs!$T$199,IF(F68=8,Calcs!$U$199,0))))))))","v":0},{"$f":"IF(G68=1,Calcs!$N$199,IF(G68=2,Calcs!$O$199,IF(G68=3,Calcs!$P$199,IF(G68=4,Calcs!$Q$199,IF(G68=5,Calcs!$R$199,IF(G68=6,Calcs!$S$199,IF(G68=7,Calcs!$T$199,IF(G68=8,Calcs!$U$199,0))))))))","v":0},{"$f":"IF(H68=1,Calcs!$N$199,IF(H68=2,Calcs!$O$199,IF(H68=3,Calcs!$P$199,IF(H68=4,Calcs!$Q$199,IF(H68=5,Calcs!$R$199,IF(H68=6,Calcs!$S$199,IF(H68=7,Calcs!$T$199,IF(H68=8,Calcs!$U$199,0))))))))","v":0},{"$f":"IF(I68=1,Calcs!$N$199,IF(I68=2,Calcs!$O$199,IF(I68=3,Calcs!$P$199,IF(I68=4,Calcs!$Q$199,IF(I68=5,Calcs!$R$199,IF(I68=6,Calcs!$S$199,IF(I68=7,Calcs!$T$199,IF(I68=8,Calcs!$U$199,0))))))))","v":0},{"$f":"IF(J68=1,Calcs!$N$199,IF(J68=2,Calcs!$O$199,IF(J68=3,Calcs!$P$199,IF(J68=4,Calcs!$Q$199,IF(J68=5,Calcs!$R$199,IF(J68=6,Calcs!$S$199,IF(J68=7,Calcs!$T$199,IF(J68=8,Calcs!$U$199,0))))))))","v":0},{"$f":"IF(K68=1,Calcs!$N$199,IF(K68=2,Calcs!$O$199,IF(K68=3,Calcs!$P$199,IF(K68=4,Calcs!$Q$199,IF(K68=5,Calcs!$R$199,IF(K68=6,Calcs!$S$199,IF(K68=7,Calcs!$T$199,IF(K68=8,Calcs!$U$199,0))))))))","v":0},{"$f":"IF(L68=1,Calcs!$N$199,IF(L68=2,Calcs!$O$199,IF(L68=3,Calcs!$P$199,IF(L68=4,Calcs!$Q$199,IF(L68=5,Calcs!$R$199,IF(L68=6,Calcs!$S$199,IF(L68=7,Calcs!$T$199,IF(L68=8,Calcs!$U$199,0))))))))","v":0},null,{"$f":"'+Prices'!$AJ$75","v":1395},{"$f":"'+Prices'!$AJ$75","v":1395},{"$f":"'+Prices'!$AJ$75","v":1395},null,{"$f":"'+Prices'!$AJ$75","v":1395},{"$f":"'+Prices'!$AJ$75","v":1395},{"$f":"'+Prices'!$AJ$75","v":1395}]
[null,"None/grass",{"$f":"IF(C69<>\"\",N200,0)","v":0},0,0,0,0,0,0,0,0,0,null,0,0,0,0,0,0,0,0]
[]
[null,null,null,null,null,null,null,null,null,null,null,null,"Crop plant density as a function of time and seeding rate",null,null,null,null,"W. Wheat","W. Barley","W. rye","S. Barley","S.Oat","S. Wheat","Oilseed","Legumes"]
[null,"Table 13: Crop plant density/m2","\"FALSE\" means that the sowing time is not the one chosen. Resulting number summed below in line 207",null,null,null,null,null,null,null,null,null,null,"Sown early w standard density",null,null,null,{"$f":"'+Options'!AG56/('+Options'!AG56/'+Options'!AG59)","v":226.19047619047618},{"$f":"'+Options'!AH56/('+Options'!AH56/'+Options'!AH59)","v":305.93220338983048},{"$f":"'+Options'!AI56/('+Options'!AI56/'+Options'!AI59)","v":212.30769230769232},{"$f":"'+Options'!AJ56/('+Options'!AJ56/'+Options'!AJ59)","v":266},{"$f":"'+Options'!AK56/('+Options'!AK56/'+Options'!AK59)","v":332.5},{"$f":"'+Options'!AL56/('+Options'!AL56/'+Options'!AL59)","v":358.88888888888886},{"$f":"'+Options'!AM56/('+Options'!AM56/'+Options'!AM59)","v":49.999999999999993},{"$f":"'+Options'!AN56/('+Options'!AN56/'+Options'!AN59)","v":58.666666666666664}]
[null,"Early sowing",{"$f":"IF(E$242=1,IF(AND(C16<>\"\",C$19<>\"\"),$R$203,IF(AND(C16<>\"\",C$20<>\"\"),$R$204,IF(AND(C16<>\"\",C$21<>\"\"),$R$205))),IF(E$242=2,IF(AND(C16<>\"\",C$19<>\"\"),$S$203,IF(AND(C16<>\"\",C$20<>\"\"),$S$204,IF(AND(C16<>\"\",C$21<>\"\"),$S$205))),IF(E$242=3,IF(AND(C16<>\"\",C$19<>\"\"),$T$203,IF(AND(C16<>\"\",C$20<>\"\"),$T$204,IF(AND(C16<>\"\",C$21<>\"\"),$T$205))),IF(E$242=4,IF(AND(C16<>\"\",C$19<>\"\"),$X$203,IF(AND(C16<>\"\",C$20<>\"\"),$X$204,IF(AND(C16<>\"\",C$21<>\"\"),$X$205))),IF(E$242=5,IF(AND(C43<>\"\",C$46<>\"\"),$U$203,IF(AND(C43<>\"\",C$47<>\"\"),$U$204,IF(AND(C43<>\"\",C$48<>\"\"),$U$205))),IF(E$242=6,IF(AND(C43<>\"\",C$46<>\"\"),$V$203,IF(AND(C43<>\"\",C$47<>\"\"),$V$204,IF(AND(C43<>\"\",C$48<>\"\"),$V$205))),IF(E$242=7,IF(AND(C43<>\"\",C$46<>\"\"),$W$203,IF(AND(C43<>\"\",C$47<>\"\"),$W$204,IF(AND(C43<>\"\",C$48<>\"\"),$W$205))),IF(E$242=8,IF(AND(C43<>\"\",C$46<>\"\"),$Y$203,IF(AND(C43<>\"\",C$47<>\"\"),$Y$204,IF(AND(C43<>\"\",C$48<>\"\"),$Y$205))),0))))))))","v":266},{"$f":"IF(F$242=1,IF(AND(D16<>\"\",D$19<>\"\"),$R$203,IF(AND(D16<>\"\",D$20<>\"\"),$R$204,IF(AND(D16<>\"\",D$21<>\"\"),$R$205))),IF(F$242=2,IF(AND(D16<>\"\",D$19<>\"\"),$S$203,IF(AND(D16<>\"\",D$20<>\"\"),$S$204,IF(AND(D16<>\"\",D$21<>\"\"),$S$205))),IF(F$242=3,IF(AND(D16<>\"\",D$19<>\"\"),$T$203,IF(AND(D16<>\"\",D$20<>\"\"),$T$204,IF(AND(D16<>\"\",D$21<>\"\"),$T$205))),IF(F$242=4,IF(AND(D16<>\"\",D$19<>\"\"),$X$203,IF(AND(D16<>\"\",D$20<>\"\"),$X$204,IF(AND(D16<>\"\",D$21<>\"\"),$X$205))),IF(F$242=5,IF(AND(D43<>\"\",D$46<>\"\"),$U$203,IF(AND(D43<>\"\",D$47<>\"\"),$U$204,IF(AND(D43<>\"\",D$48<>\"\"),$U$205))),IF(F$242=6,IF(AND(D43<>\"\",D$46<>\"\"),$V$203,IF(AND(D43<>\"\",D$47<>\"\"),$V$204,IF(AND(D43<>\"\",D$48<>\"\"),$V$205))),IF(F$242=7,IF(AND(D43<>\"\",D$46<>\"\"),$W$203,IF(AND(D43<>\"\",D$47<>\"\"),$W$204,IF(AND(D43<>\"\",D$48<>\"\"),$W$205))),IF(F$242=8,IF(AND(D43<>\"\",D$46<>\"\"),$Y$203,IF(AND(D43<>\"\",D$47<>\"\"),$Y$204,IF(AND(D43<>\"\",D$48<>\"\"),$Y$205))),0))))))))","v":49.999999999999993},false,226.19047619047618,266,49.999999999999993,false,226.19047619047618,266,49.999999999999993,null,"Sown early w medium density",null,null,null,{"$f":"'+Options'!AG57/('+Options'!AG56/'+Options'!AG59)","v":323.45238095238091},{"$f":"'+Options'!AH57/('+Options'!AH56/'+Options'!AH59)","v":334.91525423728814},{"$f":"'+Options'!AI57/('+Options'!AI56/'+Options'!AI59)","v":235.89743589743591},{"$f":"'+Options'!AJ57/('+Options'!AJ56/'+Options'!AJ59)","v":285},{"$f":"'+Options'!AK57/('+Options'!AK56/'+Options'!AK59)","v":356.25},{"$f":"'+Options'!AL57/('+Options'!AL56/'+Options'!AL59)","v":369.4444444444444},{"$f":"'+Options'!AM57/('+Options'!AM56/'+Options'!AM59)","v":59.999999999999986},{"$f":"'+Options'!AN57/('+Options'!AN56/'+Options'!AN59)","v":66.666666666666671}]
[null,"Intermediate sowing",{"$f":"IF(E$242=1,IF(AND(C17<>\"\",C$19<>\"\"),$R$206,IF(AND(C17<>\"\",C$20<>\"\"),$R$207,IF(AND(C17<>\"\",C$21<>\"\"),$R$208))),IF(E$242=2,IF(AND(C17<>\"\",C$19<>\"\"),$S$206,IF(AND(C17<>\"\",C$20<>\"\"),$S$207,IF(AND(C17<>\"\",C$21<>\"\"),$S$208))),IF(E$242=3,IF(AND(C17<>\"\",C$19<>\"\"),$T$206,IF(AND(C17<>\"\",C$20<>\"\"),$T$207,IF(AND(C17<>\"\",C$21<>\"\"),$T$208))),IF(E$242=4,IF(AND(C17<>\"\",C$19<>\"\"),$X$206,IF(AND(C17<>\"\",C$20<>\"\"),$X$207,IF(AND(C17<>\"\",C$21<>\"\"),$X$208))),IF(E$242=5,IF(AND(C44<>\"\",C$46<>\"\"),$U$206,IF(AND(C44<>\"\",C$47<>\"\"),$U$207,IF(AND(C44<>\"\",C$48<>\"\"),$U$208))),IF(E$242=6,IF(AND(C44<>\"\",C$46<>\"\"),$V$206,IF(AND(C44<>\"\",C$47<>\"\"),$V$207,IF(AND(C44<>\"\",C$48<>\"\"),$V$208))),IF(E$242=7,IF(AND(C44<>\"\",C$46<>\"\"),$W$206,IF(AND(C44<>\"\",C$47<>\"\"),$W$207,IF(AND(C44<>\"\",C$48<>\"\"),$W$208))),IF(E$242=8,IF(AND(C44<>\"\",C$46<>\"\"),$Y$206,IF(AND(C44<>\"\",C$47<>\"\"),$Y$207,IF(AND(C44<>\"\",C$48<>\"\"),$Y$208))),0))))))))","v":false},{"$f":"IF(F$242=1,IF(AND(D17<>\"\",D$19<>\"\"),$R$206,IF(AND(D17<>\"\",D$20<>\"\"),$R$207,IF(AND(D17<>\"\",D$21<>\"\"),$R$208))),IF(F$242=2,IF(AND(D17<>\"\",D$19<>\"\"),$S$206,IF(AND(D17<>\"\",D$20<>\"\"),$S$207,IF(AND(D17<>\"\",D$21<>\"\"),$S$208))),IF(F$242=3,IF(AND(D17<>\"\",D$19<>\"\"),$T$206,IF(AND(D17<>\"\",D$20<>\"\"),$T$207,IF(AND(D17<>\"\",D$21<>\"\"),$T$208))),IF(F$242=4,IF(AND(D17<>\"\",D$19<>\"\"),$X$206,IF(AND(D17<>\"\",D$20<>\"\"),$X$207,IF(AND(D17<>\"\",D$21<>\"\"),$X$208))),IF(F$242=5,IF(AND(D44<>\"\",D$46<>\"\"),$U$206,IF(AND(D44<>\"\",D$47<>\"\"),$U$207,IF(AND(D44<>\"\",D$48<>\"\"),$U$208))),IF(F$242=6,IF(AND(D44<>\"\",D$46<>\"\"),$V$206,IF(AND(D44<>\"\",D$47<>\"\"),$V$207,IF(AND(D44<>\"\",D$48<>\"\"),$V$208))),IF(F$242=7,IF(AND(D44<>\"\",D$46<>\"\"),$W$206,IF(AND(D44<>\"\",D$47<>\"\"),$W$207,IF(AND(D44<>\"\",D$48<>\"\"),$W$208))),IF(F$242=8,IF(AND(D44<>\"\",D$46<>\"\"),$Y$206,IF(AND(D44<>\"\",D$47<>\"\"),$Y$207,IF(AND(D44<>\"\",D$48<>\"\"),$Y$208))),0))))))))","v":false},false,false,false,false,false,false,false,false,null,"Sown early w high density",null,null,null,{"$f":"'+Options'!AG58/('+Options'!AG56/'+Options'!AG59)","v":418.45238095238091},{"$f":"'+Options'!AH58/('+Options'!AH56/'+Options'!AH59)","v":362.28813559322032},{"$f":"'+Options'!AI58/('+Options'!AI56/'+Options'!AI59)","v":259.4871794871795},{"$f":"'+Options'!AJ58/('+Options'!AJ56/'+Options'!AJ59)","v":304},{"$f":"'+Options'!AK58/('+Options'!AK56/'+Options'!AK59)","v":380},{"$f":"'+Options'!AL58/('+Options'!AL56/'+Options'!AL59)","v":396.88888888888886},{"$f":"'+Options'!AM58/('+Options'!AM56/'+Options'!AM59)","v":69.999999999999986},{"$f":"'+Options'!AN58/('+Options'!AN56/'+Options'!AN59)","v":74.666666666666671}]
[null,"Late sowing",{"$f":"IF(E$242=1,IF(AND(C18<>\"\",C$19<>\"\"),$R$209,IF(AND(C18<>\"\",C$20<>\"\"),$R$210,IF(AND(C18<>\"\",C$21<>\"\"),$R$211))),IF(E$242=2,IF(AND(C18<>\"\",C$19<>\"\"),$S$209,IF(AND(C18<>\"\",C$20<>\"\"),$S$210,IF(AND(C18<>\"\",C$21<>\"\"),$S$211))),IF(E$242=3,IF(AND(C18<>\"\",C$19<>\"\"),$T$209,IF(AND(C18<>\"\",C$20<>\"\"),$T$210,IF(AND(C18<>\"\",C$21<>\"\"),$T$211))),IF(E$242=4,IF(AND(C18<>\"\",C$19<>\"\"),$X$209,IF(AND(C18<>\"\",C$20<>\"\"),$X$210,IF(AND(C18<>\"\",C$21<>\"\"),$X$211))),IF(E$242=5,IF(AND(C45<>\"\",C$46<>\"\"),$U$209,IF(AND(C45<>\"\",C$47<>\"\"),$U$210,IF(AND(C45<>\"\",C$48<>\"\"),$U$211))),IF(E$242=6,IF(AND(C45<>\"\",C$46<>\"\"),$V$209,IF(AND(C45<>\"\",C$47<>\"\"),$V$210,IF(AND(C45<>\"\",C$48<>\"\"),$V$211))),IF(E$242=7,IF(AND(C45<>\"\",C$46<>\"\"),$W$209,IF(AND(C45<>\"\",C$47<>\"\"),$W$210,IF(AND(C45<>\"\",C$48<>\"\"),$W$211))),IF(E$242=8,IF(AND(C45<>\"\",C$46<>\"\"),$Y$209,IF(AND(C45<>\"\",C$47<>\"\"),$Y$210,IF(AND(C45<>\"\",C$48<>\"\"),$Y$211))),0))))))))","v":false},{"$f":"IF(F$242=1,IF(AND(D18<>\"\",D$19<>\"\"),$R$209,IF(AND(D18<>\"\",D$20<>\"\"),$R$210,IF(AND(D18<>\"\",D$21<>\"\"),$R$211))),IF(F$242=2,IF(AND(D18<>\"\",D$19<>\"\"),$S$209,IF(AND(D18<>\"\",D$20<>\"\"),$S$210,IF(AND(D18<>\"\",D$21<>\"\"),$S$211))),IF(F$242=3,IF(AND(D18<>\"\",D$19<>\"\"),$T$209,IF(AND(D18<>\"\",D$20<>\"\"),$T$210,IF(AND(D18<>\"\",D$21<>\"\"),$T$211))),IF(F$242=4,IF(AND(D18<>\"\",D$19<>\"\"),$X$209,IF(AND(D18<>\"\",D$20<>\"\"),$X$210,IF(AND(D18<>\"\",D$21<>\"\"),$X$211))),IF(F$242=5,IF(AND(D45<>\"\",D$46<>\"\"),$U$209,IF(AND(D45<>\"\",D$47<>\"\"),$U$210,IF(AND(D45<>\"\",D$48<>\"\"),$U$211))),IF(F$242=6,IF(AND(D45<>\"\",D$46<>\"\"),$V$209,IF(AND(D45<>\"\",D$47<>\"\"),$V$210,IF(AND(D45<>\"\",D$48<>\"\"),$V$211))),IF(F$242=7,IF(AND(D45<>\"\",D$46<>\"\"),$W$209,IF(AND(D45<>\"\",D$47<>\"\"),$W$210,IF(AND(D45<>\"\",D$48<>\"\"),$W$211))),IF(F$242=8,IF(AND(D45<>\"\",D$46<>\"\"),$Y$209,IF(AND(D45<>\"\",D$47<>\"\"),$Y$210,IF(AND(D45<>\"\",D$48<>\"\"),$Y$211))),0))))))))","v":false},226.19047619047618,false,false,false,226.19047619047618,false,false,false,null,"Sown Intermediate w standard density",null,null,null,{"$f":"'+Options'!AG56/('+Options'!AG57/'+Options'!AG59)","v":158.17515817515815},{"$f":"'+Options'!AH56/('+Options'!AH57/'+Options'!AH59)","v":279.45730117340287},{"$f":"'+Options'!AI56/('+Options'!AI57/'+Options'!AI59)","v":191.07692307692309},{"$f":"'+Options'!AJ56/('+Options'!AJ57/'+Options'!AJ59)","v":248.26666666666665},{"$f":"'+Options'!AK56/('+Options'!AK57/'+Options'!AK59)","v":310.33333333333337},{"$f":"'+Options'!AL56/('+Options'!AL57/'+Options'!AL59)","v":348.6349206349206},{"$f":"'+Options'!AM56/('+Options'!AM57/'+Options'!AM59)","v":41.666666666666657},{"$f":"'+Options'!AN56/('+Options'!AN57/'+Options'!AN59)","v":51.626666666666665}]
[null,"Resulting crop plant density",{"$f":"SUM(C204:C206)","v":266},{"$f":"SUM(D204:D206)","v":49.999999999999993},226.19047619047618,226.19047619047618,266,49.999999999999993,226.19047619047618,226.19047619047618,266,49.999999999999993,null,"Sown Intermediate w medium density",null,null,null,{"$f":"'+Options'!AG57/('+Options'!AG57/'+Options'!AG59)","v":226.19047619047615},{"$f":"'+Options'!AH57/('+Options'!AH57/'+Options'!AH59)","v":305.93220338983048},{"$f":"'+Options'!AI57/('+Options'!AI57/'+Options'!AI59)","v":212.30769230769232},{"$f":"'+Options'!AJ57/('+Options'!AJ57/'+Options'!AJ59)","v":266},{"$f":"'+Options'!AK57/('+Options'!AK57/'+Options'!AK59)","v":332.5},{"$f":"'+Options'!AL57/('+Options'!AL57/'+Options'!AL59)","v":358.88888888888886},{"$f":"'+Options'!AM57/('+Options'!AM57/'+Options'!AM59)","v":49.999999999999993},{"$f":"'+Options'!AN57/('+Options'!AN57/'+Options'!AN59)","v":58.666666666666664}]
[null,"Table 13 was added late and therefore the numbering of the tables are mixed",null,null,null,null,null,null,null,null,null,null,null,"Sown Intermediate w high density",null,null,null,{"$f":"'+Options'!AG58/('+Options'!AG57/'+Options'!AG59)","v":292.6240426240426},{"$f":"'+Options'!AH58/('+Options'!AH57/'+Options'!AH59)","v":330.9362777053455},{"$f":"'+Options'!AI58/('+Options'!AI57/'+Options'!AI59)","v":233.53846153846155},{"$f":"'+Options'!AJ58/('+Options'!AJ57/'+Options'!AJ59)","v":283.73333333333335},{"$f":"'+Options'!AK58/('+Options'!AK57/'+Options'!AK59)","v":354.66666666666669},{"$f":"'+Options'!AL58/('+Options'!AL57/'+Options'!AL59)","v":385.54920634920632},{"$f":"'+Options'!AM58/('+Options'!AM57/'+Options'!AM59)","v":58.333333333333321},{"$f":"'+Options'!AN58/('+Options'!AN57/'+Options'!AN59)","v":65.706666666666663}]
[null,null,null,null,null,null,null,null,null,null,null,null,null,"Sown Late w standard density",null,null,null,{"$f":"'+Options'!AG56/('+Options'!AG58/'+Options'!AG59)","v":122.26512226512226},{"$f":"'+Options'!AH56/('+Options'!AH58/'+Options'!AH59)","v":258.3427495291902},{"$f":"'+Options'!AI56/('+Options'!AI58/'+Options'!AI59)","v":173.70629370629371},{"$f":"'+Options'!AJ56/('+Options'!AJ58/'+Options'!AJ59)","v":232.75},{"$f":"'+Options'!AK56/('+Options'!AK58/'+Options'!AK59)","v":290.9375},{"$f":"'+Options'!AL56/('+Options'!AL58/'+Options'!AL59)","v":324.5271867612293},{"$f":"'+Options'!AM56/('+Options'!AM58/'+Options'!AM59)","v":35.714285714285708},{"$f":"'+Options'!AN56/('+Options'!AN58/'+Options'!AN59)","v":46.095238095238095}]
[null,null,null,null,null,null,null,null,null,null,null,null,null,"Sown Late w medium density",null,null,null,{"$f":"'+Options'!AG57/('+Options'!AG58/'+Options'!AG59)","v":174.83912483912482},{"$f":"'+Options'!AH57/('+Options'!AH58/'+Options'!AH59)","v":282.81732580037664},{"$f":"'+Options'!AI57/('+Options'!AI58/'+Options'!AI59)","v":193.00699300699301},{"$f":"'+Options'!AJ57/('+Options'!AJ58/'+Options'!AJ59)","v":249.375},{"$f":"'+Options'!AK57/('+Options'!AK58/'+Options'!AK59)","v":311.71875},{"$f":"'+Options'!AL57/('+Options'!AL58/'+Options'!AL59)","v":334.07210401891251},{"$f":"'+Options'!AM57/('+Options'!AM58/'+Options'!AM59)","v":42.857142857142854},{"$f":"'+Options'!AN57/('+Options'!AN58/'+Options'!AN59)","v":52.380952380952387}]
[null,null,null,null,null,null,null,null,null,null,null,null,null,"Sown Late w high density",null,null,null,{"$f":"'+Options'!AG58/('+Options'!AG58/'+Options'!AG59)","v":226.19047619047618},{"$f":"'+Options'!AH58/('+Options'!AH58/'+Options'!AH59)","v":305.93220338983048},{"$f":"'+Options'!AI58/('+Options'!AI58/'+Options'!AI59)","v":212.30769230769232},{"$f":"'+Options'!AJ58/('+Options'!AJ58/'+Options'!AJ59)","v":266},{"$f":"'+Options'!AK58/('+Options'!AK58/'+Options'!AK59)","v":332.5},{"$f":"'+Options'!AL58/('+Options'!AL58/'+Options'!AL59)","v":358.88888888888886},{"$f":"'+Options'!AM58/('+Options'!AM58/'+Options'!AM59)","v":49.999999999999993},{"$f":"'+Options'!AN58/('+Options'!AN58/'+Options'!AN59)","v":58.666666666666671}]
[null,"Table 4.  RG germination","Proportion of seeds germinating depending on season and soil tillage system. Results from the Options page."]
[null,"Period for early sowing 1.-15. sep /before 20. Mar.",{"$f":"IF('2.Strategy'!D$65=\"winter\",IF(Calcs!C$13<>\"\",'+Options'!$AG$115,IF(Calcs!C$14<>\"\",'+Options'!$AH$115,IF(Calcs!C$15<>\"\",'+Options'!$AI$115))),IF('2.Strategy'!D$65=\"spring\",IF(Calcs!C$39<>\"\",'+Options'!$AG$125,IF(Calcs!C$40<>\"\",'+Options'!$AJ$115,IF(Calcs!C$41<>\"\",'+Options'!$AK$115,IF(Calcs!C$42<>\"\",'+Options'!$AL$115)))),'+Options'!$AG$133))","v":0.72},{"$f":"IF('2.Strategy'!E$65=\"winter\",IF(Calcs!D$13<>\"\",'+Options'!$AG$115,IF(Calcs!D$14<>\"\",'+Options'!$AH$115,IF(Calcs!D$15<>\"\",'+Options'!$AI$115))),IF('2.Strategy'!E$65=\"spring\",IF(Calcs!D$39<>\"\",'+Options'!$AG$125,IF(Calcs!D$40<>\"\",'+Options'!$AJ$115,IF(Calcs!D$41<>\"\",'+Options'!$AK$115,IF(Calcs!D$42<>\"\",'+Options'!$AL$115)))),'+Options'!$AG$133))","v":0.25},{"$f":"IF('2.Strategy'!F$65=\"winter\",IF(Calcs!E$13<>\"\",'+Options'!$AG$115,IF(Calcs!E$14<>\"\",'+Options'!$AH$115,IF(Calcs!E$15<>\"\",'+Options'!$AI$115))),IF('2.Strategy'!F$65=\"spring\",IF(Calcs!E$39<>\"\",'+Options'!$AG$125,IF(Calcs!E$40<>\"\",'+Options'!$AJ$115,IF(Calcs!E$41<>\"\",'+Options'!$AK$115,IF(Calcs!E$42<>\"\",'+Options'!$AL$115)))),'+Options'!$AG$133))","v":0.25},{"$f":"IF('2.Strategy'!G$65=\"winter\",IF(Calcs!F$13<>\"\",'+Options'!$AG$115,IF(Calcs!F$14<>\"\",'+Options'!$AH$115,IF(Calcs!F$15<>\"\",'+Options'!$AI$115))),IF('2.Strategy'!G$65=\"spring\",IF(Calcs!F$39<>\"\",'+Options'!$AG$125,IF(Calcs!F$40<>\"\",'+Options'!$AJ$115,IF(Calcs!F$41<>\"\",'+Options'!$AK$115,IF(Calcs!F$42<>\"\",'+Options'!$AL$115)))),'+Options'!$AG$133))","v":0.25},{"$f":"IF('2.Strategy'!H$65=\"winter\",IF(Calcs!G$13<>\"\",'+Options'!$AG$115,IF(Calcs!G$14<>\"\",'+Options'!$AH$115,IF(Calcs!G$15<>\"\",'+Options'!$AI$115))),IF('2.Strategy'!H$65=\"spring\",IF(Calcs!G$39<>\"\",'+Options'!$AG$125,IF(Calcs!G$40<>\"\",'+Options'!$AJ$115,IF(Calcs!G$41<>\"\",'+Options'!$AK$115,IF(Calcs!G$42<>\"\",'+Options'!$AL$115)))),'+Options'!$AG$133))","v":0.72},{"$f":"IF('2.Strategy'!I$65=\"winter\",IF(Calcs!H$13<>\"\",'+Options'!$AG$115,IF(Calcs!H$14<>\"\",'+Options'!$AH$115,IF(Calcs!H$15<>\"\",'+Options'!$AI$115))),IF('2.Strategy'!I$65=\"spring\",IF(Calcs!H$39<>\"\",'+Options'!$AG$125,IF(Calcs!H$40<>\"\",'+Options'!$AJ$115,IF(Calcs!H$41<>\"\",'+Options'!$AK$115,IF(Calcs!H$42<>\"\",'+Options'!$AL$115)))),'+Options'!$AG$133))","v":0.25},{"$f":"IF('2.Strategy'!J$65=\"winter\",IF(Calcs!I$13<>\"\",'+Options'!$AG$115,IF(Calcs!I$14<>\"\",'+Options'!$AH$115,IF(Calcs!I$15<>\"\",'+Options'!$AI$115))),IF('2.Strategy'!J$65=\"spring\",IF(Calcs!I$39<>\"\",'+Options'!$AG$125,IF(Calcs!I$40<>\"\",'+Options'!$AJ$115,IF(Calcs!I$41<>\"\",'+Options'!$AK$115,IF(Calcs!I$42<>\"\",'+Options'!$AL$115)))),'+Options'!$AG$133))","v":0.25},{"$f":"IF('2.Strategy'!K$65=\"winter\",IF(Calcs!J$13<>\"\",'+Options'!$AG$115,IF(Calcs!J$14<>\"\",'+Options'!$AH$115,IF(Calcs!J$15<>\"\",'+Options'!$AI$115))),IF('2.Strategy'!K$65=\"spring\",IF(Calcs!J$39<>\"\",'+Options'!$AG$125,IF(Calcs!J$40<>\"\",'+Options'!$AJ$115,IF(Calcs!J$41<>\"\",'+Options'!$AK$115,IF(Calcs!J$42<>\"\",'+Options'!$AL$115)))),'+Options'!$AG$133))","v":0.25},{"$f":"IF('2.Strategy'!L$65=\"winter\",IF(Calcs!K$13<>\"\",'+Options'!$AG$115,IF(Calcs!K$14<>\"\",'+Options'!$AH$115,IF(Calcs!K$15<>\"\",'+Options'!$AI$115))),IF('2.Strategy'!L$65=\"spring\",IF(Calcs!K$39<>\"\",'+Options'!$AG$125,IF(Calcs!K$40<>\"\",'+Options'!$AJ$115,IF(Calcs!K$41<>\"\",'+Options'!$AK$115,IF(Calcs!K$42<>\"\",'+Options'!$AL$115)))),'+Options'!$AG$133))","v":0.72},{"$f":"IF('2.Strategy'!M$65=\"winter\",IF(Calcs!L$13<>\"\",'+Options'!$AG$115,IF(Calcs!L$14<>\"\",'+Options'!$AH$115,IF(Calcs!L$15<>\"\",'+Options'!$AI$115))),IF('2.Strategy'!M$65=\"spring\",IF(Calcs!L$39<>\"\",'+Options'!$AG$125,IF(Calcs!L$40<>\"\",'+Options'!$AJ$115,IF(Calcs!L$41<>\"\",'+Options'!$AK$115,IF(Calcs!L$42<>\"\",'+Options'!$AL$115)))),'+Options'!$AG$133))","v":0.25}]
[null,"Period for medium sowing 15.-20. sep /20. mar - 15. apr",{"$f":"IF('2.Strategy'!D$65=\"winter\",IF(Calcs!C$13<>\"\",'+Options'!$AG$116,IF(Calcs!C$14<>\"\",'+Options'!$AH$116,IF(Calcs!C$15<>\"\",'+Options'!$AI$116))),IF('2.Strategy'!D$65=\"spring\",IF(Calcs!C$39<>\"\",'+Options'!$AG$125,IF(Calcs!C$40<>\"\",'+Options'!$AJ$116,IF(Calcs!C$41<>\"\",'+Options'!$AK$116,IF(Calcs!C$42<>\"\",'+Options'!$AL$116)))),'+Options'!$AG$133))","v":0.25},{"$f":"IF('2.Strategy'!E$65=\"winter\",IF(Calcs!D$13<>\"\",'+Options'!$AG$116,IF(Calcs!D$14<>\"\",'+Options'!$AH$116,IF(Calcs!D$15<>\"\",'+Options'!$AI$116))),IF('2.Strategy'!E$65=\"spring\",IF(Calcs!D$39<>\"\",'+Options'!$AG$125,IF(Calcs!D$40<>\"\",'+Options'!$AJ$116,IF(Calcs!D$41<>\"\",'+Options'!$AK$116,IF(Calcs!D$42<>\"\",'+Options'!$AL$116)))),'+Options'!$AG$133))","v":0.35},{"$f":"IF('2.Strategy'!F$65=\"winter\",IF(Calcs!E$13<>\"\",'+Options'!$AG$116,IF(Calcs!E$14<>\"\",'+Options'!$AH$116,IF(Calcs!E$15<>\"\",'+Options'!$AI$116))),IF('2.Strategy'!F$65=\"spring\",IF(Calcs!E$39<>\"\",'+Options'!$AG$125,IF(Calcs!E$40<>\"\",'+Options'!$AJ$116,IF(Calcs!E$41<>\"\",'+Options'!$AK$116,IF(Calcs!E$42<>\"\",'+Options'!$AL$116)))),'+Options'!$AG$133))","v":0.35},{"$f":"IF('2.Strategy'!G$65=\"winter\",IF(Calcs!F$13<>\"\",'+Options'!$AG$116,IF(Calcs!F$14<>\"\",'+Options'!$AH$116,IF(Calcs!F$15<>\"\",'+Options'!$AI$116))),IF('2.Strategy'!G$65=\"spring\",IF(Calcs!F$39<>\"\",'+Options'!$AG$125,IF(Calcs!F$40<>\"\",'+Options'!$AJ$116,IF(Calcs!F$41<>\"\",'+Options'!$AK$116,IF(Calcs!F$42<>\"\",'+Options'!$AL$116)))),'+Options'!$AG$133))","v":0.35},{"$f":"IF('2.Strategy'!H$65=\"winter\",IF(Calcs!G$13<>\"\",'+Options'!$AG$116,IF(Calcs!G$14<>\"\",'+Options'!$AH$116,IF(Calcs!G$15<>\"\",'+Options'!$AI$116))),IF('2.Strategy'!H$65=\"spring\",IF(Calcs!G$39<>\"\",'+Options'!$AG$125,IF(Calcs!G$40<>\"\",'+Options'!$AJ$116,IF(Calcs!G$41<>\"\",'+Options'!$AK$116,IF(Calcs!G$42<>\"\",'+Options'!$AL$116)))),'+Options'!$AG$133))","v":0.25},{"$f":"IF('2.Strategy'!I$65=\"winter\",IF(Calcs!H$13<>\"\",'+Options'!$AG$116,IF(Calcs!H$14<>\"\",'+Options'!$AH$116,IF(Calcs!H$15<>\"\",'+Options'!$AI$116))),IF('2.Strategy'!I$65=\"spring\",IF(Calcs!H$39<>\"\",'+Options'!$AG$125,IF(Calcs!H$40<>\"\",'+Options'!$AJ$116,IF(Calcs!H$41<>\"\",'+Options'!$AK$116,IF(Calcs!H$42<>\"\",'+Options'!$AL$116)))),'+Options'!$AG$133))","v":0.35},{"$f":"IF('2.Strategy'!J$65=\"winter\",IF(Calcs!I$13<>\"\",'+Options'!$AG$116,IF(Calcs!I$14<>\"\",'+Options'!$AH$116,IF(Calcs!I$15<>\"\",'+Options'!$AI$116))),IF('2.Strategy'!J$65=\"spring\",IF(Calcs!I$39<>\"\",'+Options'!$AG$125,IF(Calcs!I$40<>\"\",'+Options'!$AJ$116,IF(Calcs!I$41<>\"\",'+Options'!$AK$116,IF(Calcs!I$42<>\"\",'+Options'!$AL$116)))),'+Options'!$AG$133))","v":0.35},{"$f":"IF('2.Strategy'!K$65=\"winter\",IF(Calcs!J$13<>\"\",'+Options'!$AG$116,IF(Calcs!J$14<>\"\",'+Options'!$AH$116,IF(Calcs!J$15<>\"\",'+Options'!$AI$116))),IF('2.Strategy'!K$65=\"spring\",IF(Calcs!J$39<>\"\",'+Options'!$AG$125,IF(Calcs!J$40<>\"\",'+Options'!$AJ$116,IF(Calcs!J$41<>\"\",'+Options'!$AK$116,IF(Calcs!J$42<>\"\",'+Options'!$AL$116)))),'+Options'!$AG$133))","v":0.35},{"$f":"IF('2.Strategy'!L$65=\"winter\",IF(Calcs!K$13<>\"\",'+Options'!$AG$116,IF(Calcs!K$14<>\"\",'+Options'!$AH$116,IF(Calcs!K$15<>\"\",'+Options'!$AI$116))),IF('2.Strategy'!L$65=\"spring\",IF(Calcs!K$39<>\"\",'+Options'!$AG$125,IF(Calcs!K$40<>\"\",'+Options'!$AJ$116,IF(Calcs!K$41<>\"\",'+Options'!$AK$116,IF(Calcs!K$42<>\"\",'+Options'!$AL$116)))),'+Options'!$AG$133))","v":0.25},{"$f":"IF('2.Strategy'!M$65=\"winter\",IF(Calcs!L$13<>\"\",'+Options'!$AG$116,IF(Calcs!L$14<>\"\",'+Options'!$AH$116,IF(Calcs!L$15<>\"\",'+Options'!$AI$116))),IF('2.Strategy'!M$65=\"spring\",IF(Calcs!L$39<>\"\",'+Options'!$AG$125,IF(Calcs!L$40<>\"\",'+Options'!$AJ$116,IF(Calcs!L$41<>\"\",'+Options'!$AK$116,IF(Calcs!L$42<>\"\",'+Options'!$AL$116)))),'+Options'!$AG$133))","v":0.35}]
[null,"Period for late sowing after 20. sep / after 15. apr.",{"$f":"IF('2.Strategy'!D$65=\"winter\",IF(Calcs!C$13<>\"\",'+Options'!$AG$117,IF(Calcs!C$14<>\"\",'+Options'!$AH$117,IF(Calcs!C$15<>\"\",'+Options'!$AI$117))),IF('2.Strategy'!D$65=\"spring\",IF(Calcs!C$39<>\"\",'+Options'!$AG$125,IF(Calcs!C$40<>\"\",'+Options'!$AJ$117,IF(Calcs!C$41<>\"\",'+Options'!$AK$117,IF(Calcs!C$42<>\"\",'+Options'!$AL$117)))),'+Options'!$AG$133))","v":0.15},{"$f":"IF('2.Strategy'!E$65=\"winter\",IF(Calcs!D$13<>\"\",'+Options'!$AG$117,IF(Calcs!D$14<>\"\",'+Options'!$AH$117,IF(Calcs!D$15<>\"\",'+Options'!$AI$117))),IF('2.Strategy'!E$65=\"spring\",IF(Calcs!D$39<>\"\",'+Options'!$AG$125,IF(Calcs!D$40<>\"\",'+Options'!$AJ$117,IF(Calcs!D$41<>\"\",'+Options'!$AK$117,IF(Calcs!D$42<>\"\",'+Options'!$AL$117)))),'+Options'!$AG$133))","v":0.25},{"$f":"IF('2.Strategy'!F$65=\"winter\",IF(Calcs!E$13<>\"\",'+Options'!$AG$117,IF(Calcs!E$14<>\"\",'+Options'!$AH$117,IF(Calcs!E$15<>\"\",'+Options'!$AI$117))),IF('2.Strategy'!F$65=\"spring\",IF(Calcs!E$39<>\"\",'+Options'!$AG$125,IF(Calcs!E$40<>\"\",'+Options'!$AJ$117,IF(Calcs!E$41<>\"\",'+Options'!$AK$117,IF(Calcs!E$42<>\"\",'+Options'!$AL$117)))),'+Options'!$AG$133))","v":0.25},{"$f":"IF('2.Strategy'!G$65=\"winter\",IF(Calcs!F$13<>\"\",'+Options'!$AG$117,IF(Calcs!F$14<>\"\",'+Options'!$AH$117,IF(Calcs!F$15<>\"\",'+Options'!$AI$117))),IF('2.Strategy'!G$65=\"spring\",IF(Calcs!F$39<>\"\",'+Options'!$AG$125,IF(Calcs!F$40<>\"\",'+Options'!$AJ$117,IF(Calcs!F$41<>\"\",'+Options'!$AK$117,IF(Calcs!F$42<>\"\",'+Options'!$AL$117)))),'+Options'!$AG$133))","v":0.25},{"$f":"IF('2.Strategy'!H$65=\"winter\",IF(Calcs!G$13<>\"\",'+Options'!$AG$117,IF(Calcs!G$14<>\"\",'+Options'!$AH$117,IF(Calcs!G$15<>\"\",'+Options'!$AI$117))),IF('2.Strategy'!H$65=\"spring\",IF(Calcs!G$39<>\"\",'+Options'!$AG$125,IF(Calcs!G$40<>\"\",'+Options'!$AJ$117,IF(Calcs!G$41<>\"\",'+Options'!$AK$117,IF(Calcs!G$42<>\"\",'+Options'!$AL$117)))),'+Options'!$AG$133))","v":0.15},{"$f":"IF('2.Strategy'!I$65=\"winter\",IF(Calcs!H$13<>\"\",'+Options'!$AG$117,IF(Calcs!H$14<>\"\",'+Options'!$AH$117,IF(Calcs!H$15<>\"\",'+Options'!$AI$117))),IF('2.Strategy'!I$65=\"spring\",IF(Calcs!H$39<>\"\",'+Options'!$AG$125,IF(Calcs!H$40<>\"\",'+Options'!$AJ$117,IF(Calcs!H$41<>\"\",'+Options'!$AK$117,IF(Calcs!H$42<>\"\",'+Options'!$AL$117)))),'+Options'!$AG$133))","v":0.25},{"$f":"IF('2.Strategy'!J$65=\"winter\",IF(Calcs!I$13<>\"\",'+Options'!$AG$117,IF(Calcs!I$14<>\"\",'+Options'!$AH$117,IF(Calcs!I$15<>\"\",'+Options'!$AI$117))),IF('2.Strategy'!J$65=\"spring\",IF(Calcs!I$39<>\"\",'+Options'!$AG$125,IF(Calcs!I$40<>\"\",'+Options'!$AJ$117,IF(Calcs!I$41<>\"\",'+Options'!$AK$117,IF(Calcs!I$42<>\"\",'+Options'!$AL$117)))),'+Options'!$AG$133))","v":0.25},{"$f":"IF('2.Strategy'!K$65=\"winter\",IF(Calcs!J$13<>\"\",'+Options'!$AG$117,IF(Calcs!J$14<>\"\",'+Options'!$AH$117,IF(Calcs!J$15<>\"\",'+Options'!$AI$117))),IF('2.Strategy'!K$65=\"spring\",IF(Calcs!J$39<>\"\",'+Options'!$AG$125,IF(Calcs!J$40<>\"\",'+Options'!$AJ$117,IF(Calcs!J$41<>\"\",'+Options'!$AK$117,IF(Calcs!J$42<>\"\",'+Options'!$AL$117)))),'+Options'!$AG$133))","v":0.25},{"$f":"IF('2.Strategy'!L$65=\"winter\",IF(Calcs!K$13<>\"\",'+Options'!$AG$117,IF(Calcs!K$14<>\"\",'+Options'!$AH$117,IF(Calcs!K$15<>\"\",'+Options'!$AI$117))),IF('2.Strategy'!L$65=\"spring\",IF(Calcs!K$39<>\"\",'+Options'!$AG$125,IF(Calcs!K$40<>\"\",'+Options'!$AJ$117,IF(Calcs!K$41<>\"\",'+Options'!$AK$117,IF(Calcs!K$42<>\"\",'+Options'!$AL$117)))),'+Options'!$AG$133))","v":0.15},{"$f":"IF('2.Strategy'!M$65=\"winter\",IF(Calcs!L$13<>\"\",'+Options'!$AG$117,IF(Calcs!L$14<>\"\",'+Options'!$AH$117,IF(Calcs!L$15<>\"\",'+Options'!$AI$117))),IF('2.Strategy'!M$65=\"spring\",IF(Calcs!L$39<>\"\",'+Options'!$AG$125,IF(Calcs!L$40<>\"\",'+Options'!$AJ$117,IF(Calcs!L$41<>\"\",'+Options'!$AK$117,IF(Calcs!L$42<>\"\",'+Options'!$AL$117)))),'+Options'!$AG$133))","v":0.25}]
[null,"Before Pre-E spraying (late emerging ) /not relevant in spring",{"$f":"IF('2.Strategy'!D$65=\"winter\",IF(Calcs!C$13<>\"\",'+Options'!$AG$118,IF(Calcs!C$14<>\"\",'+Options'!$AH$118,IF(Calcs!C$15<>\"\",'+Options'!$AI$118))),IF('2.Strategy'!D$65=\"spring\",IF(Calcs!C$39<>\"\",'+Options'!$AG$125,IF(Calcs!C$40<>\"\",'+Options'!$AJ$118,IF(Calcs!C$41<>\"\",'+Options'!$AK$118,IF(Calcs!C$42<>\"\",'+Options'!$AL$118)))),'+Options'!$AG$133))","v":0},{"$f":"IF('2.Strategy'!E$65=\"winter\",IF(Calcs!D$13<>\"\",'+Options'!$AG$118,IF(Calcs!D$14<>\"\",'+Options'!$AH$118,IF(Calcs!D$15<>\"\",'+Options'!$AI$118))),IF('2.Strategy'!E$65=\"spring\",IF(Calcs!D$39<>\"\",'+Options'!$AG$125,IF(Calcs!D$40<>\"\",'+Options'!$AJ$118,IF(Calcs!D$41<>\"\",'+Options'!$AK$118,IF(Calcs!D$42<>\"\",'+Options'!$AL$118)))),'+Options'!$AG$133))","v":0.1},{"$f":"IF('2.Strategy'!F$65=\"winter\",IF(Calcs!E$13<>\"\",'+Options'!$AG$118,IF(Calcs!E$14<>\"\",'+Options'!$AH$118,IF(Calcs!E$15<>\"\",'+Options'!$AI$118))),IF('2.Strategy'!F$65=\"spring\",IF(Calcs!E$39<>\"\",'+Options'!$AG$125,IF(Calcs!E$40<>\"\",'+Options'!$AJ$118,IF(Calcs!E$41<>\"\",'+Options'!$AK$118,IF(Calcs!E$42<>\"\",'+Options'!$AL$118)))),'+Options'!$AG$133))","v":0.1},{"$f":"IF('2.Strategy'!G$65=\"winter\",IF(Calcs!F$13<>\"\",'+Options'!$AG$118,IF(Calcs!F$14<>\"\",'+Options'!$AH$118,IF(Calcs!F$15<>\"\",'+Options'!$AI$118))),IF('2.Strategy'!G$65=\"spring\",IF(Calcs!F$39<>\"\",'+Options'!$AG$125,IF(Calcs!F$40<>\"\",'+Options'!$AJ$118,IF(Calcs!F$41<>\"\",'+Options'!$AK$118,IF(Calcs!F$42<>\"\",'+Options'!$AL$118)))),'+Options'!$AG$133))","v":0.1},{"$f":"IF('2.Strategy'!H$65=\"winter\",IF(Calcs!G$13<>\"\",'+Options'!$AG$118,IF(Calcs!G$14<>\"\",'+Options'!$AH$118,IF(Calcs!G$15<>\"\",'+Options'!$AI$118))),IF('2.Strategy'!H$65=\"spring\",IF(Calcs!G$39<>\"\",'+Options'!$AG$125,IF(Calcs!G$40<>\"\",'+Options'!$AJ$118,IF(Calcs!G$41<>\"\",'+Options'!$AK$118,IF(Calcs!G$42<>\"\",'+Options'!$AL$118)))),'+Options'!$AG$133))","v":0},{"$f":"IF('2.Strategy'!I$65=\"winter\",IF(Calcs!H$13<>\"\",'+Options'!$AG$118,IF(Calcs!H$14<>\"\",'+Options'!$AH$118,IF(Calcs!H$15<>\"\",'+Options'!$AI$118))),IF('2.Strategy'!I$65=\"spring\",IF(Calcs!H$39<>\"\",'+Options'!$AG$125,IF(Calcs!H$40<>\"\",'+Options'!$AJ$118,IF(Calcs!H$41<>\"\",'+Options'!$AK$118,IF(Calcs!H$42<>\"\",'+Options'!$AL$118)))),'+Options'!$AG$133))","v":0.1},{"$f":"IF('2.Strategy'!J$65=\"winter\",IF(Calcs!I$13<>\"\",'+Options'!$AG$118,IF(Calcs!I$14<>\"\",'+Options'!$AH$118,IF(Calcs!I$15<>\"\",'+Options'!$AI$118))),IF('2.Strategy'!J$65=\"spring\",IF(Calcs!I$39<>\"\",'+Options'!$AG$125,IF(Calcs!I$40<>\"\",'+Options'!$AJ$118,IF(Calcs!I$41<>\"\",'+Options'!$AK$118,IF(Calcs!I$42<>\"\",'+Options'!$AL$118)))),'+Options'!$AG$133))","v":0.1},{"$f":"IF('2.Strategy'!K$65=\"winter\",IF(Calcs!J$13<>\"\",'+Options'!$AG$118,IF(Calcs!J$14<>\"\",'+Options'!$AH$118,IF(Calcs!J$15<>\"\",'+Options'!$AI$118))),IF('2.Strategy'!K$65=\"spring\",IF(Calcs!J$39<>\"\",'+Options'!$AG$125,IF(Calcs!J$40<>\"\",'+Options'!$AJ$118,IF(Calcs!J$41<>\"\",'+Options'!$AK$118,IF(Calcs!J$42<>\"\",'+Options'!$AL$118)))),'+Options'!$AG$133))","v":0.1},{"$f":"IF('2.Strategy'!L$65=\"winter\",IF(Calcs!K$13<>\"\",'+Options'!$AG$118,IF(Calcs!K$14<>\"\",'+Options'!$AH$118,IF(Calcs!K$15<>\"\",'+Options'!$AI$118))),IF('2.Strategy'!L$65=\"spring\",IF(Calcs!K$39<>\"\",'+Options'!$AG$125,IF(Calcs!K$40<>\"\",'+Options'!$AJ$118,IF(Calcs!K$41<>\"\",'+Options'!$AK$118,IF(Calcs!K$42<>\"\",'+Options'!$AL$118)))),'+Options'!$AG$133))","v":0},{"$f":"IF('2.Strategy'!M$65=\"winter\",IF(Calcs!L$13<>\"\",'+Options'!$AG$118,IF(Calcs!L$14<>\"\",'+Options'!$AH$118,IF(Calcs!L$15<>\"\",'+Options'!$AI$118))),IF('2.Strategy'!M$65=\"spring\",IF(Calcs!L$39<>\"\",'+Options'!$AG$125,IF(Calcs!L$40<>\"\",'+Options'!$AJ$118,IF(Calcs!L$41<>\"\",'+Options'!$AK$118,IF(Calcs!L$42<>\"\",'+Options'!$AL$118)))),'+Options'!$AG$133))","v":0.1}]
[null,"Before Post-E spraying, both crop types",{"$f":"IF('2.Strategy'!D$65=\"winter\",IF(Calcs!C$13<>\"\",'+Options'!$AG$119,IF(Calcs!C$14<>\"\",'+Options'!$AH$119,IF(Calcs!C$15<>\"\",'+Options'!$AI$119,'+Options'!$AG$133))),IF('2.Strategy'!D$65=\"spring\",IF(Calcs!C$39<>\"\",'+Options'!$AG$125,IF(Calcs!C$40<>\"\",'+Options'!$AJ$119,IF(Calcs!C$41<>\"\",'+Options'!$AK$119,IF(Calcs!C$42<>\"\",'+Options'!$AL$119)))),'+Options'!$AG$133))","v":0.1},{"$f":"IF('2.Strategy'!E$65=\"winter\",IF(Calcs!D$13<>\"\",'+Options'!$AG$119,IF(Calcs!D$14<>\"\",'+Options'!$AH$119,IF(Calcs!D$15<>\"\",'+Options'!$AI$119,'+Options'!$AG$133))),IF('2.Strategy'!E$65=\"spring\",IF(Calcs!D$39<>\"\",'+Options'!$AG$125,IF(Calcs!D$40<>\"\",'+Options'!$AJ$119,IF(Calcs!D$41<>\"\",'+Options'!$AK$119,IF(Calcs!D$42<>\"\",'+Options'!$AL$119)))),'+Options'!$AG$133))","v":0.1},{"$f":"IF('2.Strategy'!F$65=\"winter\",IF(Calcs!E$13<>\"\",'+Options'!$AG$119,IF(Calcs!E$14<>\"\",'+Options'!$AH$119,IF(Calcs!E$15<>\"\",'+Options'!$AI$119,'+Options'!$AG$133))),IF('2.Strategy'!F$65=\"spring\",IF(Calcs!E$39<>\"\",'+Options'!$AG$125,IF(Calcs!E$40<>\"\",'+Options'!$AJ$119,IF(Calcs!E$41<>\"\",'+Options'!$AK$119,IF(Calcs!E$42<>\"\",'+Options'!$AL$119)))),'+Options'!$AG$133))","v":0.1},{"$f":"IF('2.Strategy'!G$65=\"winter\",IF(Calcs!F$13<>\"\",'+Options'!$AG$119,IF(Calcs!F$14<>\"\",'+Options'!$AH$119,IF(Calcs!F$15<>\"\",'+Options'!$AI$119,'+Options'!$AG$133))),IF('2.Strategy'!G$65=\"spring\",IF(Calcs!F$39<>\"\",'+Options'!$AG$125,IF(Calcs!F$40<>\"\",'+Options'!$AJ$119,IF(Calcs!F$41<>\"\",'+Options'!$AK$119,IF(Calcs!F$42<>\"\",'+Options'!$AL$119)))),'+Options'!$AG$133))","v":0.1},{"$f":"IF('2.Strategy'!H$65=\"winter\",IF(Calcs!G$13<>\"\",'+Options'!$AG$119,IF(Calcs!G$14<>\"\",'+Options'!$AH$119,IF(Calcs!G$15<>\"\",'+Options'!$AI$119,'+Options'!$AG$133))),IF('2.Strategy'!H$65=\"spring\",IF(Calcs!G$39<>\"\",'+Options'!$AG$125,IF(Calcs!G$40<>\"\",'+Options'!$AJ$119,IF(Calcs!G$41<>\"\",'+Options'!$AK$119,IF(Calcs!G$42<>\"\",'+Options'!$AL$119)))),'+Options'!$AG$133))","v":0.1},{"$f":"IF('2.Strategy'!I$65=\"winter\",IF(Calcs!H$13<>\"\",'+Options'!$AG$119,IF(Calcs!H$14<>\"\",'+Options'!$AH$119,IF(Calcs!H$15<>\"\",'+Options'!$AI$119,'+Options'!$AG$133))),IF('2.Strategy'!I$65=\"spring\",IF(Calcs!H$39<>\"\",'+Options'!$AG$125,IF(Calcs!H$40<>\"\",'+Options'!$AJ$119,IF(Calcs!H$41<>\"\",'+Options'!$AK$119,IF(Calcs!H$42<>\"\",'+Options'!$AL$119)))),'+Options'!$AG$133))","v":0.1},{"$f":"IF('2.Strategy'!J$65=\"winter\",IF(Calcs!I$13<>\"\",'+Options'!$AG$119,IF(Calcs!I$14<>\"\",'+Options'!$AH$119,IF(Calcs!I$15<>\"\",'+Options'!$AI$119,'+Options'!$AG$133))),IF('2.Strategy'!J$65=\"spring\",IF(Calcs!I$39<>\"\",'+Options'!$AG$125,IF(Calcs!I$40<>\"\",'+Options'!$AJ$119,IF(Calcs!I$41<>\"\",'+Options'!$AK$119,IF(Calcs!I$42<>\"\",'+Options'!$AL$119)))),'+Options'!$AG$133))","v":0.1},{"$f":"IF('2.Strategy'!K$65=\"winter\",IF(Calcs!J$13<>\"\",'+Options'!$AG$119,IF(Calcs!J$14<>\"\",'+Options'!$AH$119,IF(Calcs!J$15<>\"\",'+Options'!$AI$119,'+Options'!$AG$133))),IF('2.Strategy'!K$65=\"spring\",IF(Calcs!J$39<>\"\",'+Options'!$AG$125,IF(Calcs!J$40<>\"\",'+Options'!$AJ$119,IF(Calcs!J$41<>\"\",'+Options'!$AK$119,IF(Calcs!J$42<>\"\",'+Options'!$AL$119)))),'+Options'!$AG$133))","v":0.1},{"$f":"IF('2.Strategy'!L$65=\"winter\",IF(Calcs!K$13<>\"\",'+Options'!$AG$119,IF(Calcs!K$14<>\"\",'+Options'!$AH$119,IF(Calcs!K$15<>\"\",'+Options'!$AI$119,'+Options'!$AG$133))),IF('2.Strategy'!L$65=\"spring\",IF(Calcs!K$39<>\"\",'+Options'!$AG$125,IF(Calcs!K$40<>\"\",'+Options'!$AJ$119,IF(Calcs!K$41<>\"\",'+Options'!$AK$119,IF(Calcs!K$42<>\"\",'+Options'!$AL$119)))),'+Options'!$AG$133))","v":0.1},{"$f":"IF('2.Strategy'!M$65=\"winter\",IF(Calcs!L$13<>\"\",'+Options'!$AG$119,IF(Calcs!L$14<>\"\",'+Options'!$AH$119,IF(Calcs!L$15<>\"\",'+Options'!$AI$119,'+Options'!$AG$133))),IF('2.Strategy'!M$65=\"spring\",IF(Calcs!L$39<>\"\",'+Options'!$AG$125,IF(Calcs!L$40<>\"\",'+Options'!$AJ$119,IF(Calcs!L$41<>\"\",'+Options'!$AK$119,IF(Calcs!L$42<>\"\",'+Options'!$AL$119)))),'+Options'!$AG$133))","v":0.1}]
[null,"Late germination",{"$f":"IF('2.Strategy'!D$65=\"winter\",IF(Calcs!C$13<>\"\",'+Options'!$AG$120,IF(Calcs!C$14<>\"\",'+Options'!$AH$120,IF(Calcs!C$15<>\"\",'+Options'!$AI$120))),IF('2.Strategy'!D$65=\"spring\",IF(Calcs!C$39<>\"\",'+Options'!$AG$125,IF(Calcs!C$40<>\"\",'+Options'!$AJ$120,IF(Calcs!C$41<>\"\",'+Options'!$AK$120,IF(Calcs!C$42<>\"\",'+Options'!$AL$120)))),'+Options'!$AG$133))","v":0.05},{"$f":"IF('2.Strategy'!E$65=\"winter\",IF(Calcs!D$13<>\"\",'+Options'!$AG$120,IF(Calcs!D$14<>\"\",'+Options'!$AH$120,IF(Calcs!D$15<>\"\",'+Options'!$AI$120))),IF('2.Strategy'!E$65=\"spring\",IF(Calcs!D$39<>\"\",'+Options'!$AG$125,IF(Calcs!D$40<>\"\",'+Options'!$AJ$120,IF(Calcs!D$41<>\"\",'+Options'!$AK$120,IF(Calcs!D$42<>\"\",'+Options'!$AL$120)))),'+Options'!$AG$133))","v":0.05},{"$f":"IF('2.Strategy'!F$65=\"winter\",IF(Calcs!E$13<>\"\",'+Options'!$AG$120,IF(Calcs!E$14<>\"\",'+Options'!$AH$120,IF(Calcs!E$15<>\"\",'+Options'!$AI$120))),IF('2.Strategy'!F$65=\"spring\",IF(Calcs!E$39<>\"\",'+Options'!$AG$125,IF(Calcs!E$40<>\"\",'+Options'!$AJ$120,IF(Calcs!E$41<>\"\",'+Options'!$AK$120,IF(Calcs!E$42<>\"\",'+Options'!$AL$120)))),'+Options'!$AG$133))","v":0.05},{"$f":"IF('2.Strategy'!G$65=\"winter\",IF(Calcs!F$13<>\"\",'+Options'!$AG$120,IF(Calcs!F$14<>\"\",'+Options'!$AH$120,IF(Calcs!F$15<>\"\",'+Options'!$AI$120))),IF('2.Strategy'!G$65=\"spring\",IF(Calcs!F$39<>\"\",'+Options'!$AG$125,IF(Calcs!F$40<>\"\",'+Options'!$AJ$120,IF(Calcs!F$41<>\"\",'+Options'!$AK$120,IF(Calcs!F$42<>\"\",'+Options'!$AL$120)))),'+Options'!$AG$133))","v":0.05},{"$f":"IF('2.Strategy'!H$65=\"winter\",IF(Calcs!G$13<>\"\",'+Options'!$AG$120,IF(Calcs!G$14<>\"\",'+Options'!$AH$120,IF(Calcs!G$15<>\"\",'+Options'!$AI$120))),IF('2.Strategy'!H$65=\"spring\",IF(Calcs!G$39<>\"\",'+Options'!$AG$125,IF(Calcs!G$40<>\"\",'+Options'!$AJ$120,IF(Calcs!G$41<>\"\",'+Options'!$AK$120,IF(Calcs!G$42<>\"\",'+Options'!$AL$120)))),'+Options'!$AG$133))","v":0.05},{"$f":"IF('2.Strategy'!I$65=\"winter\",IF(Calcs!H$13<>\"\",'+Options'!$AG$120,IF(Calcs!H$14<>\"\",'+Options'!$AH$120,IF(Calcs!H$15<>\"\",'+Options'!$AI$120))),IF('2.Strategy'!I$65=\"spring\",IF(Calcs!H$39<>\"\",'+Options'!$AG$125,IF(Calcs!H$40<>\"\",'+Options'!$AJ$120,IF(Calcs!H$41<>\"\",'+Options'!$AK$120,IF(Calcs!H$42<>\"\",'+Options'!$AL$120)))),'+Options'!$AG$133))","v":0.05},{"$f":"IF('2.Strategy'!J$65=\"winter\",IF(Calcs!I$13<>\"\",'+Options'!$AG$120,IF(Calcs!I$14<>\"\",'+Options'!$AH$120,IF(Calcs!I$15<>\"\",'+Options'!$AI$120))),IF('2.Strategy'!J$65=\"spring\",IF(Calcs!I$39<>\"\",'+Options'!$AG$125,IF(Calcs!I$40<>\"\",'+Options'!$AJ$120,IF(Calcs!I$41<>\"\",'+Options'!$AK$120,IF(Calcs!I$42<>\"\",'+Options'!$AL$120)))),'+Options'!$AG$133))","v":0.05},{"$f":"IF('2.Strategy'!K$65=\"winter\",IF(Calcs!J$13<>\"\",'+Options'!$AG$120,IF(Calcs!J$14<>\"\",'+Options'!$AH$120,IF(Calcs!J$15<>\"\",'+Options'!$AI$120))),IF('2.Strategy'!K$65=\"spring\",IF(Calcs!J$39<>\"\",'+Options'!$AG$125,IF(Calcs!J$40<>\"\",'+Options'!$AJ$120,IF(Calcs!J$41<>\"\",'+Options'!$AK$120,IF(Calcs!J$42<>\"\",'+Options'!$AL$120)))),'+Options'!$AG$133))","v":0.05},{"$f":"IF('2.Strategy'!L$65=\"winter\",IF(Calcs!K$13<>\"\",'+Options'!$AG$120,IF(Calcs!K$14<>\"\",'+Options'!$AH$120,IF(Calcs!K$15<>\"\",'+Options'!$AI$120))),IF('2.Strategy'!L$65=\"spring\",IF(Calcs!K$39<>\"\",'+Options'!$AG$125,IF(Calcs!K$40<>\"\",'+Options'!$AJ$120,IF(Calcs!K$41<>\"\",'+Options'!$AK$120,IF(Calcs!K$42<>\"\",'+Options'!$AL$120)))),'+Options'!$AG$133))","v":0.05},{"$f":"IF('2.Strategy'!M$65=\"winter\",IF(Calcs!L$13<>\"\",'+Options'!$AG$120,IF(Calcs!L$14<>\"\",'+Options'!$AH$120,IF(Calcs!L$15<>\"\",'+Options'!$AI$120))),IF('2.Strategy'!M$65=\"spring\",IF(Calcs!L$39<>\"\",'+Options'!$AG$125,IF(Calcs!L$40<>\"\",'+Options'!$AJ$120,IF(Calcs!L$41<>\"\",'+Options'!$AK$120,IF(Calcs!L$42<>\"\",'+Options'!$AL$120)))),'+Options'!$AG$133))","v":0.05}]
[]
[]
[null,"Table 5.  RG control per period","Summarises the control table, feeds into the bio results page combines autumn and spring options"]
[null,"Weeds surviving beyond period of early sow",{"$f":"IF('2.Strategy'!D$65=\"winter\",IF(OR(C$16<>\"\",C$7<>\"\"),C$81*C$72,1),IF('2.Strategy'!D$65=\"spring\",IF(OR(C$43<>\"\",C$33),C$108*C$98,1),0.05))","v":9.9999999999999978E-2},{"$f":"IF('2.Strategy'!E$65=\"winter\",IF(OR(D$16<>\"\",D$7<>\"\"),D$81*D$72,1),IF('2.Strategy'!E$65=\"spring\",IF(OR(D$43<>\"\",D$33),D$108*D$98,1),0.05))","v":9.9999999999999978E-2},{"$f":"IF('2.Strategy'!F$65=\"winter\",IF(OR(E$16<>\"\",E$7<>\"\"),E$81*E$72,1),IF('2.Strategy'!F$65=\"spring\",IF(OR(E$43<>\"\",E$33),E$108*E$98,1),0.05))","v":1},{"$f":"IF('2.Strategy'!G$65=\"winter\",IF(OR(F$16<>\"\",F$7<>\"\"),F$81*F$72,1),IF('2.Strategy'!G$65=\"spring\",IF(OR(F$43<>\"\",F$33),F$108*F$98,1),0.05))","v":9.9999999999999978E-2},{"$f":"IF('2.Strategy'!H$65=\"winter\",IF(OR(G$16<>\"\",G$7<>\"\"),G$81*G$72,1),IF('2.Strategy'!H$65=\"spring\",IF(OR(G$43<>\"\",G$33),G$108*G$98,1),0.05))","v":9.9999999999999978E-2},{"$f":"IF('2.Strategy'!I$65=\"winter\",IF(OR(H$16<>\"\",H$7<>\"\"),H$81*H$72,1),IF('2.Strategy'!I$65=\"spring\",IF(OR(H$43<>\"\",H$33),H$108*H$98,1),0.05))","v":9.9999999999999978E-2},{"$f":"IF('2.Strategy'!J$65=\"winter\",IF(OR(I$16<>\"\",I$7<>\"\"),I$81*I$72,1),IF('2.Strategy'!J$65=\"spring\",IF(OR(I$43<>\"\",I$33),I$108*I$98,1),0.05))","v":1},{"$f":"IF('2.Strategy'!K$65=\"winter\",IF(OR(J$16<>\"\",J$7<>\"\"),J$81*J$72,1),IF('2.Strategy'!K$65=\"spring\",IF(OR(J$43<>\"\",J$33),J$108*J$98,1),0.05))","v":9.9999999999999978E-2},{"$f":"IF('2.Strategy'!L$65=\"winter\",IF(OR(K$16<>\"\",K$7<>\"\"),K$81*K$72,1),IF('2.Strategy'!L$65=\"spring\",IF(OR(K$43<>\"\",K$33),K$108*K$98,1),0.05))","v":9.9999999999999978E-2},{"$f":"IF('2.Strategy'!M$65=\"winter\",IF(OR(L$16<>\"\",L$7<>\"\"),L$81*L$72,1),IF('2.Strategy'!M$65=\"spring\",IF(OR(L$43<>\"\",L$33),L$108*L$98,1),0.05))","v":9.9999999999999978E-2},"For grass, the control level is an expert assessment"]
[null,"Weeds surviving beyond period of medium sow",{"$f":"IF('2.Strategy'!D$65=\"winter\",IF(OR(C$17<>\"\",C$8<>\"\"),C$82*C$73,1),IF('2.Strategy'!D$65=\"spring\",IF(OR(C$43<>\"\",C$33),C$109*C$99,1),0.05))","v":1},{"$f":"IF('2.Strategy'!E$65=\"winter\",IF(OR(D$17<>\"\",D$8<>\"\"),D$82*D$73,1),IF('2.Strategy'!E$65=\"spring\",IF(OR(D$43<>\"\",D$33),D$109*D$99,1),0.05))","v":1},{"$f":"IF('2.Strategy'!F$65=\"winter\",IF(OR(E$17<>\"\",E$8<>\"\"),E$82*E$73,1),IF('2.Strategy'!F$65=\"spring\",IF(OR(E$43<>\"\",E$33),E$109*E$99,1),0.05))","v":1},{"$f":"IF('2.Strategy'!G$65=\"winter\",IF(OR(F$17<>\"\",F$8<>\"\"),F$82*F$73,1),IF('2.Strategy'!G$65=\"spring\",IF(OR(F$43<>\"\",F$33),F$109*F$99,1),0.05))","v":1},{"$f":"IF('2.Strategy'!H$65=\"winter\",IF(OR(G$17<>\"\",G$8<>\"\"),G$82*G$73,1),IF('2.Strategy'!H$65=\"spring\",IF(OR(G$43<>\"\",G$33),G$109*G$99,1),0.05))","v":1},{"$f":"IF('2.Strategy'!I$65=\"winter\",IF(OR(H$17<>\"\",H$8<>\"\"),H$82*H$73,1),IF('2.Strategy'!I$65=\"spring\",IF(OR(H$43<>\"\",H$33),H$109*H$99,1),0.05))","v":1},{"$f":"IF('2.Strategy'!J$65=\"winter\",IF(OR(I$17<>\"\",I$8<>\"\"),I$82*I$73,1),IF('2.Strategy'!J$65=\"spring\",IF(OR(I$43<>\"\",I$33),I$109*I$99,1),0.05))","v":1},{"$f":"IF('2.Strategy'!K$65=\"winter\",IF(OR(J$17<>\"\",J$8<>\"\"),J$82*J$73,1),IF('2.Strategy'!K$65=\"spring\",IF(OR(J$43<>\"\",J$33),J$109*J$99,1),0.05))","v":1},{"$f":"IF('2.Strategy'!L$65=\"winter\",IF(OR(K$17<>\"\",K$8<>\"\"),K$82*K$73,1),IF('2.Strategy'!L$65=\"spring\",IF(OR(K$43<>\"\",K$33),K$109*K$99,1),0.05))","v":1},{"$f":"IF('2.Strategy'!M$65=\"winter\",IF(OR(L$17<>\"\",L$8<>\"\"),L$82*L$73,1),IF('2.Strategy'!M$65=\"spring\",IF(OR(L$43<>\"\",L$33),L$109*L$99,1),0.05))","v":1}]
[null,"Weeds surviving beyond period of late sow",{"$f":"IF('2.Strategy'!D$65=\"winter\",IF(OR(C$18<>\"\",C$9<>\"\"),C$83*C$74,1),IF('2.Strategy'!D$65=\"spring\",IF(OR(C$44<>\"\",C$34),C$110*C$100,1),0.05))","v":1},{"$f":"IF('2.Strategy'!E$65=\"winter\",IF(OR(D$18<>\"\",D$9<>\"\"),D$83*D$74,1),IF('2.Strategy'!E$65=\"spring\",IF(OR(D$44<>\"\",D$34),D$110*D$100,1),0.05))","v":1},{"$f":"IF('2.Strategy'!F$65=\"winter\",IF(OR(E$18<>\"\",E$9<>\"\"),E$83*E$74,1),IF('2.Strategy'!F$65=\"spring\",IF(OR(E$44<>\"\",E$34),E$110*E$100,1),0.05))","v":9.9999999999999978E-2},{"$f":"IF('2.Strategy'!G$65=\"winter\",IF(OR(F$18<>\"\",F$9<>\"\"),F$83*F$74,1),IF('2.Strategy'!G$65=\"spring\",IF(OR(F$44<>\"\",F$34),F$110*F$100,1),0.05))","v":1},{"$f":"IF('2.Strategy'!H$65=\"winter\",IF(OR(G$18<>\"\",G$9<>\"\"),G$83*G$74,1),IF('2.Strategy'!H$65=\"spring\",IF(OR(G$44<>\"\",G$34),G$110*G$100,1),0.05))","v":1},{"$f":"IF('2.Strategy'!I$65=\"winter\",IF(OR(H$18<>\"\",H$9<>\"\"),H$83*H$74,1),IF('2.Strategy'!I$65=\"spring\",IF(OR(H$44<>\"\",H$34),H$110*H$100,1),0.05))","v":1},{"$f":"IF('2.Strategy'!J$65=\"winter\",IF(OR(I$18<>\"\",I$9<>\"\"),I$83*I$74,1),IF('2.Strategy'!J$65=\"spring\",IF(OR(I$44<>\"\",I$34),I$110*I$100,1),0.05))","v":9.9999999999999978E-2},{"$f":"IF('2.Strategy'!K$65=\"winter\",IF(OR(J$18<>\"\",J$9<>\"\"),J$83*J$74,1),IF('2.Strategy'!K$65=\"spring\",IF(OR(J$44<>\"\",J$34),J$110*J$100,1),0.05))","v":1},{"$f":"IF('2.Strategy'!L$65=\"winter\",IF(OR(K$18<>\"\",K$9<>\"\"),K$83*K$74,1),IF('2.Strategy'!L$65=\"spring\",IF(OR(K$44<>\"\",K$34),K$110*K$100,1),0.05))","v":1},{"$f":"IF('2.Strategy'!M$65=\"winter\",IF(OR(L$18<>\"\",L$9<>\"\"),L$83*L$74,1),IF('2.Strategy'!M$65=\"spring\",IF(OR(L$44<>\"\",L$34),L$110*L$100,1),0.05))","v":1}]
[null,"Weeds surviving pre-em treatments",{"$f":"IF('2.Strategy'!D$65=\"winter\",C89*C90*(1-'+Options'!$AG$126),IF('2.Strategy'!D$65=\"spring\",1,0.05))","v":1},{"$f":"IF('2.Strategy'!E$65=\"winter\",D89*D90*(1-'+Options'!$AG$126),IF('2.Strategy'!E$65=\"spring\",1,0.05))","v":0.95},{"$f":"IF('2.Strategy'!F$65=\"winter\",E89*E90*(1-'+Options'!$AG$126),IF('2.Strategy'!F$65=\"spring\",1,0.05))","v":0.35149999999999998},{"$f":"IF('2.Strategy'!G$65=\"winter\",F89*F90*(1-'+Options'!$AG$126),IF('2.Strategy'!G$65=\"spring\",1,0.05))","v":0.35149999999999998},{"$f":"IF('2.Strategy'!H$65=\"winter\",G89*G90*(1-'+Options'!$AG$126),IF('2.Strategy'!H$65=\"spring\",1,0.05))","v":1},{"$f":"IF('2.Strategy'!I$65=\"winter\",H89*H90*(1-'+Options'!$AG$126),IF('2.Strategy'!I$65=\"spring\",1,0.05))","v":0.95},{"$f":"IF('2.Strategy'!J$65=\"winter\",I89*I90*(1-'+Options'!$AG$126),IF('2.Strategy'!J$65=\"spring\",1,0.05))","v":0.35149999999999998},{"$f":"IF('2.Strategy'!K$65=\"winter\",J89*J90*(1-'+Options'!$AG$126),IF('2.Strategy'!K$65=\"spring\",1,0.05))","v":0.35149999999999998},{"$f":"IF('2.Strategy'!L$65=\"winter\",K89*K90*(1-'+Options'!$AG$126),IF('2.Strategy'!L$65=\"spring\",1,0.05))","v":1},{"$f":"IF('2.Strategy'!M$65=\"winter\",L89*L90*(1-'+Options'!$AG$126),IF('2.Strategy'!M$65=\"spring\",1,0.05))","v":0.95},"only applied in winter"]
[null,"Weeds surviving post-em treatments",{"$f":"IF('2.Strategy'!D$65=\"winter\",C91*C92*C93*C94*C95*C96*C97*(1-'+Options'!$AG$126)*C116*C117*C118*C119*C120*C121*C122*(1-'+Options'!$AG$127),IF('2.Strategy'!D65=\"spring\",C116*C117*C118*C119*C120*C121*C122*(1-'+Options'!$AG$127),0.05))","v":0.14400000000000004},{"$f":"IF('2.Strategy'!E$65=\"winter\",D91*D92*D93*D94*D95*D96*D97*(1-'+Options'!$AG$126)*D116*D117*D118*D119*D120*D121*D122*(1-'+Options'!$AG$127),IF('2.Strategy'!E65=\"spring\",D116*D117*D118*D119*D120*D121*D122*(1-'+Options'!$AG$127),0.05))","v":6.0799999999999965E-2},{"$f":"IF('2.Strategy'!F$65=\"winter\",E91*E92*E93*E94*E95*E96*E97*(1-'+Options'!$AG$126)*E116*E117*E118*E119*E120*E121*E122*(1-'+Options'!$AG$127),IF('2.Strategy'!F65=\"spring\",E116*E117*E118*E119*E120*E121*E122*(1-'+Options'!$AG$127),0.05))","v":4.5600000000000043E-2},{"$f":"IF('2.Strategy'!G$65=\"winter\",F91*F92*F93*F94*F95*F96*F97*(1-'+Options'!$AG$126)*F116*F117*F118*F119*F120*F121*F122*(1-'+Options'!$AG$127),IF('2.Strategy'!G65=\"spring\",F116*F117*F118*F119*F120*F121*F122*(1-'+Options'!$AG$127),0.05))","v":0.25079999999999997},{"$f":"IF('2.Strategy'!H$65=\"winter\",G91*G92*G93*G94*G95*G96*G97*(1-'+Options'!$AG$126)*G116*G117*G118*G119*G120*G121*G122*(1-'+Options'!$AG$127),IF('2.Strategy'!H65=\"spring\",G116*G117*G118*G119*G120*G121*G122*(1-'+Options'!$AG$127),0.05))","v":0.14400000000000004},{"$f":"IF('2.Strategy'!I$65=\"winter\",H91*H92*H93*H94*H95*H96*H97*(1-'+Options'!$AG$126)*H116*H117*H118*H119*H120*H121*H122*(1-'+Options'!$AG$127),IF('2.Strategy'!I65=\"spring\",H116*H117*H118*H119*H120*H121*H122*(1-'+Options'!$AG$127),0.05))","v":6.0799999999999965E-2},{"$f":"IF('2.Strategy'!J$65=\"winter\",I91*I92*I93*I94*I95*I96*I97*(1-'+Options'!$AG$126)*I116*I117*I118*I119*I120*I121*I122*(1-'+Options'!$AG$127),IF('2.Strategy'!J65=\"spring\",I116*I117*I118*I119*I120*I121*I122*(1-'+Options'!$AG$127),0.05))","v":4.5600000000000043E-2},{"$f":"IF('2.Strategy'!K$65=\"winter\",J91*J92*J93*J94*J95*J96*J97*(1-'+Options'!$AG$126)*J116*J117*J118*J119*J120*J121*J122*(1-'+Options'!$AG$127),IF('2.Strategy'!K65=\"spring\",J116*J117*J118*J119*J120*J121*J122*(1-'+Options'!$AG$127),0.05))","v":0.25079999999999997},{"$f":"IF('2.Strategy'!L$65=\"winter\",K91*K92*K93*K94*K95*K96*K97*(1-'+Options'!$AG$126)*K116*K117*K118*K119*K120*K121*K122*(1-'+Options'!$AG$127),IF('2.Strategy'!L65=\"spring\",K116*K117*K118*K119*K120*K121*K122*(1-'+Options'!$AG$127),0.05))","v":0.14400000000000004},{"$f":"IF('2.Strategy'!M$65=\"winter\",L91*L92*L93*L94*L95*L96*L97*(1-'+Options'!$AG$126)*L116*L117*L118*L119*L120*L121*L122*(1-'+Options'!$AG$127),IF('2.Strategy'!M65=\"spring\",L116*L117*L118*L119*L120*L121*L122*(1-'+Options'!$AG$127),0.05))","v":6.0799999999999965E-2}]
[null,"Weeds surviving during spring",{"$f":"IF('2.Strategy'!D65=\"grass\",0.05,C123*C124*C125*C126*C127)","v":1},{"$f":"IF('2.Strategy'!E65=\"grass\",0.05,D123*D124*D125*D126*D127)","v":1},{"$f":"IF('2.Strategy'!F65=\"grass\",0.05,E123*E124*E125*E126*E127)","v":1},{"$f":"IF('2.Strategy'!G65=\"grass\",0.05,F123*F124*F125*F126*F127)","v":1},{"$f":"IF('2.Strategy'!H65=\"grass\",0.05,G123*G124*G125*G126*G127)","v":1},{"$f":"IF('2.Strategy'!I65=\"grass\",0.05,H123*H124*H125*H126*H127)","v":1},{"$f":"IF('2.Strategy'!J65=\"grass\",0.05,I123*I124*I125*I126*I127)","v":1},{"$f":"IF('2.Strategy'!K65=\"grass\",0.05,J123*J124*J125*J126*J127)","v":1},{"$f":"IF('2.Strategy'!L65=\"grass\",0.05,K123*K124*K125*K126*K127)","v":1},{"$f":"IF('2.Strategy'!M65=\"grass\",0.05,L123*L124*L125*L126*L127)","v":1}]
[null,"Seeds surviving harvest",{"$f":"IF('2.Strategy'!D65=\"grass\",0.4,C128*C129*C130*C131*C132*C134)","v":0.95},{"$f":"IF('2.Strategy'!E65=\"grass\",0.4,D128*D129*D130*D131*D132*D134)","v":0.95},{"$f":"IF('2.Strategy'!F65=\"grass\",0.4,E128*E129*E130*E131*E132*E134)","v":0.95},{"$f":"IF('2.Strategy'!G65=\"grass\",0.4,F128*F129*F130*F131*F132*F134)","v":0.95},{"$f":"IF('2.Strategy'!H65=\"grass\",0.4,G128*G129*G130*G131*G132*G134)","v":0.95},{"$f":"IF('2.Strategy'!I65=\"grass\",0.4,H128*H129*H130*H131*H132*H134)","v":0.95},{"$f":"IF('2.Strategy'!J65=\"grass\",0.4,I128*I129*I130*I131*I132*I134)","v":0.95},{"$f":"IF('2.Strategy'!K65=\"grass\",0.4,J128*J129*J130*J131*J132*J134)","v":0.95},{"$f":"IF('2.Strategy'!L65=\"grass\",0.4,K128*K129*K130*K131*K132*K134)","v":0.95},{"$f":"IF('2.Strategy'!M65=\"grass\",0.4,L128*L129*L130*L131*L132*L134)","v":0.95},"In a grass or grass/clover crop, the seeds will survive harvest if they have survived through the season"]
[]
[null,"Table 6. Healthy equivalent weeds/m2 ","Feeds from the bio results and the RG parameters in the Option page. Feeds back into the bio results for the RG seed production in Spring."]
[null,"Period for early sowing 1.-15. sep /before 20. Mar.",{"$f":"IF('2.Strategy'!D$65=\"winter\",'Bio results'!D3*C$222+'Bio results'!D13*C$213*IF(C16<>\"\",'+Options'!$AG$148,IF(C17<>\"\",'+Options'!$AH$148,IF(C18<>\"\",'+Options'!$AI$148))),IF('2.Strategy'!D$65=\"spring\",'Bio results'!D3*C$222+'Bio results'!D13*C$213*IF(C43<>\"\",'+Options'!$AJ$148,IF(C44<>\"\",'+Options'!$AK$148,IF(C45<>\"\",'+Options'!$AL$148))),0.05))","v":43.199999999999996},{"$f":"IF('2.Strategy'!E$65=\"winter\",'Bio results'!E3*D$222+'Bio results'!E13*D$213*IF(D16<>\"\",'+Options'!$AG$148,IF(D17<>\"\",'+Options'!$AH$148,IF(D18<>\"\",'+Options'!$AI$148))),IF('2.Strategy'!E$65=\"spring\",'Bio results'!E3*D$222+'Bio results'!E13*D$213*IF(D43<>\"\",'+Options'!$AJ$148,IF(D44<>\"\",'+Options'!$AK$148,IF(D45<>\"\",'+Options'!$AL$148))),0.05))","v":19.25},{"$f":"IF('2.Strategy'!F$65=\"winter\",'Bio results'!F3*E$222+'Bio results'!F13*E$213*IF(E16<>\"\",'+Options'!$AG$148,IF(E17<>\"\",'+Options'!$AH$148,IF(E18<>\"\",'+Options'!$AI$148))),IF('2.Strategy'!F$65=\"spring\",'Bio results'!F3*E$222+'Bio results'!F13*E$213*IF(E43<>\"\",'+Options'!$AJ$148,IF(E44<>\"\",'+Options'!$AK$148,IF(E45<>\"\",'+Options'!$AL$148))),0.05))","v":52},{"$f":"IF('2.Strategy'!G$65=\"winter\",'Bio results'!G3*F$222+'Bio results'!G13*F$213*IF(F16<>\"\",'+Options'!$AG$148,IF(F17<>\"\",'+Options'!$AH$148,IF(F18<>\"\",'+Options'!$AI$148))),IF('2.Strategy'!G$65=\"spring\",'Bio results'!G3*F$222+'Bio results'!G13*F$213*IF(F43<>\"\",'+Options'!$AJ$148,IF(F44<>\"\",'+Options'!$AK$148,IF(F45<>\"\",'+Options'!$AL$148))),0.05))","v":49.5},{"$f":"IF('2.Strategy'!H$65=\"winter\",'Bio results'!H3*G$222+'Bio results'!H13*G$213*IF(G16<>\"\",'+Options'!$AG$148,IF(G17<>\"\",'+Options'!$AH$148,IF(G18<>\"\",'+Options'!$AI$148))),IF('2.Strategy'!H$65=\"spring\",'Bio results'!H3*G$222+'Bio results'!H13*G$213*IF(G43<>\"\",'+Options'!$AJ$148,IF(G44<>\"\",'+Options'!$AK$148,IF(G45<>\"\",'+Options'!$AL$148))),0.05))","v":82.079999999999984},{"$f":"IF('2.Strategy'!I$65=\"winter\",'Bio results'!I3*H$222+'Bio results'!I13*H$213*IF(H16<>\"\",'+Options'!$AG$148,IF(H17<>\"\",'+Options'!$AH$148,IF(H18<>\"\",'+Options'!$AI$148))),IF('2.Strategy'!I$65=\"spring\",'Bio results'!I3*H$222+'Bio results'!I13*H$213*IF(H43<>\"\",'+Options'!$AJ$148,IF(H44<>\"\",'+Options'!$AK$148,IF(H45<>\"\",'+Options'!$AL$148))),0.05))","v":38.5},{"$f":"IF('2.Strategy'!J$65=\"winter\",'Bio results'!J3*I$222+'Bio results'!J13*I$213*IF(I16<>\"\",'+Options'!$AG$148,IF(I17<>\"\",'+Options'!$AH$148,IF(I18<>\"\",'+Options'!$AI$148))),IF('2.Strategy'!J$65=\"spring\",'Bio results'!J3*I$222+'Bio results'!J13*I$213*IF(I43<>\"\",'+Options'!$AJ$148,IF(I44<>\"\",'+Options'!$AK$148,IF(I45<>\"\",'+Options'!$AL$148))),0.05))","v":104},{"$f":"IF('2.Strategy'!K$65=\"winter\",'Bio results'!K3*J$222+'Bio results'!K13*J$213*IF(J16<>\"\",'+Options'!$AG$148,IF(J17<>\"\",'+Options'!$AH$148,IF(J18<>\"\",'+Options'!$AI$148))),IF('2.Strategy'!K$65=\"spring\",'Bio results'!K3*J$222+'Bio results'!K13*J$213*IF(J43<>\"\",'+Options'!$AJ$148,IF(J44<>\"\",'+Options'!$AK$148,IF(J45<>\"\",'+Options'!$AL$148))),0.05))","v":99},{"$f":"IF('2.Strategy'!L$65=\"winter\",'Bio results'!L3*K$222+'Bio results'!L13*K$213*IF(K16<>\"\",'+Options'!$AG$148,IF(K17<>\"\",'+Options'!$AH$148,IF(K18<>\"\",'+Options'!$AI$148))),IF('2.Strategy'!L$65=\"spring\",'Bio results'!L3*K$222+'Bio results'!L13*K$213*IF(K43<>\"\",'+Options'!$AJ$148,IF(K44<>\"\",'+Options'!$AK$148,IF(K45<>\"\",'+Options'!$AL$148))),0.05))","v":164.15999999999997},{"$f":"IF('2.Strategy'!M$65=\"winter\",'Bio results'!M3*L$222+'Bio results'!M13*L$213*IF(L16<>\"\",'+Options'!$AG$148,IF(L17<>\"\",'+Options'!$AH$148,IF(L18<>\"\",'+Options'!$AI$148))),IF('2.Strategy'!M$65=\"spring\",'Bio results'!M3*L$222+'Bio results'!M13*L$213*IF(L43<>\"\",'+Options'!$AJ$148,IF(L44<>\"\",'+Options'!$AK$148,IF(L45<>\"\",'+Options'!$AL$148))),0.05))","v":74.25},"Different from the original RIM as we don't have the same summer survival issue"]
[null,"Period for medium sowing 15.-20. sep /20. mar - 15. apr",{"$f":"IF('2.Strategy'!D$65=\"winter\",C231*C$223+'Bio results'!D14*C$214*IF(C17<>\"\",'+Options'!$AG$148,IF(C18<>\"\",'+Options'!$AH$148,IF(C19<>\"\",'+Options'!$AI$148))),IF('2.Strategy'!D$65=\"spring\",C231*C$223+'Bio results'!D14*C$214*IF(C44<>\"\",'+Options'!$AJ$148,IF(C45<>\"\",'+Options'!$AK$148,IF(C46<>\"\",'+Options'!$AL$148))),0.05))","v":45.3},{"$f":"IF('2.Strategy'!E$65=\"winter\",D231*D$223+'Bio results'!E14*D$214*IF(D17<>\"\",'+Options'!$AG$148,IF(D18<>\"\",'+Options'!$AH$148,IF(D19<>\"\",'+Options'!$AI$148))),IF('2.Strategy'!E$65=\"spring\",D231*D$223+'Bio results'!E14*D$214*IF(D44<>\"\",'+Options'!$AJ$148,IF(D45<>\"\",'+Options'!$AK$148,IF(D46<>\"\",'+Options'!$AL$148))),0.05))","v":30.274999999999999},{"$f":"IF('2.Strategy'!F$65=\"winter\",E231*E$223+'Bio results'!F14*E$214*IF(E17<>\"\",'+Options'!$AG$148,IF(E18<>\"\",'+Options'!$AH$148,IF(E19<>\"\",'+Options'!$AI$148))),IF('2.Strategy'!F$65=\"spring\",E231*E$223+'Bio results'!F14*E$214*IF(E44<>\"\",'+Options'!$AJ$148,IF(E45<>\"\",'+Options'!$AK$148,IF(E46<>\"\",'+Options'!$AL$148))),0.05))","v":79.3},{"$f":"IF('2.Strategy'!G$65=\"winter\",F231*F$223+'Bio results'!G14*F$214*IF(F17<>\"\",'+Options'!$AG$148,IF(F18<>\"\",'+Options'!$AH$148,IF(F19<>\"\",'+Options'!$AI$148))),IF('2.Strategy'!G$65=\"spring\",F231*F$223+'Bio results'!G14*F$214*IF(F44<>\"\",'+Options'!$AJ$148,IF(F45<>\"\",'+Options'!$AK$148,IF(F46<>\"\",'+Options'!$AL$148))),0.05))","v":77.849999999999994},{"$f":"IF('2.Strategy'!H$65=\"winter\",G231*G$223+'Bio results'!H14*G$214*IF(G17<>\"\",'+Options'!$AG$148,IF(G18<>\"\",'+Options'!$AH$148,IF(G19<>\"\",'+Options'!$AI$148))),IF('2.Strategy'!H$65=\"spring\",G231*G$223+'Bio results'!H14*G$214*IF(G44<>\"\",'+Options'!$AJ$148,IF(G45<>\"\",'+Options'!$AK$148,IF(G46<>\"\",'+Options'!$AL$148))),0.05))","v":86.069999999999979},{"$f":"IF('2.Strategy'!I$65=\"winter\",H231*H$223+'Bio results'!I14*H$214*IF(H17<>\"\",'+Options'!$AG$148,IF(H18<>\"\",'+Options'!$AH$148,IF(H19<>\"\",'+Options'!$AI$148))),IF('2.Strategy'!I$65=\"spring\",H231*H$223+'Bio results'!I14*H$214*IF(H44<>\"\",'+Options'!$AJ$148,IF(H45<>\"\",'+Options'!$AK$148,IF(H46<>\"\",'+Options'!$AL$148))),0.05))","v":60.55},{"$f":"IF('2.Strategy'!J$65=\"winter\",I231*I$223+'Bio results'!J14*I$214*IF(I17<>\"\",'+Options'!$AG$148,IF(I18<>\"\",'+Options'!$AH$148,IF(I19<>\"\",'+Options'!$AI$148))),IF('2.Strategy'!J$65=\"spring\",I231*I$223+'Bio results'!J14*I$214*IF(I44<>\"\",'+Options'!$AJ$148,IF(I45<>\"\",'+Options'!$AK$148,IF(I46<>\"\",'+Options'!$AL$148))),0.05))","v":158.6},{"$f":"IF('2.Strategy'!K$65=\"winter\",J231*J$223+'Bio results'!K14*J$214*IF(J17<>\"\",'+Options'!$AG$148,IF(J18<>\"\",'+Options'!$AH$148,IF(J19<>\"\",'+Options'!$AI$148))),IF('2.Strategy'!K$65=\"spring\",J231*J$223+'Bio results'!K14*J$214*IF(J44<>\"\",'+Options'!$AJ$148,IF(J45<>\"\",'+Options'!$AK$148,IF(J46<>\"\",'+Options'!$AL$148))),0.05))","v":155.69999999999999},{"$f":"IF('2.Strategy'!L$65=\"winter\",K231*K$223+'Bio results'!L14*K$214*IF(K17<>\"\",'+Options'!$AG$148,IF(K18<>\"\",'+Options'!$AH$148,IF(K19<>\"\",'+Options'!$AI$148))),IF('2.Strategy'!L$65=\"spring\",K231*K$223+'Bio results'!L14*K$214*IF(K44<>\"\",'+Options'!$AJ$148,IF(K45<>\"\",'+Options'!$AK$148,IF(K46<>\"\",'+Options'!$AL$148))),0.05))","v":172.13999999999996},{"$f":"IF('2.Strategy'!M$65=\"winter\",L231*L$223+'Bio results'!M14*L$214*IF(L17<>\"\",'+Options'!$AG$148,IF(L18<>\"\",'+Options'!$AH$148,IF(L19<>\"\",'+Options'!$AI$148))),IF('2.Strategy'!M$65=\"spring\",L231*L$223+'Bio results'!M14*L$214*IF(L44<>\"\",'+Options'!$AJ$148,IF(L45<>\"\",'+Options'!$AK$148,IF(L46<>\"\",'+Options'!$AL$148))),0.05))","v":116.77500000000001},"Original Rim was a number, now it is a proportion"]
[null,"Period for late sowing after 20. sep / after 15. apr.",{"$f":"IF('2.Strategy'!D$65=\"winter\",C232*C$224+'Bio results'!D15*C$215*IF(C18<>\"\",'+Options'!$AG$148,IF(C19<>\"\",'+Options'!$AH$148,IF(C20<>\"\",'+Options'!$AI$148))),IF('2.Strategy'!D$65=\"spring\",C232*C$224+'Bio results'!D15*C$215*IF(C45<>\"\",'+Options'!$AJ$148,IF(C46<>\"\",'+Options'!$AK$148,IF(C47<>\"\",'+Options'!$AL$148))),0.05))","v":46.559999999999995},{"$f":"IF('2.Strategy'!E$65=\"winter\",D232*D$224+'Bio results'!E15*D$215*IF(D18<>\"\",'+Options'!$AG$148,IF(D19<>\"\",'+Options'!$AH$148,IF(D20<>\"\",'+Options'!$AI$148))),IF('2.Strategy'!E$65=\"spring\",D232*D$224+'Bio results'!E15*D$215*IF(D45<>\"\",'+Options'!$AJ$148,IF(D46<>\"\",'+Options'!$AK$148,IF(D47<>\"\",'+Options'!$AL$148))),0.05))","v":37.1},{"$f":"IF('2.Strategy'!F$65=\"winter\",E232*E$224+'Bio results'!F15*E$215*IF(E18<>\"\",'+Options'!$AG$148,IF(E19<>\"\",'+Options'!$AH$148,IF(E20<>\"\",'+Options'!$AI$148))),IF('2.Strategy'!F$65=\"spring\",E232*E$224+'Bio results'!F15*E$215*IF(E45<>\"\",'+Options'!$AJ$148,IF(E46<>\"\",'+Options'!$AK$148,IF(E47<>\"\",'+Options'!$AL$148))),0.05))","v":23.77375},{"$f":"IF('2.Strategy'!G$65=\"winter\",F232*F$224+'Bio results'!G15*F$215*IF(F18<>\"\",'+Options'!$AG$148,IF(F19<>\"\",'+Options'!$AH$148,IF(F20<>\"\",'+Options'!$AI$148))),IF('2.Strategy'!G$65=\"spring\",F232*F$224+'Bio results'!G15*F$215*IF(F45<>\"\",'+Options'!$AJ$148,IF(F46<>\"\",'+Options'!$AK$148,IF(F47<>\"\",'+Options'!$AL$148))),0.05))","v":95.399999999999991},{"$f":"IF('2.Strategy'!H$65=\"winter\",G232*G$224+'Bio results'!H15*G$215*IF(G18<>\"\",'+Options'!$AG$148,IF(G19<>\"\",'+Options'!$AH$148,IF(G20<>\"\",'+Options'!$AI$148))),IF('2.Strategy'!H$65=\"spring\",G232*G$224+'Bio results'!H15*G$215*IF(G45<>\"\",'+Options'!$AJ$148,IF(G46<>\"\",'+Options'!$AK$148,IF(G47<>\"\",'+Options'!$AL$148))),0.05))","v":88.463999999999984},{"$f":"IF('2.Strategy'!I$65=\"winter\",H232*H$224+'Bio results'!I15*H$215*IF(H18<>\"\",'+Options'!$AG$148,IF(H19<>\"\",'+Options'!$AH$148,IF(H20<>\"\",'+Options'!$AI$148))),IF('2.Strategy'!I$65=\"spring\",H232*H$224+'Bio results'!I15*H$215*IF(H45<>\"\",'+Options'!$AJ$148,IF(H46<>\"\",'+Options'!$AK$148,IF(H47<>\"\",'+Options'!$AL$148))),0.05))","v":74.2},{"$f":"IF('2.Strategy'!J$65=\"winter\",I232*I$224+'Bio results'!J15*I$215*IF(I18<>\"\",'+Options'!$AG$148,IF(I19<>\"\",'+Options'!$AH$148,IF(I20<>\"\",'+Options'!$AI$148))),IF('2.Strategy'!J$65=\"spring\",I232*I$224+'Bio results'!J15*I$215*IF(I45<>\"\",'+Options'!$AJ$148,IF(I46<>\"\",'+Options'!$AK$148,IF(I47<>\"\",'+Options'!$AL$148))),0.05))","v":47.547499999999999},{"$f":"IF('2.Strategy'!K$65=\"winter\",J232*J$224+'Bio results'!K15*J$215*IF(J18<>\"\",'+Options'!$AG$148,IF(J19<>\"\",'+Options'!$AH$148,IF(J20<>\"\",'+Options'!$AI$148))),IF('2.Strategy'!K$65=\"spring\",J232*J$224+'Bio results'!K15*J$215*IF(J45<>\"\",'+Options'!$AJ$148,IF(J46<>\"\",'+Options'!$AK$148,IF(J47<>\"\",'+Options'!$AL$148))),0.05))","v":190.79999999999998},{"$f":"IF('2.Strategy'!L$65=\"winter\",K232*K$224+'Bio results'!L15*K$215*IF(K18<>\"\",'+Options'!$AG$148,IF(K19<>\"\",'+Options'!$AH$148,IF(K20<>\"\",'+Options'!$AI$148))),IF('2.Strategy'!L$65=\"spring\",K232*K$224+'Bio results'!L15*K$215*IF(K45<>\"\",'+Options'!$AJ$148,IF(K46<>\"\",'+Options'!$AK$148,IF(K47<>\"\",'+Options'!$AL$148))),0.05))","v":176.92799999999997},{"$f":"IF('2.Strategy'!M$65=\"winter\",L232*L$224+'Bio results'!M15*L$215*IF(L18<>\"\",'+Options'!$AG$148,IF(L19<>\"\",'+Options'!$AH$148,IF(L20<>\"\",'+Options'!$AI$148))),IF('2.Strategy'!M$65=\"spring\",L232*L$224+'Bio results'!M15*L$215*IF(L45<>\"\",'+Options'!$AJ$148,IF(L46<>\"\",'+Options'!$AK$148,IF(L47<>\"\",'+Options'!$AL$148))),0.05))","v":143.10000000000002}]
[null,"After the Pre_E have acted",{"$f":"IF('2.Strategy'!D$65=\"winter\",C233*C$225+'Bio results'!D16*C$216*IF(C19<>\"\",'+Options'!$AG$148,IF(C20<>\"\",'+Options'!$AH$148,IF(C21<>\"\",'+Options'!$AI$148))),IF('2.Strategy'!D$65=\"spring\",C233*C$225+'Bio results'!D16*C$216*IF(C46<>\"\",'+Options'!$AJ$148,IF(C47<>\"\",'+Options'!$AK$148,IF(C48<>\"\",'+Options'!$AL$148))),0.05))","v":46.559999999999995},{"$f":"IF('2.Strategy'!E$65=\"winter\",D233*D$225+'Bio results'!E16*D$216*IF(D19<>\"\",'+Options'!$AG$148,IF(D20<>\"\",'+Options'!$AH$148,IF(D21<>\"\",'+Options'!$AI$148))),IF('2.Strategy'!E$65=\"spring\",D233*D$225+'Bio results'!E16*D$216*IF(D46<>\"\",'+Options'!$AJ$148,IF(D47<>\"\",'+Options'!$AK$148,IF(D48<>\"\",'+Options'!$AL$148))),0.05))","v":37.804375},{"$f":"IF('2.Strategy'!F$65=\"winter\",E233*E$225+'Bio results'!F16*E$216*IF(E19<>\"\",'+Options'!$AG$148,IF(E20<>\"\",'+Options'!$AH$148,IF(E21<>\"\",'+Options'!$AI$148))),IF('2.Strategy'!F$65=\"spring\",E233*E$225+'Bio results'!F16*E$216*IF(E46<>\"\",'+Options'!$AJ$148,IF(E47<>\"\",'+Options'!$AK$148,IF(E48<>\"\",'+Options'!$AL$148))),0.05))","v":11.208348124999999},{"$f":"IF('2.Strategy'!G$65=\"winter\",F233*F$225+'Bio results'!G16*F$216*IF(F19<>\"\",'+Options'!$AG$148,IF(F20<>\"\",'+Options'!$AH$148,IF(F21<>\"\",'+Options'!$AI$148))),IF('2.Strategy'!G$65=\"spring\",F233*F$225+'Bio results'!G16*F$216*IF(F46<>\"\",'+Options'!$AJ$148,IF(F47<>\"\",'+Options'!$AK$148,IF(F48<>\"\",'+Options'!$AL$148))),0.05))","v":40.114350000000002},{"$f":"IF('2.Strategy'!H$65=\"winter\",G233*G$225+'Bio results'!H16*G$216*IF(G19<>\"\",'+Options'!$AG$148,IF(G20<>\"\",'+Options'!$AH$148,IF(G21<>\"\",'+Options'!$AI$148))),IF('2.Strategy'!H$65=\"spring\",G233*G$225+'Bio results'!H16*G$216*IF(G46<>\"\",'+Options'!$AJ$148,IF(G47<>\"\",'+Options'!$AK$148,IF(G48<>\"\",'+Options'!$AL$148))),0.05))","v":88.463999999999984},{"$f":"IF('2.Strategy'!I$65=\"winter\",H233*H$225+'Bio results'!I16*H$216*IF(H19<>\"\",'+Options'!$AG$148,IF(H20<>\"\",'+Options'!$AH$148,IF(H21<>\"\",'+Options'!$AI$148))),IF('2.Strategy'!I$65=\"spring\",H233*H$225+'Bio results'!I16*H$216*IF(H46<>\"\",'+Options'!$AJ$148,IF(H47<>\"\",'+Options'!$AK$148,IF(H48<>\"\",'+Options'!$AL$148))),0.05))","v":75.608750000000001},{"$f":"IF('2.Strategy'!J$65=\"winter\",I233*I$225+'Bio results'!J16*I$216*IF(I19<>\"\",'+Options'!$AG$148,IF(I20<>\"\",'+Options'!$AH$148,IF(I21<>\"\",'+Options'!$AI$148))),IF('2.Strategy'!J$65=\"spring\",I233*I$225+'Bio results'!J16*I$216*IF(I46<>\"\",'+Options'!$AJ$148,IF(I47<>\"\",'+Options'!$AK$148,IF(I48<>\"\",'+Options'!$AL$148))),0.05))","v":22.416696249999998},{"$f":"IF('2.Strategy'!K$65=\"winter\",J233*J$225+'Bio results'!K16*J$216*IF(J19<>\"\",'+Options'!$AG$148,IF(J20<>\"\",'+Options'!$AH$148,IF(J21<>\"\",'+Options'!$AI$148))),IF('2.Strategy'!K$65=\"spring\",J233*J$225+'Bio results'!K16*J$216*IF(J46<>\"\",'+Options'!$AJ$148,IF(J47<>\"\",'+Options'!$AK$148,IF(J48<>\"\",'+Options'!$AL$148))),0.05))","v":80.228700000000003},{"$f":"IF('2.Strategy'!L$65=\"winter\",K233*K$225+'Bio results'!L16*K$216*IF(K19<>\"\",'+Options'!$AG$148,IF(K20<>\"\",'+Options'!$AH$148,IF(K21<>\"\",'+Options'!$AI$148))),IF('2.Strategy'!L$65=\"spring\",K233*K$225+'Bio results'!L16*K$216*IF(K46<>\"\",'+Options'!$AJ$148,IF(K47<>\"\",'+Options'!$AK$148,IF(K48<>\"\",'+Options'!$AL$148))),0.05))","v":176.92799999999997},{"$f":"IF('2.Strategy'!M$65=\"winter\",L233*L$225+'Bio results'!M16*L$216*IF(L19<>\"\",'+Options'!$AG$148,IF(L20<>\"\",'+Options'!$AH$148,IF(L21<>\"\",'+Options'!$AI$148))),IF('2.Strategy'!M$65=\"spring\",L233*L$225+'Bio results'!M16*L$216*IF(L46<>\"\",'+Options'!$AJ$148,IF(L47<>\"\",'+Options'!$AK$148,IF(L48<>\"\",'+Options'!$AL$148))),0.05))","v":145.81687500000001},"when sowing is late all germinated survivors are given the same, reduced fitness"]
[null,"After the Post-E spraying, both seasons",{"$f":"IF('2.Strategy'!D$65=\"winter\",C234*C$226+'Bio results'!D17*C$217*IF(C20<>\"\",'+Options'!$AG$148,IF(C21<>\"\",'+Options'!$AH$148,IF(C22<>\"\",'+Options'!$AI$148))),IF('2.Strategy'!D$65=\"spring\",C234*C$226+'Bio results'!D17*C$217*IF(C47<>\"\",'+Options'!$AJ$148,IF(C48<>\"\",'+Options'!$AK$148,IF(C49<>\"\",'+Options'!$AL$148))),0.05))","v":6.7046400000000013},{"$f":"IF('2.Strategy'!E$65=\"winter\",D234*D$226+'Bio results'!E17*D$217*IF(D20<>\"\",'+Options'!$AG$148,IF(D21<>\"\",'+Options'!$AH$148,IF(D22<>\"\",'+Options'!$AI$148))),IF('2.Strategy'!E$65=\"spring\",D234*D$226+'Bio results'!E17*D$217*IF(D47<>\"\",'+Options'!$AJ$148,IF(D48<>\"\",'+Options'!$AK$148,IF(D49<>\"\",'+Options'!$AL$148))),0.05))","v":2.2985059999999988},{"$f":"IF('2.Strategy'!F$65=\"winter\",E234*E$226+'Bio results'!F17*E$217*IF(E20<>\"\",'+Options'!$AG$148,IF(E21<>\"\",'+Options'!$AH$148,IF(E22<>\"\",'+Options'!$AI$148))),IF('2.Strategy'!F$65=\"spring\",E234*E$226+'Bio results'!F17*E$217*IF(E47<>\"\",'+Options'!$AJ$148,IF(E48<>\"\",'+Options'!$AK$148,IF(E49<>\"\",'+Options'!$AL$148))),0.05))","v":3.9333506745000006},{"$f":"IF('2.Strategy'!G$65=\"winter\",F234*F$226+'Bio results'!G17*F$217*IF(F20<>\"\",'+Options'!$AG$148,IF(F21<>\"\",'+Options'!$AH$148,IF(F22<>\"\",'+Options'!$AI$148))),IF('2.Strategy'!G$65=\"spring\",F234*F$226+'Bio results'!G17*F$217*IF(F47<>\"\",'+Options'!$AJ$148,IF(F48<>\"\",'+Options'!$AK$148,IF(F49<>\"\",'+Options'!$AL$148))),0.05))","v":10.060678979999999},{"$f":"IF('2.Strategy'!H$65=\"winter\",G234*G$226+'Bio results'!H17*G$217*IF(G20<>\"\",'+Options'!$AG$148,IF(G21<>\"\",'+Options'!$AH$148,IF(G22<>\"\",'+Options'!$AI$148))),IF('2.Strategy'!H$65=\"spring\",G234*G$226+'Bio results'!H17*G$217*IF(G47<>\"\",'+Options'!$AJ$148,IF(G48<>\"\",'+Options'!$AK$148,IF(G49<>\"\",'+Options'!$AL$148))),0.05))","v":12.738816000000002},{"$f":"IF('2.Strategy'!I$65=\"winter\",H234*H$226+'Bio results'!I17*H$217*IF(H20<>\"\",'+Options'!$AG$148,IF(H21<>\"\",'+Options'!$AH$148,IF(H22<>\"\",'+Options'!$AI$148))),IF('2.Strategy'!I$65=\"spring\",H234*H$226+'Bio results'!I17*H$217*IF(H47<>\"\",'+Options'!$AJ$148,IF(H48<>\"\",'+Options'!$AK$148,IF(H49<>\"\",'+Options'!$AL$148))),0.05))","v":4.5970119999999977},{"$f":"IF('2.Strategy'!J$65=\"winter\",I234*I$226+'Bio results'!J17*I$217*IF(I20<>\"\",'+Options'!$AG$148,IF(I21<>\"\",'+Options'!$AH$148,IF(I22<>\"\",'+Options'!$AI$148))),IF('2.Strategy'!J$65=\"spring\",I234*I$226+'Bio results'!J17*I$217*IF(I47<>\"\",'+Options'!$AJ$148,IF(I48<>\"\",'+Options'!$AK$148,IF(I49<>\"\",'+Options'!$AL$148))),0.05))","v":7.8667013490000013},{"$f":"IF('2.Strategy'!K$65=\"winter\",J234*J$226+'Bio results'!K17*J$217*IF(J20<>\"\",'+Options'!$AG$148,IF(J21<>\"\",'+Options'!$AH$148,IF(J22<>\"\",'+Options'!$AI$148))),IF('2.Strategy'!K$65=\"spring\",J234*J$226+'Bio results'!K17*J$217*IF(J47<>\"\",'+Options'!$AJ$148,IF(J48<>\"\",'+Options'!$AK$148,IF(J49<>\"\",'+Options'!$AL$148))),0.05))","v":20.121357959999997},{"$f":"IF('2.Strategy'!L$65=\"winter\",K234*K$226+'Bio results'!L17*K$217*IF(K20<>\"\",'+Options'!$AG$148,IF(K21<>\"\",'+Options'!$AH$148,IF(K22<>\"\",'+Options'!$AI$148))),IF('2.Strategy'!L$65=\"spring\",K234*K$226+'Bio results'!L17*K$217*IF(K47<>\"\",'+Options'!$AJ$148,IF(K48<>\"\",'+Options'!$AK$148,IF(K49<>\"\",'+Options'!$AL$148))),0.05))","v":25.477632000000003},{"$f":"IF('2.Strategy'!M$65=\"winter\",L234*L$226+'Bio results'!M17*L$217*IF(L20<>\"\",'+Options'!$AG$148,IF(L21<>\"\",'+Options'!$AH$148,IF(L22<>\"\",'+Options'!$AI$148))),IF('2.Strategy'!M$65=\"spring\",L234*L$226+'Bio results'!M17*L$217*IF(L47<>\"\",'+Options'!$AJ$148,IF(L48<>\"\",'+Options'!$AK$148,IF(L49<>\"\",'+Options'!$AL$148))),0.05))","v":8.8656659999999956}]
[null,"Late germination, and thru to harvest",{"$f":"IF('2.Strategy'!D$65=\"winter\",C235*C$227+'Bio results'!D18*C$218*IF(C21<>\"\",'+Options'!$AG$148,IF(C22<>\"\",'+Options'!$AH$148,IF(C23<>\"\",'+Options'!$AI$148))),IF('2.Strategy'!D$65=\"spring\",C235*C$227+'Bio results'!D18*C$218*IF(C48<>\"\",'+Options'!$AJ$148,IF(C49<>\"\",'+Options'!$AK$148,IF(C50<>\"\",'+Options'!$AL$148))),0.05))","v":6.8974200000000012},{"$f":"IF('2.Strategy'!E$65=\"winter\",D235*D$227+'Bio results'!E18*D$218*IF(D21<>\"\",'+Options'!$AG$148,IF(D22<>\"\",'+Options'!$AH$148,IF(D23<>\"\",'+Options'!$AI$148))),IF('2.Strategy'!E$65=\"spring\",D235*D$227+'Bio results'!E18*D$218*IF(D48<>\"\",'+Options'!$AJ$148,IF(D49<>\"\",'+Options'!$AK$148,IF(D50<>\"\",'+Options'!$AL$148))),0.05))","v":2.7960484999999986},{"$f":"IF('2.Strategy'!F$65=\"winter\",E235*E$227+'Bio results'!F18*E$218*IF(E21<>\"\",'+Options'!$AG$148,IF(E22<>\"\",'+Options'!$AH$148,IF(E23<>\"\",'+Options'!$AI$148))),IF('2.Strategy'!F$65=\"spring\",E235*E$227+'Bio results'!F18*E$218*IF(E48<>\"\",'+Options'!$AJ$148,IF(E49<>\"\",'+Options'!$AK$148,IF(E50<>\"\",'+Options'!$AL$148))),0.05))","v":5.4733631745000011},{"$f":"IF('2.Strategy'!G$65=\"winter\",F235*F$227+'Bio results'!G18*F$218*IF(F21<>\"\",'+Options'!$AG$148,IF(F22<>\"\",'+Options'!$AH$148,IF(F23<>\"\",'+Options'!$AI$148))),IF('2.Strategy'!G$65=\"spring\",F235*F$227+'Bio results'!G18*F$218*IF(F48<>\"\",'+Options'!$AJ$148,IF(F49<>\"\",'+Options'!$AK$148,IF(F50<>\"\",'+Options'!$AL$148))),0.05))","v":11.34007398},{"$f":"IF('2.Strategy'!H$65=\"winter\",G235*G$227+'Bio results'!H18*G$218*IF(G21<>\"\",'+Options'!$AG$148,IF(G22<>\"\",'+Options'!$AH$148,IF(G23<>\"\",'+Options'!$AI$148))),IF('2.Strategy'!H$65=\"spring\",G235*G$227+'Bio results'!H18*G$218*IF(G48<>\"\",'+Options'!$AJ$148,IF(G49<>\"\",'+Options'!$AK$148,IF(G50<>\"\",'+Options'!$AL$148))),0.05))","v":13.105098000000002},{"$f":"IF('2.Strategy'!I$65=\"winter\",H235*H$227+'Bio results'!I18*H$218*IF(H21<>\"\",'+Options'!$AG$148,IF(H22<>\"\",'+Options'!$AH$148,IF(H23<>\"\",'+Options'!$AI$148))),IF('2.Strategy'!I$65=\"spring\",H235*H$227+'Bio results'!I18*H$218*IF(H48<>\"\",'+Options'!$AJ$148,IF(H49<>\"\",'+Options'!$AK$148,IF(H50<>\"\",'+Options'!$AL$148))),0.05))","v":5.5920969999999972},{"$f":"IF('2.Strategy'!J$65=\"winter\",I235*I$227+'Bio results'!J18*I$218*IF(I21<>\"\",'+Options'!$AG$148,IF(I22<>\"\",'+Options'!$AH$148,IF(I23<>\"\",'+Options'!$AI$148))),IF('2.Strategy'!J$65=\"spring\",I235*I$227+'Bio results'!J18*I$218*IF(I48<>\"\",'+Options'!$AJ$148,IF(I49<>\"\",'+Options'!$AK$148,IF(I50<>\"\",'+Options'!$AL$148))),0.05))","v":10.946726349000002},{"$f":"IF('2.Strategy'!K$65=\"winter\",J235*J$227+'Bio results'!K18*J$218*IF(J21<>\"\",'+Options'!$AG$148,IF(J22<>\"\",'+Options'!$AH$148,IF(J23<>\"\",'+Options'!$AI$148))),IF('2.Strategy'!K$65=\"spring\",J235*J$227+'Bio results'!K18*J$218*IF(J48<>\"\",'+Options'!$AJ$148,IF(J49<>\"\",'+Options'!$AK$148,IF(J50<>\"\",'+Options'!$AL$148))),0.05))","v":22.680147959999999},{"$f":"IF('2.Strategy'!L$65=\"winter\",K235*K$227+'Bio results'!L18*K$218*IF(K21<>\"\",'+Options'!$AG$148,IF(K22<>\"\",'+Options'!$AH$148,IF(K23<>\"\",'+Options'!$AI$148))),IF('2.Strategy'!L$65=\"spring\",K235*K$227+'Bio results'!L18*K$218*IF(K48<>\"\",'+Options'!$AJ$148,IF(K49<>\"\",'+Options'!$AK$148,IF(K50<>\"\",'+Options'!$AL$148))),0.05))","v":26.210196000000003},{"$f":"IF('2.Strategy'!M$65=\"winter\",L235*L$227+'Bio results'!M18*L$218*IF(L21<>\"\",'+Options'!$AG$148,IF(L22<>\"\",'+Options'!$AH$148,IF(L23<>\"\",'+Options'!$AI$148))),IF('2.Strategy'!M$65=\"spring\",L235*L$227+'Bio results'!M18*L$218*IF(L48<>\"\",'+Options'!$AJ$148,IF(L49<>\"\",'+Options'!$AK$148,IF(L50<>\"\",'+Options'!$AL$148))),0.05))","v":10.784758499999995},"for grass the healthy eq is an expert evaluation"]
[]
[null,"Table 7. Rotation codes","Codes are used for rotation identification in a number of calculations. Numbers refer to Table 8 below",null,null,null,null,null,null,null,null,null,null,null,"Enterprise grown:"]
[null,null,"1=w wheat, 2=w barley, 3=w rye, 4=w oilseed, 5=s barley, 6=s oat, 7=s wheat, 8=legumes, 9=grass, 10=grass/clover",null,null,null,null,null,null,null,null,null,null,null,"1 year ago",null,"V.hvede"]
[null,null,"Numbers larger than 10 is rotational orders, see below",null,null,null,null,null,null,null,null,null,null,null,"2 years ago",null,"V.hvede"]
[null,"Year",{"$f":"O240","v":"2 years ago"},{"$f":"O239","v":"1 year ago"},{"$f":"C1","v":"Vårbyg  1"},"Raps  2","V.hvede  3","V.hvede  4","Vårbyg  5","Raps  6","V.hvede  7","V.hvede  8","Vårbyg  9","Raps 10"]
[null,"Crop code #1: Identify crop selected",{"$f":"IF(Q240=\"V.hvede\",1,IF(Q240=\"V.byg\",2,IF(Q240=\"V.rug\",3,IF(Q240=\"Raps\",4,IF(Q240=\"Vårbyg\",5,IF(Q240=\"Havre\",6,IF(Q240=\"Vårhvede\",7,IF(Q240=\"Bælgsæd\",8,IF(Q240=\"Græs\",9,IF(Q240=\"Græs/Kløver\",10,))))))))))","v":1},{"$f":"IF(Q239=\"V.hvede\",1,IF(Q239=\"V.byg\",2,IF(Q239=\"V.rug\",3,IF(Q239=\"Raps\",4,IF(Q239=\"Vårbyg\",5,IF(Q239=\"Havre\",6,IF(Q239=\"Vårhvede\",7,IF(Q239=\"Bælgsæd\",8,IF(Q239=\"Græs\",9,IF(Q239=\"Græs/Kløver\",10,))))))))))","v":1},{"$f":"IF('2.Strategy'!D4=\"V.hvede\",1,IF('2.Strategy'!D4=\"V.byg\",2,IF('2.Strategy'!D4=\"V.rug\",3,IF('2.Strategy'!D4=\"Raps\",4,IF('2.Strategy'!D4=\"Vårbyg\",5,IF('2.Strategy'!D4=\"Havre\",6,IF('2.Strategy'!D4=\"Vårhvede\",7,IF('2.Strategy'!D4=\"Bælgsæd\",8,IF('2.Strategy'!D4=\"Græs\",9,IF('2.Strategy'!D4=\"Græs/Kløver\",10,))))))))))","v":5},{"$f":"IF('2.Strategy'!E4=\"V.hvede\",1,IF('2.Strategy'!E4=\"V.byg\",2,IF('2.Strategy'!E4=\"V.rug\",3,IF('2.Strategy'!E4=\"Raps\",4,IF('2.Strategy'!E4=\"Vårbyg\",5,IF('2.Strategy'!E4=\"Havre\",6,IF('2.Strategy'!E4=\"Vårhvede\",7,IF('2.Strategy'!E4=\"Bælgsæd\",8,IF('2.Strategy'!E4=\"Græs\",9,IF('2.Strategy'!E4=\"Græs/Kløver\",10,))))))))))","v":4},{"$f":"IF('2.Strategy'!F4=\"V.hvede\",1,IF('2.Strategy'!F4=\"V.byg\",2,IF('2.Strategy'!F4=\"V.rug\",3,IF('2.Strategy'!F4=\"Raps\",4,IF('2.Strategy'!F4=\"Vårbyg\",5,IF('2.Strategy'!F4=\"Havre\",6,IF('2.Strategy'!F4=\"Vårhvede\",7,IF('2.Strategy'!F4=\"Bælgsæd\",8,IF('2.Strategy'!F4=\"Græs\",9,IF('2.Strategy'!F4=\"Græs/Kløver\",10,))))))))))","v":1},{"$f":"IF('2.Strategy'!G4=\"V.hvede\",1,IF('2.Strategy'!G4=\"V.byg\",2,IF('2.Strategy'!G4=\"V.rug\",3,IF('2.Strategy'!G4=\"Raps\",4,IF('2.Strategy'!G4=\"Vårbyg\",5,IF('2.Strategy'!G4=\"Havre\",6,IF('2.Strategy'!G4=\"Vårhvede\",7,IF('2.Strategy'!G4=\"Bælgsæd\",8,IF('2.Strategy'!G4=\"Græs\",9,IF('2.Strategy'!G4=\"Græs/Kløver\",10,))))))))))","v":1},{"$f":"IF('2.Strategy'!H4=\"V.hvede\",1,IF('2.Strategy'!H4=\"V.byg\",2,IF('2.Strategy'!H4=\"V.rug\",3,IF('2.Strategy'!H4=\"Raps\",4,IF('2.Strategy'!H4=\"Vårbyg\",5,IF('2.Strategy'!H4=\"Havre\",6,IF('2.Strategy'!H4=\"Vårhvede\",7,IF('2.Strategy'!H4=\"Bælgsæd\",8,IF('2.Strategy'!H4=\"Græs\",9,IF('2.Strategy'!H4=\"Græs/Kløver\",10,))))))))))","v":5},{"$f":"IF('2.Strategy'!I4=\"V.hvede\",1,IF('2.Strategy'!I4=\"V.byg\",2,IF('2.Strategy'!I4=\"V.rug\",3,IF('2.Strategy'!I4=\"Raps\",4,IF('2.Strategy'!I4=\"Vårbyg\",5,IF('2.Strategy'!I4=\"Havre\",6,IF('2.Strategy'!I4=\"Vårhvede\",7,IF('2.Strategy'!I4=\"Bælgsæd\",8,IF('2.Strategy'!I4=\"Græs\",9,IF('2.Strategy'!I4=\"Græs/Kløver\",10,))))))))))","v":4},{"$f":"IF('2.Strategy'!J4=\"V.hvede\",1,IF('2.Strategy'!J4=\"V.byg\",2,IF('2.Strategy'!J4=\"V.rug\",3,IF('2.Strategy'!J4=\"Raps\",4,IF('2.Strategy'!J4=\"Vårbyg\",5,IF('2.Strategy'!J4=\"Havre\",6,IF('2.Strategy'!J4=\"Vårhvede\",7,IF('2.Strategy'!J4=\"Bælgsæd\",8,IF('2.Strategy'!J4=\"Græs\",9,IF('2.Strategy'!J4=\"Græs/Kløver\",10,))))))))))","v":1},{"$f":"IF('2.Strategy'!K4=\"V.hvede\",1,IF('2.Strategy'!K4=\"V.byg\",2,IF('2.Strategy'!K4=\"V.rug\",3,IF('2.Strategy'!K4=\"Raps\",4,IF('2.Strategy'!K4=\"Vårbyg\",5,IF('2.Strategy'!K4=\"Havre\",6,IF('2.Strategy'!K4=\"Vårhvede\",7,IF('2.Strategy'!K4=\"Bælgsæd\",8,IF('2.Strategy'!K4=\"Græs\",9,IF('2.Strategy'!K4=\"Græs/Kløver\",10,))))))))))","v":1},{"$f":"IF('2.Strategy'!L4=\"V.hvede\",1,IF('2.Strategy'!L4=\"V.byg\",2,IF('2.Strategy'!L4=\"V.rug\",3,IF('2.Strategy'!L4=\"Raps\",4,IF('2.Strategy'!L4=\"Vårbyg\",5,IF('2.Strategy'!L4=\"Havre\",6,IF('2.Strategy'!L4=\"Vårhvede\",7,IF('2.Strategy'!L4=\"Bælgsæd\",8,IF('2.Strategy'!L4=\"Græs\",9,IF('2.Strategy'!L4=\"Græs/Kløver\",10,))))))))))","v":5},{"$f":"IF('2.Strategy'!M4=\"V.hvede\",1,IF('2.Strategy'!M4=\"V.byg\",2,IF('2.Strategy'!M4=\"V.rug\",3,IF('2.Strategy'!M4=\"Raps\",4,IF('2.Strategy'!M4=\"Vårbyg\",5,IF('2.Strategy'!M4=\"Havre\",6,IF('2.Strategy'!M4=\"Vårhvede\",7,IF('2.Strategy'!M4=\"Bælgsæd\",8,IF('2.Strategy'!M4=\"Græs\",9,IF('2.Strategy'!M4=\"Græs/Kløver\",10,))))))))))","v":4}]
[null,"Crop code #2: diff among winter wheat",{"$f":"C242","v":1},{"$f":"IF(D242=1,(IF(AND(C242<4,B242<4,A241<4),11,IF(AND(C242<4,B242<4),12,IF(C242<4,13,IF(C242=5,14,IF(C242=6,14,IF(C242=7,14,IF(C242=8,15,IF(C242=4,16,IF(C242=9,17,IF(C242=10,18,D242))))))))))),D242)","v":13},{"$f":"IF(E242=1,(IF(AND(D242<4,C242<4,B242<4),11,IF(AND(D242<4,C242<4),12,IF(D242<4,13,IF(D242=5,14,IF(D242=6,14,IF(D242=7,15,IF(D242=8,16,IF(D242=4,17,IF(D242=9,18,IF(D242=10,19,E242))))))))))),E242)","v":5},{"$f":"IF(F242=1,(IF(AND(E242<4,D242<4,C242<4),11,IF(AND(E242<4,D242<4),12,IF(E242<4,13,IF(E242=5,14,IF(E242=6,14,IF(E242=7,15,IF(E242=8,16,IF(E242=4,17,IF(E242=9,18,IF(E242=10,19,F242))))))))))),F242)","v":4},17,13,5,4,17,13,5,4]
[null,"Crop code #3: diff among winter rye",1,{"$f":"IF(D242=3,(IF(AND(C242<4,B242<4,A241<4),19,IF(AND(C242<4,B242<4),20,IF(C242<4,21,IF(C242=5,22,IF(C242=6,22,IF(C242=7,22,IF(C242=8,23,IF(C242=4,24,IF(C242=9,25,IF(C242=10,26,D243))))))))))),D243)","v":13},{"$f":"IF(E242=3,(IF(AND(D242<4,C242<4,B242<4),20,IF(AND(D242<4,C242<4),21,IF(D242<4,22,IF(D242=5,23,IF(D242=6,23,IF(D242=7,24,IF(D242=8,25,IF(D242=4,26,IF(D242=9,27,IF(D242=10,28,E243))))))))))),E243)","v":5},{"$f":"IF(F242=3,(IF(AND(E242<4,D242<4,C242<4),20,IF(AND(E242<4,D242<4),21,IF(E242<4,22,IF(E242=5,23,IF(E242=6,23,IF(E242=7,24,IF(E242=8,25,IF(E242=4,26,IF(E242=9,27,IF(E242=10,28,F243))))))))))),F243)","v":4},17,13,5,4,17,13,5,4]
[null,"Crop code #4: diff among winter barley",1,{"$f":"IF(D244=2,(IF(AND(C242<4,B242<4,A241<4),29,IF(AND(C242<4,B242<4),30,IF(C242<4,31,IF(C242=5,30,IF(C242=6,30,IF(C242=7,30,IF(C242=8,31,IF(C242=4,32,IF(C242=9,33,IF(C242=10,34,D244))))))))))),D244)","v":13},{"$f":"IF(E242=2,(IF(AND(D242<4,C242<4,B242<4),29,IF(AND(D242<4,C242<4),30,IF(D242<4,31,IF(D242=5,32,IF(D242=6,32,IF(D242=7,33,IF(D242=8,34,IF(D242=4,35,IF(D242=9,36,IF(D242=10,37,E244))))))))))),E244)","v":5},{"$f":"IF(F244=2,(IF(AND(E242<4,D242<4,C242<4),29,IF(AND(E242<4,D242<4),30,IF(E242<4,31,IF(E242=5,32,IF(E242=6,32,IF(E242=7,33,IF(E242=8,34,IF(E242=4,35,IF(E242=9,36,IF(E242=10,37,F244))))))))))),F244)","v":4},17,13,5,4,17,13,5,4]
[null,"Crop code #5: differentiates oilseed rape",1,{"$f":"IF(D242=4,(IF(AND(C242=4,B242=4,A241=4),55,IF(AND(C242=4,B242=4),54,IF(C242=4,53,IF(AND(C242<8,C242<>4),57,IF(C242=9,58,IF(C242=10,59,D245))))))),D245)","v":13},{"$f":"IF(E242=4,(IF(AND(D242=4,C242=4,B241=4),58,IF(AND(D242=4,C242=4),57,IF(D242=4,56,IF(AND(D242<8,D242<>4),60,IF(D242=8,59,IF(D242=9,61,IF(D242=10,62,E245)))))))),E245)","v":5},{"$f":"IF(F242=4,(IF(AND(E242=4,D242=4,C241=4),58,IF(AND(E242=4,D242=4),57,IF(E242=4,56,IF(AND(E242<8,E242<>4),60,IF(E242=8,59,IF(E242=9,61,IF(E242=10,62,F245)))))))),F245)","v":60},17,13,5,60,17,13,5,60]
[null,"Crop code #6: diff among spring barley",1,{"$f":"IF(D242=5,IF(C242=5,35,IF(C242=4,36,IF(C242=8,37,IF(C242=1,38,IF(C242=9,39,IF(C242=10,40)))))),D246)","v":13},{"$f":"IF(E242=5,(IF(AND(D242=5,C242=5,B242=5),5,IF(AND(D242=5,C242=5),38,IF(OR(D242=5,D242=6,D242=7),38,IF(D242=4,39,IF(D242=8,40,IF(D242=9,42,IF(D242=10,43,E246)))))))),E246)","v":5},60,17,13,5,60,17,13,5,60]
[null,"Crop code #7: diff among spring oat",1,{"$f":"IF(D242=6,IF(C242=5,41,IF(C242=4,42,IF(C242=8,43,IF(C242=1,44,IF(C242=9,45,IF(C242=10,46)))))),D247)","v":13},{"$f":"IF(E242=6,(IF(AND(D242=6,C242=6,B242=6),6,IF(AND(D242=6,C242=6),44,IF(OR(D242=5,D242=6,D242=7),44,IF(D242=4,45,IF(D242=8,46,IF(D242=9,48,IF(D242=10,49,E247)))))))),E247)","v":5},{"$f":"IF(F242=6,(IF(AND(E242=6,D242=6,C242=6),6,IF(AND(E242=6,D242=6),44,IF(OR(E242=5,E242=6,E242=7),44,IF(E242=4,45,IF(E242=8,46,IF(E242=9,48,IF(E242=10,49,F247)))))))),F247)","v":60},17,13,5,60,17,13,5,60]
[null,"Crop code #8: diff among spring wheat",1,{"$f":"IF(D242=7,IF(C242=5,47,IF(C242=4,48,IF(C242=8,49,IF(C242=1,50,IF(C242=9,51,IF(C242=10,52)))))),D248)","v":13},{"$f":"IF(E242=7,(IF(AND(D242=7,C242=7,B242=7),50,IF(AND(D242=7,C242=7),50,IF(OR(D242=5,D242=6,D242=7),50,IF(D242=4,51,IF(D242=8,52,IF(D242=9,54,IF(D242=10,55,E248)))))))),E248)","v":5},{"$f":"IF(F242=7,(IF(AND(E242=7,D242=7,C242=7),50,IF(AND(E242=7,D242=7),50,IF(OR(E242=5,E242=6,E242=7),50,IF(E242=4,51,IF(E242=8,52,IF(E242=9,54,IF(E242=10,55,F248)))))))),F248)","v":60},17,13,5,60,17,13,5,60]
[null,"Crop code #9: differentiates legumes",1,{"$f":"IF(D242=8,(IF(AND(C250=8,B250=8,A249=8),62,IF(AND(C250=8,B250=8),61,IF(C250=8,60,IF(AND(C242<8,C242<>4),64,IF(C242=4,63,D249)))))),D249)","v":13},{"$f":"IF(E242=8,(IF(AND(D250=8,C250=8,B250=8),65,IF(AND(D250=8,C250=8),64,IF(D250=8,63,IF(AND(D242<8,D242<>4),67,IF(D242=4,66,E249)))))),E249)","v":5},{"$f":"IF(F242=8,(IF(AND(E250=8,D250=8,C250=8),65,IF(AND(E250=8,D250=8),64,IF(E250=8,63,IF(AND(E242<8,E242<>4),67,IF(E242=4,66,F249)))))),F249)","v":60},17,13,5,60,17,13,5,60]
[null,"Crop code #10: differentiates grass crops",1,{"$f":"IF(OR(D242=9,D242=10),IF(C242>8,67,IF(C242<4,68,IF(AND(C242>4,C242<8),69,IF(C242=4,70,IF(C242=8, 71,D250))))),D250)","v":13},{"$f":"IF(OR(E242=9,E242=10),IF(D242>8,70,IF(D242<4,71,IF(AND(D242>4,D242<8),72,IF(D242=4,73,IF(D242=8, 74,E250))))),E250)","v":5},{"$f":"IF(OR(F242=9,F242=10),IF(E242>8,70,IF(E242<4,71,IF(AND(E242>4,E242<8),72,IF(E242=4,73,IF(E242=8, 74,F250))))),F250)","v":60},17,13,5,60,17,13,5,60,"Final code for crop in rotation"]
[null,"Table 8. Rotation values","Associates each enterprise code with the corresponding yields, prices, N savings etc. Values in green from Prices or Options."]
[null,"Enterprise","Enter-prise no.","Label for enter-prise","Weed- free crop yield (t/ha)","empty slot","N saving from legumes ($/ha)"]
[null,"Winter wheat ",1,{"$f":"'2.Strategy'!D63","v":"V.hvede"},{"$f":"'1.Profile'!D$7","v":10},null,0]
[null,"Winter barley ",2,{"$f":"'2.Strategy'!E63","v":"V.byg"},{"$f":"'1.Profile'!E$7","v":8},null,0]
[null,"Winter rye",3,{"$f":"'2.Strategy'!F63","v":"V.rug"},{"$f":"'1.Profile'!F$7","v":8},null,0]
[null,"Winter oilseed rape",4,{"$f":"'2.Strategy'!G63","v":"Raps"},{"$f":"'1.Profile'!G$7","v":4.5},null,0]
[null,"Spring barley",5,{"$f":"'2.Strategy'!H63","v":"Vårbyg"},{"$f":"'1.Profile'!H$7","v":7},null,0]
[null,"Spring oat",6,{"$f":"'2.Strategy'!I63","v":"Havre"},{"$f":"'1.Profile'!I$7","v":7.5},null,0]
[null,"Spring wheat",7,{"$f":"'2.Strategy'!J63","v":"Vårhvede"},{"$f":"'1.Profile'!J$7","v":6},null,0]
[null,"Legumes",8,{"$f":"'2.Strategy'!K63","v":"Bælgsæd"},{"$f":"'1.Profile'!K$7","v":4.5},null,0]
[null,"Pasture grass",9,{"$f":"'2.Strategy'!L63","v":"Græs"},0,null,0]
[null,"Pasture clover",10,{"$f":"'2.Strategy'!$M$63","v":"Græs/kløver"},0,null,0]
[null,"Winter wheat following 3 wheats ",11,{"$f":"'2.Strategy'!D63","v":"V.hvede"},{"$f":"E254*(1-'+Options'!AG75)","v":9},null,0]
[null,"Winter wheat following 2 wheats ",12,{"$f":"'2.Strategy'!D63","v":"V.hvede"},8.5,null,0]
[null,"Winter wheat following 1 wheats ",13,{"$f":"'2.Strategy'!D63","v":"V.hvede"},8,null,0]
[null,"Winter wheat following spring cereal, not oat",14,{"$f":"'2.Strategy'!D63","v":"V.hvede"},9.5,null,0,"justeret ned fra 10,8",null,"Efter workshop med konsulenter nov 2018"]
[null,"Winter wheat following spring oat",15,{"$f":"'2.Strategy'!D64","v":"Vårbyg  1"},9.8000000000000007,null,0,"justeret ned fra 12"]
[null,"Winter wheat following legumes",16,{"$f":"'2.Strategy'!D63","v":"V.hvede"},9.8000000000000007,null,{"$f":"'+Prices'!AJ87","v":750},"justeret ned fra 12"]
[null,"Winter wheat following oilseed rape",17,{"$f":"'2.Strategy'!D63","v":"V.hvede"},{"$f":"E254*(1+'+Options'!AG65)","v":10.5},null,0]
[null,"Winter wheat following grass",18,{"$f":"'2.Strategy'!D63","v":"V.hvede"},{"$f":"E254*(1+'+Options'!$AG$68)","v":10.5},null,0]
[null,"Winter wheat following grass/clover",19,{"$f":"'2.Strategy'!D63","v":"V.hvede"},{"$f":"E254*(1+'+Options'!$AG$69)","v":10.8},null,{"$f":"'+Prices'!AJ88","v":375}]
[null,"Winter rye following 3 wheats ",20,{"$f":"'2.Strategy'!F63","v":"V.rug"},{"$f":"E256*(1-'+Options'!AI75)","v":7.2},null,0]
[null,"Winter rye following 2 wheats ",21,{"$f":"'2.Strategy'!F63","v":"V.rug"},{"$f":"E256*(1-'+Options'!AI74)","v":6.8},null,0]
[null,"Winter rye following 1 wheats ",22,{"$f":"'2.Strategy'!F63","v":"V.rug"},{"$f":"E256*(1-'+Options'!AI73)","v":6.4},null,0]
[null,"Winter rye following spring cereal, not oat",23,{"$f":"'2.Strategy'!F63","v":"V.rug"},{"$f":"E256*(1+'+Options'!AI66)","v":8.64},null,0]
[null,"Winter rye following spring oat",24,{"$f":"'2.Strategy'!F63","v":"V.rug"},{"$f":"E256*(1+'+Options'!AI67)","v":9.6},null,0]
[null,"Winter rye following legumes",25,{"$f":"'2.Strategy'!F63","v":"V.rug"},{"$f":"E256*(1+'+Options'!AI64)","v":9.6},null,{"$f":"'+Prices'!AJ87","v":750}]
[null,"Winter rye following oilseed rape",26,{"$f":"'2.Strategy'!F63","v":"V.rug"},{"$f":"E256*(1+'+Options'!AI65)","v":8.4},null,0]
[null,"Winter rye following grass",27,{"$f":"'2.Strategy'!F63","v":"V.rug"},{"$f":"E256*(1+'+Options'!$AI$68)","v":8.4},null,0]
[null,"Winter rye following grass/clover",28,{"$f":"'2.Strategy'!F63","v":"V.rug"},{"$f":"E256*(1+'+Options'!$AI$69)","v":8.64},null,{"$f":"'+Prices'!AJ88","v":375}]
[null,"Winter barley following 3 wheats ",29,{"$f":"'2.Strategy'!$E$63","v":"V.byg"},{"$f":"E255*(1-'+Options'!AH75)","v":7.2},null,0]
[null,"Winter barley following 2 wheats ",30,{"$f":"'2.Strategy'!$E$63","v":"V.byg"},{"$f":"E255*(1-'+Options'!AH75)","v":7.2},null,0]
[null,"Winter barley following 1 wheats ",31,{"$f":"'2.Strategy'!$E$63","v":"V.byg"},{"$f":"E255*(1-'+Options'!AH73)","v":6.4},null,0]
[null,"Winter barley following spring cereal, not oat",32,{"$f":"'2.Strategy'!$E$63","v":"V.byg"},{"$f":"E255*(1+'+Options'!AH66)","v":8.64},null,0]
[null,"Winter barley following spring oat",33,{"$f":"'2.Strategy'!$E$63","v":"V.byg"},{"$f":"E255*(1+'+Options'!AH67)","v":9.6},null,0]
[null,"Winter barley following legumes",34,{"$f":"'2.Strategy'!$E$63","v":"V.byg"},{"$f":"E255*(1+'+Options'!AH64)","v":9.6},null,{"$f":"'+Prices'!AJ87","v":750}]
[null,"Winter barley following oilseed rape",35,{"$f":"'2.Strategy'!$E$63","v":"V.byg"},{"$f":"E255*(1+'+Options'!AH65)","v":8.4},null,0]
[null,"Winter barley following grass",36,{"$f":"'2.Strategy'!$E$63","v":"V.byg"},{"$f":"E255*(1+'+Options'!$AH$68)","v":8.4},null,0]
[null,"Winter barley following grass/clover",37,{"$f":"'2.Strategy'!$E$63","v":"V.byg"},{"$f":"E255*(1+'+Options'!$AH$69)","v":8.64},null,{"$f":"'+Prices'!AJ88","v":375}]
[null,"Spring barley following spring cereal",38,{"$f":"'2.Strategy'!$H$63","v":"Vårbyg"},{"$f":"E258","v":7},null,0]
[null,"Spring barley following oilseed",39,{"$f":"'2.Strategy'!$H$63","v":"Vårbyg"},{"$f":"E258*(1+'+Options'!AJ65)","v":7.3500000000000005},null,0]
[null,"Spring barley following legumes",40,{"$f":"'2.Strategy'!$H$63","v":"Vårbyg"},{"$f":"E258*(1+'+Options'!AJ64)","v":8.4},null,{"$f":"'+Prices'!$AM$87","v":633.33333333333337}]
[null,"Spring barley following winter cereal",41,{"$f":"'2.Strategy'!$H$63","v":"Vårbyg"},{"$f":"E258","v":7},null,0]
[null,"Spring barley following grass",42,{"$f":"'2.Strategy'!$H$63","v":"Vårbyg"},{"$f":"E258*(1+'+Options'!$AJ$68)","v":7.3500000000000005},null,0]
[null,"Spring barley following grass/clover",43,{"$f":"'2.Strategy'!$H$63","v":"Vårbyg"},{"$f":"E258*(1+'+Options'!$AJ$69)","v":7.5600000000000005},null,{"$f":"'+Prices'!$AM$88","v":316.66666666666669}]
[null,"Spring oat following spring cereal",44,{"$f":"'2.Strategy'!$I$63","v":"Havre"},{"$f":"E259","v":7.5},null,0]
[null,"Spring oat following oilseed",45,{"$f":"'2.Strategy'!$I$63","v":"Havre"},{"$f":"E259*(1+'+Options'!AK65)","v":7.875},null,0]
[null,"Spring oat following legumes",46,{"$f":"'2.Strategy'!$I$63","v":"Havre"},{"$f":"E259*(1+'+Options'!AK64)","v":9},null,{"$f":"'+Prices'!$AM$87","v":633.33333333333337}]
[null,"Spring oat following winter cereal",47,{"$f":"'2.Strategy'!$I$63","v":"Havre"},{"$f":"E259","v":7.5},null,0]
[null,"Spring oat following grass",48,{"$f":"'2.Strategy'!$I$63","v":"Havre"},{"$f":"E259*(1+'+Options'!$AK$68)","v":7.875},null,0]
[null,"Spring oat following grass/clover",49,{"$f":"'2.Strategy'!$I$63","v":"Havre"},{"$f":"E259*(1+'+Options'!$AK$69)","v":8.1000000000000014},null,{"$f":"'+Prices'!$AM$88","v":316.66666666666669}]
[null,"Spring wheat following spring cereal",50,{"$f":"'2.Strategy'!$J$63","v":"Vårhvede"},{"$f":"E260","v":6},null,0]
[null,"Spring wheat following oilseed",51,{"$f":"'2.Strategy'!$J$63","v":"Vårhvede"},{"$f":"E260*(1+'+Options'!AL65)","v":6.3000000000000007},null,0]
[null,"Spring wheat following legumes",52,{"$f":"'2.Strategy'!$J$63","v":"Vårhvede"},{"$f":"E260*(1+'+Options'!AL64)","v":7.1999999999999993},null,{"$f":"'+Prices'!$AM$87","v":633.33333333333337}]
[null,"Spring wheat following winter cereal",53,{"$f":"'2.Strategy'!$J$63","v":"Vårhvede"},{"$f":"E260","v":6},null,0]
[null,"Spring wheat following grass",54,{"$f":"'2.Strategy'!$J$63","v":"Vårhvede"},{"$f":"E260*(1+'+Options'!$AL$68)","v":6.3000000000000007},null,0]
[null,"Spring wheat following grass/clover",55,{"$f":"'2.Strategy'!$J$63","v":"Vårhvede"},{"$f":"E260*(1+'+Options'!$AL$69)","v":6.48},null,{"$f":"'+Prices'!$AM$88","v":316.66666666666669}]
[null,"Winter oilseed rape after 1 yr oilseed",56,{"$f":"'2.Strategy'!G63","v":"Raps"},{"$f":"E257*(1-'+Options'!AM73)","v":2.25},null,0]
[null,"Winter oilseed rape after 2 yr oilseed",57,{"$f":"'2.Strategy'!G63","v":"Raps"},{"$f":"E257*(1-'+Options'!AM74)","v":1.8},null,0]
[null,"Winter oilseed rape after 3 yr oilseed",58,{"$f":"'2.Strategy'!$G$63","v":"Raps"},{"$f":"E257*(1-'+Options'!AM75)","v":1.2600000000000002},null,0]
[null,"Winter oilseed rape after legumes",59,{"$f":"'2.Strategy'!$G$63","v":"Raps"},{"$f":"E257*(1+'+Options'!AM64)","v":4.7250000000000005},null,{"$f":"'+Prices'!AP87","v":1166.6666666666667}]
[null,"Winter oilseed rape after cereal",60,{"$f":"'2.Strategy'!$G$63","v":"Raps"},{"$f":"E257","v":4.5},null,0]
[null,"Winter oilseed rape after grass",61,{"$f":"'2.Strategy'!$G$63","v":"Raps"},{"$f":"E257*(1+'+Options'!AM68)","v":4.7250000000000005},null,0]
[null,"Winter oilseed rape after grass/clover",62,{"$f":"'2.Strategy'!$G$63","v":"Raps"},{"$f":"E257*(1+'+Options'!AM69)","v":4.8600000000000003},null,{"$f":"'+Prices'!AP88","v":583.33333333333337}]
[null,"Legumes after 1 yr legumes",63,{"$f":"'2.Strategy'!$K$63","v":"Bælgsæd"},{"$f":"E261*(1-'+Options'!AN73)","v":2.6999999999999997},null,0]
[null,"Legumes after 2 yr legumes",64,{"$f":"'2.Strategy'!$K$63","v":"Bælgsæd"},{"$f":"E261*(1-'+Options'!AN74)","v":2.34},null,0]
[null,"Legumes after 3 yr legumes",65,{"$f":"'2.Strategy'!$K$63","v":"Bælgsæd"},{"$f":"E261*(1-'+Options'!AN75)","v":1.9079999999999997},null,0]
[null,"Legumes after oilseed",66,{"$f":"'2.Strategy'!$K$63","v":"Bælgsæd"},{"$f":"E261*(1+'+Options'!AN65)","v":4.6687500000000002},null,0]
[null,"Legumes after cereal",67,{"$f":"'2.Strategy'!$K$63","v":"Bælgsæd"},{"$f":"E261*(1+'+Options'!AN66)","v":4.7700000000000005},null,0]
[null,"Legumes after grass",68,{"$f":"'2.Strategy'!$K$63","v":"Bælgsæd"},{"$f":"E261*(1+'+Options'!AN68)","v":4.7250000000000005},null,0]
[null,"Legumes after grass/clover",69,{"$f":"'2.Strategy'!$K$63","v":"Bælgsæd"},{"$f":"E261*(1+'+Options'!AN69)","v":4.8600000000000003},null,0]
[null,"Grass or grass/clover after grass  or grass/clover",70,{"$f":"'2.Strategy'!$M$63","v":"Græs/kløver"},0,null,0]
[null,"Grass or grass/clover after winter cereals",71,{"$f":"'2.Strategy'!$M$63","v":"Græs/kløver"},0,null,0]
[null,"Grass or grass/clover after spring cereals",72,{"$f":"'2.Strategy'!$M$63","v":"Græs/kløver"},0,null,0]
[null,"Grass or grass/clover after oilseed",73,{"$f":"'2.Strategy'!$M$63","v":"Græs/kløver"},0,null,0]
[null,"Grass or grass/clover after legumes",74,{"$f":"'2.Strategy'!$M$63","v":"Græs/kløver"},0,null,0]
[]
[]
[]
[]
[]
[]
[]
[]
[]
[]
[]
[]
[]
[]
[]
[]
[]
[]
[]
[]
[]
[]
[]
[]
[]
[]
[]
[]
[null,"Table 9. Production costs (kr/ha)","See comment. Feeds into the Eco results page (non-weed costs). N Savings from the rotation table.",null,null,null,null,null,null,null,null,null,"does include fungicides and other costs, as part of ploughing costs"]
[null,"Value of total N saving (kr/ha)",{"$f":"VLOOKUP(E251,$C253:$G$327,5)","v":0},{"$f":"VLOOKUP(F251,$C253:$G$327,5)","v":0},{"$f":"VLOOKUP(G251,$C253:$G$327,5)","v":0},{"$f":"VLOOKUP(H251,$C253:$G$327,5)","v":0},{"$f":"VLOOKUP(I251,$C253:$G$327,5)","v":0},{"$f":"VLOOKUP(J251,$C253:$G$327,5)","v":0},{"$f":"VLOOKUP(K251,$C253:$G$327,5)","v":0},{"$f":"VLOOKUP(L251,$C253:$G$327,5)","v":0},{"$f":"VLOOKUP(M251,$C253:$G$327,5)","v":0},{"$f":"VLOOKUP(N251,$C253:$G$327,5)","v":0}]
[null,"Winter cereal",{"$f":"IF(AND(E242=1,C13<>\"\"),'+Prices'!$AJ$95-C357+IF(C21<>\"\",'+Prices'!$AJ$99,0),IF(AND(E242=1,C14<>\"\"),'+Prices'!$AJ$96-C357+IF(C21<>\"\",'+Prices'!$AJ$99,0),IF(AND(E242=1,C15<>\"\"),'+Prices'!$AJ$97-C357+IF(C21<>\"\",'+Prices'!$AJ$99,0),IF(AND(E242=2,C13<>\"\"),'+Prices'!$AK$95-C357+IF(C21<>\"\",'+Prices'!$AK$99,0),IF(AND(E242=2,C14<>\"\"),'+Prices'!$AK$96-C357+IF(C21<>\"\",'+Prices'!$AK$99,0),IF(AND(E242=2,C15<>\"\"),'+Prices'!$AK$97-C357+IF(C21<>\"\",'+Prices'!$AK$99,0),IF(AND(E242=3,C13<>\"\"),'+Prices'!$AL$95-C357+IF(C21<>\"\",'+Prices'!$AL$99,0),IF(AND(E242=3,C14<>\"\"),'+Prices'!$AL$96-C357+IF(C21<>\"\",'+Prices'!$AL$99,0),IF(AND(E242=3,C15<>\"\"),'+Prices'!$AL$97-C357+IF(C21<>\"\",'+Prices'!$AL$99,0),0)))))))))","v":0},{"$f":"IF(AND(F242=1,D13<>\"\"),'+Prices'!$AJ$95-D357+IF(D21<>\"\",'+Prices'!$AJ$99,0),IF(AND(F242=1,D14<>\"\"),'+Prices'!$AJ$96-D357+IF(D21<>\"\",'+Prices'!$AJ$99,0),IF(AND(F242=1,D15<>\"\"),'+Prices'!$AJ$97-D357+IF(D21<>\"\",'+Prices'!$AJ$99,0),IF(AND(F242=2,D13<>\"\"),'+Prices'!$AK$95-D357+IF(D21<>\"\",'+Prices'!$AK$99,0),IF(AND(F242=2,D14<>\"\"),'+Prices'!$AK$96-D357+IF(D21<>\"\",'+Prices'!$AK$99,0),IF(AND(F242=2,D15<>\"\"),'+Prices'!$AK$97-D357+IF(D21<>\"\",'+Prices'!$AK$99,0),IF(AND(F242=3,D13<>\"\"),'+Prices'!$AL$95-D357+IF(D21<>\"\",'+Prices'!$AL$99,0),IF(AND(F242=3,D14<>\"\"),'+Prices'!$AL$96-D357+IF(D21<>\"\",'+Prices'!$AL$99,0),IF(AND(F242=3,D15<>\"\"),'+Prices'!$AL$97-D357+IF(D21<>\"\",'+Prices'!$AL$99,0),0)))))))))","v":0},{"$f":"IF(AND(G242=1,E13<>\"\"),'+Prices'!$AJ$95-E357+IF(E21<>\"\",'+Prices'!$AJ$99,0),IF(AND(G242=1,E14<>\"\"),'+Prices'!$AJ$96-E357+IF(E21<>\"\",'+Prices'!$AJ$99,0),IF(AND(G242=1,E15<>\"\"),'+Prices'!$AJ$97-E357+IF(E21<>\"\",'+Prices'!$AJ$99,0),IF(AND(G242=2,E13<>\"\"),'+Prices'!$AK$95-E357+IF(E21<>\"\",'+Prices'!$AK$99,0),IF(AND(G242=2,E14<>\"\"),'+Prices'!$AK$96-E357+IF(E21<>\"\",'+Prices'!$AK$99,0),IF(AND(G242=2,E15<>\"\"),'+Prices'!$AK$97-E357+IF(E21<>\"\",'+Prices'!$AK$99,0),IF(AND(G242=3,E13<>\"\"),'+Prices'!$AL$95-E357+IF(E21<>\"\",'+Prices'!$AL$99,0),IF(AND(G242=3,E14<>\"\"),'+Prices'!$AL$96-E357+IF(E21<>\"\",'+Prices'!$AL$99,0),IF(AND(G242=3,E15<>\"\"),'+Prices'!$AL$97-E357+IF(E21<>\"\",'+Prices'!$AL$99,0),0)))))))))","v":5217.7},{"$f":"IF(AND(H242=1,F13<>\"\"),'+Prices'!$AJ$95-F357+IF(F21<>\"\",'+Prices'!$AJ$99,0),IF(AND(H242=1,F14<>\"\"),'+Prices'!$AJ$96-F357+IF(F21<>\"\",'+Prices'!$AJ$99,0),IF(AND(H242=1,F15<>\"\"),'+Prices'!$AJ$97-F357+IF(F21<>\"\",'+Prices'!$AJ$99,0),IF(AND(H242=2,F13<>\"\"),'+Prices'!$AK$95-F357+IF(F21<>\"\",'+Prices'!$AK$99,0),IF(AND(H242=2,F14<>\"\"),'+Prices'!$AK$96-F357+IF(F21<>\"\",'+Prices'!$AK$99,0),IF(AND(H242=2,F15<>\"\"),'+Prices'!$AK$97-F357+IF(F21<>\"\",'+Prices'!$AK$99,0),IF(AND(H242=3,F13<>\"\"),'+Prices'!$AL$95-F357+IF(F21<>\"\",'+Prices'!$AL$99,0),IF(AND(H242=3,F14<>\"\"),'+Prices'!$AL$96-F357+IF(F21<>\"\",'+Prices'!$AL$99,0),IF(AND(H242=3,F15<>\"\"),'+Prices'!$AL$97-F357+IF(F21<>\"\",'+Prices'!$AL$99,0),0)))))))))","v":4842},{"$f":"IF(AND(I242=1,G13<>\"\"),'+Prices'!$AJ$95-G357+IF(G21<>\"\",'+Prices'!$AJ$99,0),IF(AND(I242=1,G14<>\"\"),'+Prices'!$AJ$96-G357+IF(G21<>\"\",'+Prices'!$AJ$99,0),IF(AND(I242=1,G15<>\"\"),'+Prices'!$AJ$97-G357+IF(G21<>\"\",'+Prices'!$AJ$99,0),IF(AND(I242=2,G13<>\"\"),'+Prices'!$AK$95-G357+IF(G21<>\"\",'+Prices'!$AK$99,0),IF(AND(I242=2,G14<>\"\"),'+Prices'!$AK$96-G357+IF(G21<>\"\",'+Prices'!$AK$99,0),IF(AND(I242=2,G15<>\"\"),'+Prices'!$AK$97-G357+IF(G21<>\"\",'+Prices'!$AK$99,0),IF(AND(I242=3,G13<>\"\"),'+Prices'!$AL$95-G357+IF(G21<>\"\",'+Prices'!$AL$99,0),IF(AND(I242=3,G14<>\"\"),'+Prices'!$AL$96-G357+IF(G21<>\"\",'+Prices'!$AL$99,0),IF(AND(I242=3,G15<>\"\"),'+Prices'!$AL$97-G357+IF(G21<>\"\",'+Prices'!$AL$99,0),0)))))))))","v":0},{"$f":"IF(AND(J242=1,H13<>\"\"),'+Prices'!$AJ$95-H357+IF(H21<>\"\",'+Prices'!$AJ$99,0),IF(AND(J242=1,H14<>\"\"),'+Prices'!$AJ$96-H357+IF(H21<>\"\",'+Prices'!$AJ$99,0),IF(AND(J242=1,H15<>\"\"),'+Prices'!$AJ$97-H357+IF(H21<>\"\",'+Prices'!$AJ$99,0),IF(AND(J242=2,H13<>\"\"),'+Prices'!$AK$95-H357+IF(H21<>\"\",'+Prices'!$AK$99,0),IF(AND(J242=2,H14<>\"\"),'+Prices'!$AK$96-H357+IF(H21<>\"\",'+Prices'!$AK$99,0),IF(AND(J242=2,H15<>\"\"),'+Prices'!$AK$97-H357+IF(H21<>\"\",'+Prices'!$AK$99,0),IF(AND(J242=3,H13<>\"\"),'+Prices'!$AL$95-H357+IF(H21<>\"\",'+Prices'!$AL$99,0),IF(AND(J242=3,H14<>\"\"),'+Prices'!$AL$96-H357+IF(H21<>\"\",'+Prices'!$AL$99,0),IF(AND(J242=3,H15<>\"\"),'+Prices'!$AL$97-H357+IF(H21<>\"\",'+Prices'!$AL$99,0),0)))))))))","v":0},{"$f":"IF(AND(K242=1,I13<>\"\"),'+Prices'!$AJ$95-I357+IF(I21<>\"\",'+Prices'!$AJ$99,0),IF(AND(K242=1,I14<>\"\"),'+Prices'!$AJ$96-I357+IF(I21<>\"\",'+Prices'!$AJ$99,0),IF(AND(K242=1,I15<>\"\"),'+Prices'!$AJ$97-I357+IF(I21<>\"\",'+Prices'!$AJ$99,0),IF(AND(K242=2,I13<>\"\"),'+Prices'!$AK$95-I357+IF(I21<>\"\",'+Prices'!$AK$99,0),IF(AND(K242=2,I14<>\"\"),'+Prices'!$AK$96-I357+IF(I21<>\"\",'+Prices'!$AK$99,0),IF(AND(K242=2,I15<>\"\"),'+Prices'!$AK$97-I357+IF(I21<>\"\",'+Prices'!$AK$99,0),IF(AND(K242=3,I13<>\"\"),'+Prices'!$AL$95-I357+IF(I21<>\"\",'+Prices'!$AL$99,0),IF(AND(K242=3,I14<>\"\"),'+Prices'!$AL$96-I357+IF(I21<>\"\",'+Prices'!$AL$99,0),IF(AND(K242=3,I15<>\"\"),'+Prices'!$AL$97-I357+IF(I21<>\"\",'+Prices'!$AL$99,0),0)))))))))","v":5217.7},{"$f":"IF(AND(L242=1,J13<>\"\"),'+Prices'!$AJ$95-J357+IF(J21<>\"\",'+Prices'!$AJ$99,0),IF(AND(L242=1,J14<>\"\"),'+Prices'!$AJ$96-J357+IF(J21<>\"\",'+Prices'!$AJ$99,0),IF(AND(L242=1,J15<>\"\"),'+Prices'!$AJ$97-J357+IF(J21<>\"\",'+Prices'!$AJ$99,0),IF(AND(L242=2,J13<>\"\"),'+Prices'!$AK$95-J357+IF(J21<>\"\",'+Prices'!$AK$99,0),IF(AND(L242=2,J14<>\"\"),'+Prices'!$AK$96-J357+IF(J21<>\"\",'+Prices'!$AK$99,0),IF(AND(L242=2,J15<>\"\"),'+Prices'!$AK$97-J357+IF(J21<>\"\",'+Prices'!$AK$99,0),IF(AND(L242=3,J13<>\"\"),'+Prices'!$AL$95-J357+IF(J21<>\"\",'+Prices'!$AL$99,0),IF(AND(L242=3,J14<>\"\"),'+Prices'!$AL$96-J357+IF(J21<>\"\",'+Prices'!$AL$99,0),IF(AND(L242=3,J15<>\"\"),'+Prices'!$AL$97-J357+IF(J21<>\"\",'+Prices'!$AL$99,0),0)))))))))","v":4842},{"$f":"IF(AND(M242=1,K13<>\"\"),'+Prices'!$AJ$95-K357+IF(K21<>\"\",'+Prices'!$AJ$99,0),IF(AND(M242=1,K14<>\"\"),'+Prices'!$AJ$96-K357+IF(K21<>\"\",'+Prices'!$AJ$99,0),IF(AND(M242=1,K15<>\"\"),'+Prices'!$AJ$97-K357+IF(K21<>\"\",'+Prices'!$AJ$99,0),IF(AND(M242=2,K13<>\"\"),'+Prices'!$AK$95-K357+IF(K21<>\"\",'+Prices'!$AK$99,0),IF(AND(M242=2,K14<>\"\"),'+Prices'!$AK$96-K357+IF(K21<>\"\",'+Prices'!$AK$99,0),IF(AND(M242=2,K15<>\"\"),'+Prices'!$AK$97-K357+IF(K21<>\"\",'+Prices'!$AK$99,0),IF(AND(M242=3,K13<>\"\"),'+Prices'!$AL$95-K357+IF(K21<>\"\",'+Prices'!$AL$99,0),IF(AND(M242=3,K14<>\"\"),'+Prices'!$AL$96-K357+IF(K21<>\"\",'+Prices'!$AL$99,0),IF(AND(M242=3,K15<>\"\"),'+Prices'!$AL$97-K357+IF(K21<>\"\",'+Prices'!$AL$99,0),0)))))))))","v":0},{"$f":"IF(AND(N242=1,L13<>\"\"),'+Prices'!$AJ$95-L357+IF(L21<>\"\",'+Prices'!$AJ$99,0),IF(AND(N242=1,L14<>\"\"),'+Prices'!$AJ$96-L357+IF(L21<>\"\",'+Prices'!$AJ$99,0),IF(AND(N242=1,L15<>\"\"),'+Prices'!$AJ$97-L357+IF(L21<>\"\",'+Prices'!$AJ$99,0),IF(AND(N242=2,L13<>\"\"),'+Prices'!$AK$95-L357+IF(L21<>\"\",'+Prices'!$AK$99,0),IF(AND(N242=2,L14<>\"\"),'+Prices'!$AK$96-L357+IF(L21<>\"\",'+Prices'!$AK$99,0),IF(AND(N242=2,L15<>\"\"),'+Prices'!$AK$97-L357+IF(L21<>\"\",'+Prices'!$AK$99,0),IF(AND(N242=3,L13<>\"\"),'+Prices'!$AL$95-L357+IF(L21<>\"\",'+Prices'!$AL$99,0),IF(AND(N242=3,L14<>\"\"),'+Prices'!$AL$96-L357+IF(L21<>\"\",'+Prices'!$AL$99,0),IF(AND(N242=3,L15<>\"\"),'+Prices'!$AL$97-L357+IF(L21<>\"\",'+Prices'!$AL$99,0),0)))))))))","v":0}]
[null,"Spring cereal",{"$f":"IF(AND(E242=5,C39<>\"\"),'+Prices'!$AM$95-C357+IF(C48<>\"\",'+Prices'!$AM$99,0),IF(AND(E242=5,C40<>\"\"),'+Prices'!$AM$95-C357+IF(C48<>\"\",'+Prices'!$AM$99,0),IF(AND(E242=5,C41<>\"\"),'+Prices'!$AM$96-C357+IF(C48<>\"\",'+Prices'!$AM$99,0),IF(AND(E242=5,C42<>\"\"),'+Prices'!$AM$97-C357+IF(C48<>\"\",'+Prices'!$AM$99,0),IF(AND(E242=6,C39<>\"\"),'+Prices'!$AN$95-C357+IF(C48<>\"\",'+Prices'!$AN$99,0),IF(AND(E242=6,C40<>\"\"),'+Prices'!$AN$95-C357+IF(C48<>\"\",'+Prices'!$AN$99,0),IF(AND(E242=6,C41<>\"\"),'+Prices'!$AN$96-C357+IF(C48<>\"\",'+Prices'!$AN$99,0),IF(AND(E242=6,C42<>\"\"),'+Prices'!$AN$97-C357+IF(C48<>\"\",'+Prices'!$AN$99,0),IF(AND(E242=7,C39<>\"\"),'+Prices'!$AO$95-C357+IF(C48<>\"\",'+Prices'!$AO$99,0),IF(AND(E242=7,C40<>\"\"),'+Prices'!$AO$95-C357+IF(C48<>\"\",'+Prices'!$AO$99,0),IF(AND(E242=7,C41<>\"\"),'+Prices'!$AO$96-C357+IF(C48<>\"\",'+Prices'!$AO$99,0),IF(AND(E242=7,C42<>\"\"),'+Prices'!$AO$97-C357+IF(C48<>\"\",'+Prices'!$AO$99,0),0))))))))))))","v":4410},{"$f":"IF(AND(F242=5,D39<>\"\"),'+Prices'!$AM$95-D357+IF(D48<>\"\",'+Prices'!$AM$99,0),IF(AND(F242=5,D40<>\"\"),'+Prices'!$AM$95-D357+IF(D48<>\"\",'+Prices'!$AM$99,0),IF(AND(F242=5,D41<>\"\"),'+Prices'!$AM$96-D357+IF(D48<>\"\",'+Prices'!$AM$99,0),IF(AND(F242=5,D42<>\"\"),'+Prices'!$AM$97-D357+IF(D48<>\"\",'+Prices'!$AM$99,0),IF(AND(F242=6,D39<>\"\"),'+Prices'!$AN$95-D357+IF(D48<>\"\",'+Prices'!$AN$99,0),IF(AND(F242=6,D40<>\"\"),'+Prices'!$AN$95-D357+IF(D48<>\"\",'+Prices'!$AN$99,0),IF(AND(F242=6,D41<>\"\"),'+Prices'!$AN$96-D357+IF(D48<>\"\",'+Prices'!$AN$99,0),IF(AND(F242=6,D42<>\"\"),'+Prices'!$AN$97-D357+IF(D48<>\"\",'+Prices'!$AN$99,0),IF(AND(F242=7,D39<>\"\"),'+Prices'!$AO$95-D357+IF(D48<>\"\",'+Prices'!$AO$99,0),IF(AND(F242=7,D40<>\"\"),'+Prices'!$AO$95-D357+IF(D48<>\"\",'+Prices'!$AO$99,0),IF(AND(F242=7,D41<>\"\"),'+Prices'!$AO$96-D357+IF(D48<>\"\",'+Prices'!$AO$99,0),IF(AND(F242=7,D42<>\"\"),'+Prices'!$AO$97-D357+IF(D48<>\"\",'+Prices'!$AO$99,0),0))))))))))))","v":0},{"$f":"IF(AND(G242=5,E39<>\"\"),'+Prices'!$AM$95-E357+IF(E48<>\"\",'+Prices'!$AM$99,0),IF(AND(G242=5,E40<>\"\"),'+Prices'!$AM$95-E357+IF(E48<>\"\",'+Prices'!$AM$99,0),IF(AND(G242=5,E41<>\"\"),'+Prices'!$AM$96-E357+IF(E48<>\"\",'+Prices'!$AM$99,0),IF(AND(G242=5,E42<>\"\"),'+Prices'!$AM$97-E357+IF(E48<>\"\",'+Prices'!$AM$99,0),IF(AND(G242=6,E39<>\"\"),'+Prices'!$AN$95-E357+IF(E48<>\"\",'+Prices'!$AN$99,0),IF(AND(G242=6,E40<>\"\"),'+Prices'!$AN$95-E357+IF(E48<>\"\",'+Prices'!$AN$99,0),IF(AND(G242=6,E41<>\"\"),'+Prices'!$AN$96-E357+IF(E48<>\"\",'+Prices'!$AN$99,0),IF(AND(G242=6,E42<>\"\"),'+Prices'!$AN$97-E357+IF(E48<>\"\",'+Prices'!$AN$99,0),IF(AND(G242=7,E39<>\"\"),'+Prices'!$AO$95-E357+IF(E48<>\"\",'+Prices'!$AO$99,0),IF(AND(G242=7,E40<>\"\"),'+Prices'!$AO$95-E357+IF(E48<>\"\",'+Prices'!$AO$99,0),IF(AND(G242=7,E41<>\"\"),'+Prices'!$AO$96-E357+IF(E48<>\"\",'+Prices'!$AO$99,0),IF(AND(G242=7,E42<>\"\"),'+Prices'!$AO$97-E357+IF(E48<>\"\",'+Prices'!$AO$99,0),0))))))))))))","v":0},{"$f":"IF(AND(H242=5,F39<>\"\"),'+Prices'!$AM$95-F357+IF(F48<>\"\",'+Prices'!$AM$99,0),IF(AND(H242=5,F40<>\"\"),'+Prices'!$AM$95-F357+IF(F48<>\"\",'+Prices'!$AM$99,0),IF(AND(H242=5,F41<>\"\"),'+Prices'!$AM$96-F357+IF(F48<>\"\",'+Prices'!$AM$99,0),IF(AND(H242=5,F42<>\"\"),'+Prices'!$AM$97-F357+IF(F48<>\"\",'+Prices'!$AM$99,0),IF(AND(H242=6,F39<>\"\"),'+Prices'!$AN$95-F357+IF(F48<>\"\",'+Prices'!$AN$99,0),IF(AND(H242=6,F40<>\"\"),'+Prices'!$AN$95-F357+IF(F48<>\"\",'+Prices'!$AN$99,0),IF(AND(H242=6,F41<>\"\"),'+Prices'!$AN$96-F357+IF(F48<>\"\",'+Prices'!$AN$99,0),IF(AND(H242=6,F42<>\"\"),'+Prices'!$AN$97-F357+IF(F48<>\"\",'+Prices'!$AN$99,0),IF(AND(H242=7,F39<>\"\"),'+Prices'!$AO$95-F357+IF(F48<>\"\",'+Prices'!$AO$99,0),IF(AND(H242=7,F40<>\"\"),'+Prices'!$AO$95-F357+IF(F48<>\"\",'+Prices'!$AO$99,0),IF(AND(H242=7,F41<>\"\"),'+Prices'!$AO$96-F357+IF(F48<>\"\",'+Prices'!$AO$99,0),IF(AND(H242=7,F42<>\"\"),'+Prices'!$AO$97-F357+IF(F48<>\"\",'+Prices'!$AO$99,0),0))))))))))))","v":0},{"$f":"IF(AND(I242=5,G39<>\"\"),'+Prices'!$AM$95-G357+IF(G48<>\"\",'+Prices'!$AM$99,0),IF(AND(I242=5,G40<>\"\"),'+Prices'!$AM$95-G357+IF(G48<>\"\",'+Prices'!$AM$99,0),IF(AND(I242=5,G41<>\"\"),'+Prices'!$AM$96-G357+IF(G48<>\"\",'+Prices'!$AM$99,0),IF(AND(I242=5,G42<>\"\"),'+Prices'!$AM$97-G357+IF(G48<>\"\",'+Prices'!$AM$99,0),IF(AND(I242=6,G39<>\"\"),'+Prices'!$AN$95-G357+IF(G48<>\"\",'+Prices'!$AN$99,0),IF(AND(I242=6,G40<>\"\"),'+Prices'!$AN$95-G357+IF(G48<>\"\",'+Prices'!$AN$99,0),IF(AND(I242=6,G41<>\"\"),'+Prices'!$AN$96-G357+IF(G48<>\"\",'+Prices'!$AN$99,0),IF(AND(I242=6,G42<>\"\"),'+Prices'!$AN$97-G357+IF(G48<>\"\",'+Prices'!$AN$99,0),IF(AND(I242=7,G39<>\"\"),'+Prices'!$AO$95-G357+IF(G48<>\"\",'+Prices'!$AO$99,0),IF(AND(I242=7,G40<>\"\"),'+Prices'!$AO$95-G357+IF(G48<>\"\",'+Prices'!$AO$99,0),IF(AND(I242=7,G41<>\"\"),'+Prices'!$AO$96-G357+IF(G48<>\"\",'+Prices'!$AO$99,0),IF(AND(I242=7,G42<>\"\"),'+Prices'!$AO$97-G357+IF(G48<>\"\",'+Prices'!$AO$99,0),0))))))))))))","v":4410},{"$f":"IF(AND(J242=5,H39<>\"\"),'+Prices'!$AM$95-H357+IF(H48<>\"\",'+Prices'!$AM$99,0),IF(AND(J242=5,H40<>\"\"),'+Prices'!$AM$95-H357+IF(H48<>\"\",'+Prices'!$AM$99,0),IF(AND(J242=5,H41<>\"\"),'+Prices'!$AM$96-H357+IF(H48<>\"\",'+Prices'!$AM$99,0),IF(AND(J242=5,H42<>\"\"),'+Prices'!$AM$97-H357+IF(H48<>\"\",'+Prices'!$AM$99,0),IF(AND(J242=6,H39<>\"\"),'+Prices'!$AN$95-H357+IF(H48<>\"\",'+Prices'!$AN$99,0),IF(AND(J242=6,H40<>\"\"),'+Prices'!$AN$95-H357+IF(H48<>\"\",'+Prices'!$AN$99,0),IF(AND(J242=6,H41<>\"\"),'+Prices'!$AN$96-H357+IF(H48<>\"\",'+Prices'!$AN$99,0),IF(AND(J242=6,H42<>\"\"),'+Prices'!$AN$97-H357+IF(H48<>\"\",'+Prices'!$AN$99,0),IF(AND(J242=7,H39<>\"\"),'+Prices'!$AO$95-H357+IF(H48<>\"\",'+Prices'!$AO$99,0),IF(AND(J242=7,H40<>\"\"),'+Prices'!$AO$95-H357+IF(H48<>\"\",'+Prices'!$AO$99,0),IF(AND(J242=7,H41<>\"\"),'+Prices'!$AO$96-H357+IF(H48<>\"\",'+Prices'!$AO$99,0),IF(AND(J242=7,H42<>\"\"),'+Prices'!$AO$97-H357+IF(H48<>\"\",'+Prices'!$AO$99,0),0))))))))))))","v":0},{"$f":"IF(AND(K242=5,I39<>\"\"),'+Prices'!$AM$95-I357+IF(I48<>\"\",'+Prices'!$AM$99,0),IF(AND(K242=5,I40<>\"\"),'+Prices'!$AM$95-I357+IF(I48<>\"\",'+Prices'!$AM$99,0),IF(AND(K242=5,I41<>\"\"),'+Prices'!$AM$96-I357+IF(I48<>\"\",'+Prices'!$AM$99,0),IF(AND(K242=5,I42<>\"\"),'+Prices'!$AM$97-I357+IF(I48<>\"\",'+Prices'!$AM$99,0),IF(AND(K242=6,I39<>\"\"),'+Prices'!$AN$95-I357+IF(I48<>\"\",'+Prices'!$AN$99,0),IF(AND(K242=6,I40<>\"\"),'+Prices'!$AN$95-I357+IF(I48<>\"\",'+Prices'!$AN$99,0),IF(AND(K242=6,I41<>\"\"),'+Prices'!$AN$96-I357+IF(I48<>\"\",'+Prices'!$AN$99,0),IF(AND(K242=6,I42<>\"\"),'+Prices'!$AN$97-I357+IF(I48<>\"\",'+Prices'!$AN$99,0),IF(AND(K242=7,I39<>\"\"),'+Prices'!$AO$95-I357+IF(I48<>\"\",'+Prices'!$AO$99,0),IF(AND(K242=7,I40<>\"\"),'+Prices'!$AO$95-I357+IF(I48<>\"\",'+Prices'!$AO$99,0),IF(AND(K242=7,I41<>\"\"),'+Prices'!$AO$96-I357+IF(I48<>\"\",'+Prices'!$AO$99,0),IF(AND(K242=7,I42<>\"\"),'+Prices'!$AO$97-I357+IF(I48<>\"\",'+Prices'!$AO$99,0),0))))))))))))","v":0},{"$f":"IF(AND(L242=5,J39<>\"\"),'+Prices'!$AM$95-J357+IF(J48<>\"\",'+Prices'!$AM$99,0),IF(AND(L242=5,J40<>\"\"),'+Prices'!$AM$95-J357+IF(J48<>\"\",'+Prices'!$AM$99,0),IF(AND(L242=5,J41<>\"\"),'+Prices'!$AM$96-J357+IF(J48<>\"\",'+Prices'!$AM$99,0),IF(AND(L242=5,J42<>\"\"),'+Prices'!$AM$97-J357+IF(J48<>\"\",'+Prices'!$AM$99,0),IF(AND(L242=6,J39<>\"\"),'+Prices'!$AN$95-J357+IF(J48<>\"\",'+Prices'!$AN$99,0),IF(AND(L242=6,J40<>\"\"),'+Prices'!$AN$95-J357+IF(J48<>\"\",'+Prices'!$AN$99,0),IF(AND(L242=6,J41<>\"\"),'+Prices'!$AN$96-J357+IF(J48<>\"\",'+Prices'!$AN$99,0),IF(AND(L242=6,J42<>\"\"),'+Prices'!$AN$97-J357+IF(J48<>\"\",'+Prices'!$AN$99,0),IF(AND(L242=7,J39<>\"\"),'+Prices'!$AO$95-J357+IF(J48<>\"\",'+Prices'!$AO$99,0),IF(AND(L242=7,J40<>\"\"),'+Prices'!$AO$95-J357+IF(J48<>\"\",'+Prices'!$AO$99,0),IF(AND(L242=7,J41<>\"\"),'+Prices'!$AO$96-J357+IF(J48<>\"\",'+Prices'!$AO$99,0),IF(AND(L242=7,J42<>\"\"),'+Prices'!$AO$97-J357+IF(J48<>\"\",'+Prices'!$AO$99,0),0))))))))))))","v":0},{"$f":"IF(AND(M242=5,K39<>\"\"),'+Prices'!$AM$95-K357+IF(K48<>\"\",'+Prices'!$AM$99,0),IF(AND(M242=5,K40<>\"\"),'+Prices'!$AM$95-K357+IF(K48<>\"\",'+Prices'!$AM$99,0),IF(AND(M242=5,K41<>\"\"),'+Prices'!$AM$96-K357+IF(K48<>\"\",'+Prices'!$AM$99,0),IF(AND(M242=5,K42<>\"\"),'+Prices'!$AM$97-K357+IF(K48<>\"\",'+Prices'!$AM$99,0),IF(AND(M242=6,K39<>\"\"),'+Prices'!$AN$95-K357+IF(K48<>\"\",'+Prices'!$AN$99,0),IF(AND(M242=6,K40<>\"\"),'+Prices'!$AN$95-K357+IF(K48<>\"\",'+Prices'!$AN$99,0),IF(AND(M242=6,K41<>\"\"),'+Prices'!$AN$96-K357+IF(K48<>\"\",'+Prices'!$AN$99,0),IF(AND(M242=6,K42<>\"\"),'+Prices'!$AN$97-K357+IF(K48<>\"\",'+Prices'!$AN$99,0),IF(AND(M242=7,K39<>\"\"),'+Prices'!$AO$95-K357+IF(K48<>\"\",'+Prices'!$AO$99,0),IF(AND(M242=7,K40<>\"\"),'+Prices'!$AO$95-K357+IF(K48<>\"\",'+Prices'!$AO$99,0),IF(AND(M242=7,K41<>\"\"),'+Prices'!$AO$96-K357+IF(K48<>\"\",'+Prices'!$AO$99,0),IF(AND(M242=7,K42<>\"\"),'+Prices'!$AO$97-K357+IF(K48<>\"\",'+Prices'!$AO$99,0),0))))))))))))","v":4410},{"$f":"IF(AND(N242=5,L39<>\"\"),'+Prices'!$AM$95-L357+IF(L48<>\"\",'+Prices'!$AM$99,0),IF(AND(N242=5,L40<>\"\"),'+Prices'!$AM$95-L357+IF(L48<>\"\",'+Prices'!$AM$99,0),IF(AND(N242=5,L41<>\"\"),'+Prices'!$AM$96-L357+IF(L48<>\"\",'+Prices'!$AM$99,0),IF(AND(N242=5,L42<>\"\"),'+Prices'!$AM$97-L357+IF(L48<>\"\",'+Prices'!$AM$99,0),IF(AND(N242=6,L39<>\"\"),'+Prices'!$AN$95-L357+IF(L48<>\"\",'+Prices'!$AN$99,0),IF(AND(N242=6,L40<>\"\"),'+Prices'!$AN$95-L357+IF(L48<>\"\",'+Prices'!$AN$99,0),IF(AND(N242=6,L41<>\"\"),'+Prices'!$AN$96-L357+IF(L48<>\"\",'+Prices'!$AN$99,0),IF(AND(N242=6,L42<>\"\"),'+Prices'!$AN$97-L357+IF(L48<>\"\",'+Prices'!$AN$99,0),IF(AND(N242=7,L39<>\"\"),'+Prices'!$AO$95-L357+IF(L48<>\"\",'+Prices'!$AO$99,0),IF(AND(N242=7,L40<>\"\"),'+Prices'!$AO$95-L357+IF(L48<>\"\",'+Prices'!$AO$99,0),IF(AND(N242=7,L41<>\"\"),'+Prices'!$AO$96-L357+IF(L48<>\"\",'+Prices'!$AO$99,0),IF(AND(N242=7,L42<>\"\"),'+Prices'!$AO$97-L357+IF(L48<>\"\",'+Prices'!$AO$99,0),0))))))))))))","v":0}]
[null,"Oilseed",{"$f":"IF(AND(E244=4,C13<>\"\"),'+Prices'!$AP$95-C357+IF(C21<>\"\",'+Prices'!$AP$99,0),IF(AND(E244=4,C14<>\"\"),'+Prices'!$AP$96-C357+IF(C21<>\"\",'+Prices'!$AP$99,0),IF(AND(E244=4,C15<>\"\"),'+Prices'!$AP$97-C357+IF(C21<>\"\",'+Prices'!$AP$99,0),0)))","v":0},{"$f":"IF(AND(F244=4,D13<>\"\"),'+Prices'!$AP$95-D357+IF(D21<>\"\",'+Prices'!$AP$99,0),IF(AND(F244=4,D14<>\"\"),'+Prices'!$AP$96-D357+IF(D21<>\"\",'+Prices'!$AP$99,0),IF(AND(F244=4,D15<>\"\"),'+Prices'!$AP$97-D357+IF(D21<>\"\",'+Prices'!$AP$99,0),0)))","v":6024},{"$f":"IF(AND(G244=4,E13<>\"\"),'+Prices'!$AP$95-E357+IF(E21<>\"\",'+Prices'!$AP$99,0),IF(AND(G244=4,E14<>\"\"),'+Prices'!$AP$96-E357+IF(E21<>\"\",'+Prices'!$AP$99,0),IF(AND(G244=4,E15<>\"\"),'+Prices'!$AP$97-E357+IF(E21<>\"\",'+Prices'!$AP$99,0),0)))","v":0},{"$f":"IF(AND(H244=4,F13<>\"\"),'+Prices'!$AP$95-F357+IF(F21<>\"\",'+Prices'!$AP$99,0),IF(AND(H244=4,F14<>\"\"),'+Prices'!$AP$96-F357+IF(F21<>\"\",'+Prices'!$AP$99,0),IF(AND(H244=4,F15<>\"\"),'+Prices'!$AP$97-F357+IF(F21<>\"\",'+Prices'!$AP$99,0),0)))","v":0},{"$f":"IF(AND(I244=4,G13<>\"\"),'+Prices'!$AP$95-G357+IF(G21<>\"\",'+Prices'!$AP$99,0),IF(AND(I244=4,G14<>\"\"),'+Prices'!$AP$96-G357+IF(G21<>\"\",'+Prices'!$AP$99,0),IF(AND(I244=4,G15<>\"\"),'+Prices'!$AP$97-G357+IF(G21<>\"\",'+Prices'!$AP$99,0),0)))","v":0},{"$f":"IF(AND(J244=4,H13<>\"\"),'+Prices'!$AP$95-H357+IF(H21<>\"\",'+Prices'!$AP$99,0),IF(AND(J244=4,H14<>\"\"),'+Prices'!$AP$96-H357+IF(H21<>\"\",'+Prices'!$AP$99,0),IF(AND(J244=4,H15<>\"\"),'+Prices'!$AP$97-H357+IF(H21<>\"\",'+Prices'!$AP$99,0),0)))","v":6024},{"$f":"IF(AND(K244=4,I13<>\"\"),'+Prices'!$AP$95-I357+IF(I21<>\"\",'+Prices'!$AP$99,0),IF(AND(K244=4,I14<>\"\"),'+Prices'!$AP$96-I357+IF(I21<>\"\",'+Prices'!$AP$99,0),IF(AND(K244=4,I15<>\"\"),'+Prices'!$AP$97-I357+IF(I21<>\"\",'+Prices'!$AP$99,0),0)))","v":0},{"$f":"IF(AND(L244=4,J13<>\"\"),'+Prices'!$AP$95-J357+IF(J21<>\"\",'+Prices'!$AP$99,0),IF(AND(L244=4,J14<>\"\"),'+Prices'!$AP$96-J357+IF(J21<>\"\",'+Prices'!$AP$99,0),IF(AND(L244=4,J15<>\"\"),'+Prices'!$AP$97-J357+IF(J21<>\"\",'+Prices'!$AP$99,0),0)))","v":0},{"$f":"IF(AND(M244=4,K13<>\"\"),'+Prices'!$AP$95-K357+IF(K21<>\"\",'+Prices'!$AP$99,0),IF(AND(M244=4,K14<>\"\"),'+Prices'!$AP$96-K357+IF(K21<>\"\",'+Prices'!$AP$99,0),IF(AND(M244=4,K15<>\"\"),'+Prices'!$AP$97-K357+IF(K21<>\"\",'+Prices'!$AP$99,0),0)))","v":0},{"$f":"IF(AND(N244=4,L13<>\"\"),'+Prices'!$AP$95-L357+IF(L21<>\"\",'+Prices'!$AP$99,0),IF(AND(N244=4,L14<>\"\"),'+Prices'!$AP$96-L357+IF(L21<>\"\",'+Prices'!$AP$99,0),IF(AND(N244=4,L15<>\"\"),'+Prices'!$AP$97-L357+IF(L21<>\"\",'+Prices'!$AP$99,0),0)))","v":6024},null,null," "]
[null,"Legumes",{"$f":"IF(AND(E242=8,C40<>\"\"),'+Prices'!$AQ$95-C357+IF(C48<>\"\",'+Prices'!$AQ$99,0),IF(AND(E242=8,C41<>\"\"),'+Prices'!$AQ$96-C357+IF(C48<>\"\",'+Prices'!$AQ$99,0),IF(AND(E242=8,C42<>\"\"),'+Prices'!$AQ$97-C357+IF(C48<>\"\",'+Prices'!$AQ$99,0),0)))","v":0},{"$f":"IF(AND(F242=8,D40<>\"\"),'+Prices'!$AM$95-D357,IF(AND(F242=8,D41<>\"\"),'+Prices'!$AM$96-D357,IF(AND(F242=8,D42<>\"\"),'+Prices'!$AM$97-D357,0)))","v":0},{"$f":"IF(AND(G242=8,E40<>\"\"),'+Prices'!$AM$95-E357,IF(AND(G242=8,E41<>\"\"),'+Prices'!$AM$96-E357,IF(AND(G242=8,E42<>\"\"),'+Prices'!$AM$97-E357,0)))","v":0},{"$f":"IF(AND(H242=8,F40<>\"\"),'+Prices'!$AM$95-F357,IF(AND(H242=8,F41<>\"\"),'+Prices'!$AM$96-F357,IF(AND(H242=8,F42<>\"\"),'+Prices'!$AM$97-F357,0)))","v":0},{"$f":"IF(AND(I242=8,G40<>\"\"),'+Prices'!$AM$95-G357,IF(AND(I242=8,G41<>\"\"),'+Prices'!$AM$96-G357,IF(AND(I242=8,G42<>\"\"),'+Prices'!$AM$97-G357,0)))","v":0},{"$f":"IF(AND(J242=8,H40<>\"\"),'+Prices'!$AM$95-H357,IF(AND(J242=8,H41<>\"\"),'+Prices'!$AM$96-H357,IF(AND(J242=8,H42<>\"\"),'+Prices'!$AM$97-H357,0)))","v":0},{"$f":"IF(AND(K242=8,I40<>\"\"),'+Prices'!$AM$95-I357,IF(AND(K242=8,I41<>\"\"),'+Prices'!$AM$96-I357,IF(AND(K242=8,I42<>\"\"),'+Prices'!$AM$97-I357,0)))","v":0},{"$f":"IF(AND(L242=8,J40<>\"\"),'+Prices'!$AM$95-J357,IF(AND(L242=8,J41<>\"\"),'+Prices'!$AM$96-J357,IF(AND(L242=8,J42<>\"\"),'+Prices'!$AM$97-J357,0)))","v":0},{"$f":"IF(AND(M242=8,K40<>\"\"),'+Prices'!$AM$95-K357,IF(AND(M242=8,K41<>\"\"),'+Prices'!$AM$96-K357,IF(AND(M242=8,K42<>\"\"),'+Prices'!$AM$97-K357,0)))","v":0},{"$f":"IF(AND(N242=8,L40<>\"\"),'+Prices'!$AM$95-L357,IF(AND(N242=8,L41<>\"\"),'+Prices'!$AM$96-L357,IF(AND(N242=8,L42<>\"\"),'+Prices'!$AM$97-L357,0)))","v":0}]
[null,"Grass",{"$f":"IF(E242=9, '+Prices'!$AJ$111,0)","v":0},{"$f":"IF(F242=9, '+Prices'!$AJ$111,0)","v":0},{"$f":"IF(G242=9, '+Prices'!$AJ$111,0)","v":0},{"$f":"IF(H242=9, '+Prices'!$AJ$111,0)","v":0},{"$f":"IF(I242=9, '+Prices'!$AJ$111,0)","v":0},{"$f":"IF(J242=9, '+Prices'!$AJ$111,0)","v":0},{"$f":"IF(K242=9, '+Prices'!$AJ$111,0)","v":0},{"$f":"IF(L242=9, '+Prices'!$AJ$111,0)","v":0},{"$f":"IF(M242=9, '+Prices'!$AJ$111,0)","v":0},{"$f":"IF(N242=9, '+Prices'!$AJ$111,0)","v":0}]
[null,"Grass/clover",{"$f":"IF(E243=10, '+Prices'!$AJ$119,0)","v":0},{"$f":"IF(F243=10, '+Prices'!$AJ$119,0)","v":0},{"$f":"IF(G243=10, '+Prices'!$AJ$119,0)","v":0},{"$f":"IF(H243=10, '+Prices'!$AJ$119,0)","v":0},{"$f":"IF(I243=10, '+Prices'!$AJ$119,0)","v":0},{"$f":"IF(J243=10, '+Prices'!$AJ$119,0)","v":0},{"$f":"IF(K243=10, '+Prices'!$AJ$119,0)","v":0},{"$f":"IF(L243=10, '+Prices'!$AJ$119,0)","v":0},{"$f":"IF(M243=10, '+Prices'!$AJ$119,0)","v":0},{"$f":"IF(N243=10, '+Prices'!$AJ$119,0)","v":0}]
[]
[null,"Dette er i øjeblikket ikke funktionelt i DK-RIM, men kan genaktiveres"]
[null,"Table 10. HWSM Machinery repayments","If the harvest machinery is used once then the cost is included for the specified number of years."]
[null,"Harvest: HSD",{"$f":"(IF((ISERROR(FIND('2.Strategy'!D$4,'2.Strategy'!$AV$18))),IF(C64<>\"\",1,0),0))","v":1},{"$f":"(IF((ISERROR(FIND('2.Strategy'!E$4,'2.Strategy'!$AV$18))),IF(D64<>\"\",1,0),0))","v":0},{"$f":"(IF((ISERROR(FIND('2.Strategy'!F$4,'2.Strategy'!$AV$18))),IF(E64<>\"\",1,0),0))","v":1},{"$f":"(IF((ISERROR(FIND('2.Strategy'!G$4,'2.Strategy'!$AV$18))),IF(F64<>\"\",1,0),0))","v":1},{"$f":"(IF((ISERROR(FIND('2.Strategy'!H$4,'2.Strategy'!$AV$18))),IF(G64<>\"\",1,0),0))","v":1},{"$f":"(IF((ISERROR(FIND('2.Strategy'!I$4,'2.Strategy'!$AV$18))),IF(H64<>\"\",1,0),0))","v":0},{"$f":"(IF((ISERROR(FIND('2.Strategy'!J$4,'2.Strategy'!$AV$18))),IF(I64<>\"\",1,0),0))","v":1},{"$f":"(IF((ISERROR(FIND('2.Strategy'!K$4,'2.Strategy'!$AV$18))),IF(J64<>\"\",1,0),0))","v":1},{"$f":"(IF((ISERROR(FIND('2.Strategy'!L$4,'2.Strategy'!$AV$18))),IF(K64<>\"\",1,0),0))","v":1},{"$f":"(IF((ISERROR(FIND('2.Strategy'!M$4,'2.Strategy'!$AV$18))),IF(L64<>\"\",1,0),0))","v":0}]
[null,"option for later addition "]
[null,"option for later addition "]
[null,"Age of: HSD - Harrington seed destructor",{"$f":"IF(C367=1,1,0)","v":1},{"$f":"IF(C370>0,C370+1,IF(D367=1,1,0))","v":2},3,4,5,6,7,8,9,10]
[null,"option for later addition "]
[null,"option for later addition "]
[null,"Machinery repayments (from '+Prices', goes to 'Eco results')",{"$f":"IF(AND(C370<('+Prices'!$O$35+1),C370>0),'+Prices'!$AP$75,0)","v":0},{"$f":"IF(AND(D370<('+Prices'!$O$35+1),D370>0),'+Prices'!$AP$75,0)","v":0},{"$f":"IF(AND(E370<('+Prices'!$O$35+1),E370>0),'+Prices'!$AP$75,0)","v":0},{"$f":"IF(AND(F370<('+Prices'!$O$35+1),F370>0),'+Prices'!$AP$75,0)","v":0},{"$f":"IF(AND(G370<('+Prices'!$O$35+1),G370>0),'+Prices'!$AP$75,0)","v":0},{"$f":"IF(AND(H370<('+Prices'!$O$35+1),H370>0),'+Prices'!$AP$75,0)","v":0},{"$f":"IF(AND(I370<('+Prices'!$O$35+1),I370>0),'+Prices'!$AP$75,0)","v":0},{"$f":"IF(AND(J370<('+Prices'!$O$35+1),J370>0),'+Prices'!$AP$75,0)","v":0},{"$f":"IF(AND(K370<('+Prices'!$O$35+1),K370>0),'+Prices'!$AP$75,0)","v":0},{"$f":"IF(AND(L370<('+Prices'!$O$35+1),L370>0),'+Prices'!$AP$75,0)","v":0},"area cropped affects these "]
[]
[null,"Table 11. Inflation factors","Feeds into the Eco results page: table 3"]
[null,"Increase of potential crop yield",{"$f":"1*(1+'+Prices'!$AV68)","v":1.01},{"$f":"C376*(1+'+Prices'!$AV68)","v":1.0201},{"$f":"D376*(1+'+Prices'!$AV68)","v":1.0303009999999999},{"$f":"E376*(1+'+Prices'!$AV68)","v":1.04060401},{"$f":"F376*(1+'+Prices'!$AV68)","v":1.0510100500999999},{"$f":"G376*(1+'+Prices'!$AV68)","v":1.0615201506009999},{"$f":"H376*(1+'+Prices'!$AV68)","v":1.0721353521070098},{"$f":"I376*(1+'+Prices'!$AV68)","v":1.08285670562808},{"$f":"J376*(1+'+Prices'!$AV68)","v":1.0936852726843609},{"$f":"K376*(1+'+Prices'!$AV68)","v":1.1046221254112045}]
[null,"Inflation for crop sale prices",{"$f":"1*(1+'+Prices'!$AV69)","v":1.01},{"$f":"C377*(1+'+Prices'!$AV69)","v":1.0201},{"$f":"D377*(1+'+Prices'!$AV69)","v":1.0303009999999999},{"$f":"E377*(1+'+Prices'!$AV69)","v":1.04060401},{"$f":"F377*(1+'+Prices'!$AV69)","v":1.0510100500999999},{"$f":"G377*(1+'+Prices'!$AV69)","v":1.0615201506009999},{"$f":"H377*(1+'+Prices'!$AV69)","v":1.0721353521070098},{"$f":"I377*(1+'+Prices'!$AV69)","v":1.08285670562808},{"$f":"J377*(1+'+Prices'!$AV69)","v":1.0936852726843609},{"$f":"K377*(1+'+Prices'!$AV69)","v":1.1046221254112045}]
[null,"Inflation for input costs",{"$f":"1*(1+'+Prices'!$AV70)","v":1.03},{"$f":"C378*(1+'+Prices'!$AV70)","v":1.0609},{"$f":"D378*(1+'+Prices'!$AV70)","v":1.092727},{"$f":"E378*(1+'+Prices'!$AV70)","v":1.1255088100000001},{"$f":"F378*(1+'+Prices'!$AV70)","v":1.1592740743000001},{"$f":"G378*(1+'+Prices'!$AV70)","v":1.1940522965290001},{"$f":"H378*(1+'+Prices'!$AV70)","v":1.2298738654248702},{"$f":"I378*(1+'+Prices'!$AV70)","v":1.2667700813876164},{"$f":"J378*(1+'+Prices'!$AV70)","v":1.3047731838292449},{"$f":"K378*(1+'+Prices'!$AV70)","v":1.3439163793441222}]
[]
[null,"Table 12. Competition functions","Showing yields at different weed densities. Used to generate the competition chart that illustrates RIM bio parameters (does not feed anywhere)",null,null,null,null,null,null,null,null,null,null,null,null,null,null,"Graph is used on the Out C&G Tab"]
[null,"Weed density","Vintersæd",null,"Vårsæd",null,"Raps",null,"Bælgsæd",null,null,null,"Effect of weed density on crop yields (standard crop densities)"]
[null," ->"]
[null,"Crop density","Standard ",null,"Standard ",null,"Standard ",null,"Standard ",null,null,null,null,"Vintersæd","Vårsæd","Raps","Bælgsæd","OBS!"]
[null,0,{"$f":"1-('+Options'!$AG$90*B384)/(1+(('+Options'!$AG$90*B384)/'+Options'!$AG$86))","v":1},null,{"$f":"1-('+Options'!$AJ$90*B384)/(1+(('+Options'!$AJ$90*B384)/'+Options'!$AJ$86))","v":1},null,{"$f":"1-('+Options'!$AM$90*$B384)/(1+(('+Options'!$AM$90*$B384)/'+Options'!$AM$86))","v":1},null,{"$f":"1-('+Options'!$AN$90*$B384)/(1+(('+Options'!$AN$90*$B384)/'+Options'!$AN$86))","v":1},null,null,null,null,{"$f":"C384","v":1},{"$f":"E384","v":1},{"$f":"G384-0.01","v":0.99},{"$f":"I384","v":1},"Grafen for raps er kunstigt lagt lige ved siden af vårsæd ved at trække 0,01 fra tallet"]
[null,50,{"$f":"1-('+Options'!$AG$90*B385)/(1+(('+Options'!$AG$90*B385)/'+Options'!$AG$86))","v":0.72727272727272729},null,{"$f":"1-('+Options'!$AJ$90*B385)/(1+(('+Options'!$AJ$90*B385)/'+Options'!$AJ$86))","v":0.76315789473684215},null,{"$f":"1-('+Options'!$AM$90*B385)/(1+(('+Options'!$AM$90*B385)/'+Options'!$AM$86))","v":0.76315789473684215},null,{"$f":"1-('+Options'!$AN$90*$B385)/(1+(('+Options'!$AN$90*$B385)/'+Options'!$AN$86))","v":0.67241379310344818},null,null,null,null,{"$f":"C385","v":0.72727272727272729},{"$f":"E385","v":0.76315789473684215},{"$f":"G385-0.01","v":0.75315789473684214},0.67241379310344818]
[null,100,{"$f":"1-('+Options'!$AG$90*B386)/(1+(('+Options'!$AG$90*B386)/'+Options'!$AG$86))","v":0.625},null,{"$f":"1-('+Options'!$AJ$90*B386)/(1+(('+Options'!$AJ$90*B386)/'+Options'!$AJ$86))","v":0.68965517241379315},null,{"$f":"1-('+Options'!$AM$90*B386)/(1+(('+Options'!$AM$90*B386)/'+Options'!$AM$86))","v":0.68965517241379315},null,{"$f":"1-('+Options'!$AN$90*$B386)/(1+(('+Options'!$AN$90*$B386)/'+Options'!$AN$86))","v":0.51282051282051277},null,null,null,null,0.625,0.68965517241379315,0.67965517241379314,0.51282051282051277]
[null,150,{"$f":"1-('+Options'!$AG$90*B387)/(1+(('+Options'!$AG$90*B387)/'+Options'!$AG$86))","v":0.5714285714285714},null,{"$f":"1-('+Options'!$AJ$90*B387)/(1+(('+Options'!$AJ$90*B387)/'+Options'!$AJ$86))","v":0.65384615384615374},null,{"$f":"1-('+Options'!$AM$90*B387)/(1+(('+Options'!$AM$90*B387)/'+Options'!$AM$86))","v":0.65384615384615374},null,{"$f":"1-('+Options'!$AN$90*$B387)/(1+(('+Options'!$AN$90*$B387)/'+Options'!$AN$86))","v":0.41836734693877553},null,null,null,null,0.5714285714285714,0.65384615384615374,0.64384615384615373,0.41836734693877553]
[null,200,{"$f":"1-('+Options'!$AG$90*B388)/(1+(('+Options'!$AG$90*B388)/'+Options'!$AG$86))","v":0.53846153846153855},null,{"$f":"1-('+Options'!$AJ$90*B388)/(1+(('+Options'!$AJ$90*B388)/'+Options'!$AJ$86))","v":0.63265306122448983},null,{"$f":"1-('+Options'!$AM$90*B388)/(1+(('+Options'!$AM$90*B388)/'+Options'!$AM$86))","v":0.63265306122448983},null,{"$f":"1-('+Options'!$AN$90*$B388)/(1+(('+Options'!$AN$90*$B388)/'+Options'!$AN$86))","v":0.35593220338983045},null,null,null,null,0.53846153846153855,0.63265306122448983,0.62265306122448982,0.35593220338983045]
[null,300,{"$f":"1-('+Options'!$AG$90*B389)/(1+(('+Options'!$AG$90*B389)/'+Options'!$AG$86))","v":0.5},null,{"$f":"1-('+Options'!$AJ$90*B389)/(1+(('+Options'!$AJ$90*B389)/'+Options'!$AJ$86))","v":0.60869565217391308},null,{"$f":"1-('+Options'!$AM$90*B389)/(1+(('+Options'!$AM$90*B389)/'+Options'!$AM$86))","v":0.60869565217391308},null,{"$f":"1-('+Options'!$AN$90*$B389)/(1+(('+Options'!$AN$90*$B389)/'+Options'!$AN$86))","v":0.27848101265822789},null,null,null,null,0.5,0.60869565217391308,0.59869565217391307,0.27848101265822789]
[null,400,{"$f":"1-('+Options'!$AG$90*B390)/(1+(('+Options'!$AG$90*B390)/'+Options'!$AG$86))","v":0.47826086956521741},null,{"$f":"1-('+Options'!$AJ$90*B390)/(1+(('+Options'!$AJ$90*B390)/'+Options'!$AJ$86))","v":0.5955056179775281},null,{"$f":"1-('+Options'!$AM$90*B390)/(1+(('+Options'!$AM$90*B390)/'+Options'!$AM$86))","v":0.5955056179775281},null,{"$f":"1-('+Options'!$AN$90*$B390)/(1+(('+Options'!$AN$90*$B390)/'+Options'!$AN$86))","v":0.23232323232323226},null,null,null,null,0.47826086956521741,0.5955056179775281,0.58550561797752809,0.23232323232323226]
[null,500,{"$f":"1-('+Options'!$AG$90*B391)/(1+(('+Options'!$AG$90*B391)/'+Options'!$AG$86))","v":0.4642857142857143},null,{"$f":"1-('+Options'!$AJ$90*B391)/(1+(('+Options'!$AJ$90*B391)/'+Options'!$AJ$86))","v":0.58715596330275233},null,{"$f":"1-('+Options'!$AM$90*B391)/(1+(('+Options'!$AM$90*B391)/'+Options'!$AM$86))","v":0.58715596330275233},null,{"$f":"1-('+Options'!$AN$90*$B391)/(1+(('+Options'!$AN$90*$B391)/'+Options'!$AN$86))","v":0.20168067226890762},null,null,null,null,0.4642857142857143,0.58715596330275233,0.57715596330275232,0.20168067226890762]
[null,600,{"$f":"1-('+Options'!$AG$90*B392)/(1+(('+Options'!$AG$90*B392)/'+Options'!$AG$86))","v":0.45454545454545459},null,{"$f":"1-('+Options'!$AJ$90*B392)/(1+(('+Options'!$AJ$90*B392)/'+Options'!$AJ$86))","v":0.58139534883720922},null,{"$f":"1-('+Options'!$AM$90*B392)/(1+(('+Options'!$AM$90*B392)/'+Options'!$AM$86))","v":0.58139534883720922},null,{"$f":"1-('+Options'!$AN$90*$B392)/(1+(('+Options'!$AN$90*$B392)/'+Options'!$AN$86))","v":0.17985611510791366},null,null,null,null,0.45454545454545459,0.58139534883720922,0.57139534883720922,0.17985611510791366]
[null,700,{"$f":"1-('+Options'!$AG$90*B393)/(1+(('+Options'!$AG$90*B393)/'+Options'!$AG$86))","v":0.44736842105263164},null,{"$f":"1-('+Options'!$AJ$90*B393)/(1+(('+Options'!$AJ$90*B393)/'+Options'!$AJ$86))","v":0.57718120805369133},null,{"$f":"1-('+Options'!$AM$90*B393)/(1+(('+Options'!$AM$90*B393)/'+Options'!$AM$86))","v":0.57718120805369133},null,{"$f":"1-('+Options'!$AN$90*$B393)/(1+(('+Options'!$AN$90*$B393)/'+Options'!$AN$86))","v":0.16352201257861632},null,null,null,null,0.44736842105263164,0.57718120805369133,0.56718120805369132,0.16352201257861632]
[null,800,{"$f":"1-('+Options'!$AG$90*B394)/(1+(('+Options'!$AG$90*B394)/'+Options'!$AG$86))","v":0.44186046511627908},null,{"$f":"1-('+Options'!$AJ$90*B394)/(1+(('+Options'!$AJ$90*B394)/'+Options'!$AJ$86))","v":0.57396449704142016},null,{"$f":"1-('+Options'!$AM$90*B394)/(1+(('+Options'!$AM$90*B394)/'+Options'!$AM$86))","v":0.57396449704142016},null,{"$f":"1-('+Options'!$AN$90*$B394)/(1+(('+Options'!$AN$90*$B394)/'+Options'!$AN$86))","v":0.15083798882681565},null,null,null,null,0.44186046511627908,0.57396449704142016,0.56396449704142015,0.15083798882681565]
[null,900,{"$f":"1-('+Options'!$AG$90*B395)/(1+(('+Options'!$AG$90*B395)/'+Options'!$AG$86))","v":0.4375},null,{"$f":"1-('+Options'!$AJ$90*B395)/(1+(('+Options'!$AJ$90*B395)/'+Options'!$AJ$86))","v":0.5714285714285714},null,{"$f":"1-('+Options'!$AM$90*B395)/(1+(('+Options'!$AM$90*B395)/'+Options'!$AM$86))","v":0.5714285714285714},null,{"$f":"1-('+Options'!$AN$90*$B395)/(1+(('+Options'!$AN$90*$B395)/'+Options'!$AN$86))","v":0.14070351758793975},null,null,null,null,0.4375,0.5714285714285714,0.56142857142857139,0.14070351758793975]
[null,1000,{"$f":"1-('+Options'!$AG$90*B396)/(1+(('+Options'!$AG$90*B396)/'+Options'!$AG$86))","v":0.43396226415094341},null,{"$f":"1-('+Options'!$AJ$90*B396)/(1+(('+Options'!$AJ$90*B396)/'+Options'!$AJ$86))","v":0.56937799043062198},null,{"$f":"1-('+Options'!$AM$90*B396)/(1+(('+Options'!$AM$90*B396)/'+Options'!$AM$86))","v":0.56937799043062198},null,{"$f":"1-('+Options'!$AN$90*$B396)/(1+(('+Options'!$AN$90*$B396)/'+Options'!$AN$86))","v":0.13242009132420096},null,null,null,null,0.43396226415094341,0.56937799043062198,0.55937799043062197,0.13242009132420096]

{"sheet":"Bio results","index":9,"n_rows":133,"n_cols":26,"rows_kept":133,"cut":false,"hidden":false,"merged":[]}
[null,null,null,{"$f":"'2.Strategy'!D64","v":"Vårbyg  1"},{"$f":"'2.Strategy'!E64","v":"Raps  2"},{"$f":"'2.Strategy'!F64","v":"V.hvede  3"},{"$f":"'2.Strategy'!G64","v":"V.hvede  4"},{"$f":"'2.Strategy'!H64","v":"Vårbyg  5"},{"$f":"'2.Strategy'!I64","v":"Raps  6"},{"$f":"'2.Strategy'!J64","v":"V.hvede  7"},{"$f":"'2.Strategy'!K64","v":"V.hvede  8"},{"$f":"'2.Strategy'!L64","v":"Vårbyg  9"},{"$f":"'2.Strategy'!M64","v":"Raps 10"},"\"Dates\"","Active","Plants/m2","Weeds/m2",null,"Strategy A","Plants/m2","Seeds",null,"Strategy B","Plants/m2","Seeds"]
[null,null,"Table 1B. Ryegrass plants per m2 ","These numbers refer to the number present at the start of the period listed",null,null,null,null,null,null,null,null,null,null,"2001-09-01",0,{"$f":"'Bio results'!D13","v":100}," ","2001-09-01",null,null," ","2001-09-01",null,null," "]
[null,null,"Period for early sowing 1.-15. sep /before 20. Mar.",{"$f":"D13*Calcs!C213","v":72},{"$f":"E13*Calcs!D213","v":17.5},{"$f":"F13*Calcs!E213","v":32.5},{"$f":"G13*Calcs!F213","v":45},{"$f":"H13*Calcs!G213","v":136.79999999999998},{"$f":"I13*Calcs!H213","v":35},{"$f":"J13*Calcs!I213","v":65},{"$f":"K13*Calcs!J213","v":90},{"$f":"L13*Calcs!K213","v":273.59999999999997},{"$f":"M13*Calcs!L213","v":67.5},"2000-05-01","2001-09-15",{"$f":"'Bio results'!D3","v":72},{"$f":"'Bio results'!D14","v":28.000000000000004},null,"2001-09-15",null,null,null,"2001-09-15"]
[null,null,"Period for medium sowing 15.-20. sep /20. mar - 15. apr",{"$f":"D3*Calcs!C222+D14*Calcs!C214","v":14.2},{"$f":"E3*Calcs!D222+E14*Calcs!D214","v":20.125},{"$f":"F3*Calcs!E222+F14*Calcs!E214","v":66.625},{"$f":"G3*Calcs!F222+G14*Calcs!F214","v":51.75},{"$f":"H3*Calcs!G222+H14*Calcs!G214","v":26.979999999999997},{"$f":"I3*Calcs!H222+I14*Calcs!H214","v":40.25},{"$f":"J3*Calcs!I222+J14*Calcs!I214","v":133.25},{"$f":"K3*Calcs!J222+K14*Calcs!J214","v":103.5},{"$f":"L3*Calcs!K222+L14*Calcs!K214","v":53.959999999999994},{"$f":"M3*Calcs!L222+M14*Calcs!L214","v":77.625},"2000-05-10","2001-09-20",{"$f":"'Bio results'!D4","v":14.2},{"$f":"'Bio results'!D15","v":21.000000000000004},null,"2001-09-20",null,null,null,"2001-09-20"]
[null,null,"Period for late sowing after 20. sep / after 15. apr.",{"$f":"D4*Calcs!C223+D15*Calcs!C215","v":17.350000000000001},{"$f":"E4*Calcs!D223+E15*Calcs!D215","v":28.65625},{"$f":"F4*Calcs!E223+F15*Calcs!E215","v":82.46875},{"$f":"G4*Calcs!F223+G15*Calcs!F215","v":73.6875},{"$f":"H4*Calcs!G223+H15*Calcs!G215","v":32.964999999999996},{"$f":"I4*Calcs!H223+I15*Calcs!H215","v":57.3125},{"$f":"J4*Calcs!I223+J15*Calcs!I215","v":164.9375},{"$f":"K4*Calcs!J223+K15*Calcs!J215","v":147.375},{"$f":"L4*Calcs!K223+L15*Calcs!K215","v":65.929999999999993},{"$f":"M4*Calcs!L223+M15*Calcs!L215","v":110.53125},"2000-05-20","2001-10-01",{"$f":"'Bio results'!D5","v":17.350000000000001},{"$f":"'Bio results'!D16","v":17.850000000000001},null,"2001-10-01",null,null,null,"2001-10-01"]
[null,null,"Time for Pre-E spraying (late emerging ) /not relevant in spring",{"$f":"IF(Calcs!E242<5,D5*Calcs!C224+D16*Calcs!C216,D5)","v":17.350000000000001},{"$f":"IF(Calcs!F242<5,E5*Calcs!D224+E16*Calcs!D216,E5)","v":31.215624999999999},{"$f":"IF(Calcs!G242<5,F5*Calcs!E224+F16*Calcs!E216,F5)","v":12.999999999999996},{"$f":"IF(Calcs!H242<5,G5*Calcs!F224+G16*Calcs!F216,G5)","v":80.268749999999997},{"$f":"IF(Calcs!I242<5,H5*Calcs!G224+H16*Calcs!G216,H5)","v":32.964999999999996},{"$f":"IF(Calcs!J242<5,I5*Calcs!H224+I16*Calcs!H216,I5)","v":62.431249999999999},{"$f":"IF(Calcs!K242<5,J5*Calcs!I224+J16*Calcs!I216,J5)","v":25.999999999999993},{"$f":"IF(Calcs!L242<5,K5*Calcs!J224+K16*Calcs!J216,K5)","v":160.53749999999999},{"$f":"IF(Calcs!M242<5,L5*Calcs!K224+L16*Calcs!K216,L5)","v":65.929999999999993},{"$f":"IF(Calcs!N242<5,M5*Calcs!L224+M16*Calcs!L216,M5)","v":120.403125},"2000-06-10","2001-11-01",{"$f":"'Bio results'!D6","v":17.350000000000001},{"$f":"'Bio results'!D17","v":17.850000000000001},null,"2001-11-01",null,null,null,"2001-11-01"]
[null,null,"Time for Post-E spraying, both winter and spring crop",{"$f":"D6*Calcs!C225+D17*Calcs!C217","v":19.135000000000002},{"$f":"E6*Calcs!D225+E17*Calcs!D217","v":31.958281249999999},{"$f":"F6*Calcs!E225+F17*Calcs!E217","v":8.8473124999999992},{"$f":"G6*Calcs!F225+G17*Calcs!F217","v":34.137590625000001},{"$f":"H6*Calcs!G225+H17*Calcs!G217","v":36.356499999999997},{"$f":"I6*Calcs!H225+I17*Calcs!H217","v":63.916562499999998},{"$f":"J6*Calcs!I225+J17*Calcs!I217","v":17.694624999999998},{"$f":"K6*Calcs!J225+K17*Calcs!J217","v":68.275181250000003},{"$f":"L6*Calcs!K225+L17*Calcs!K217","v":72.712999999999994},{"$f":"M6*Calcs!L225+M17*Calcs!L217","v":123.26765625},"2000-09-01","2001-06-01",{"$f":"'Bio results'!D7","v":19.135000000000002},{"$f":"'Bio results'!D18","v":12.852000000000002},null,"2001-06-01",null,null,null,"2001-06-01"]
[null,null,"End of season survival,  both winter and spring crop",{"$f":"(D7*Calcs!C226*Calcs!C227+D18*Calcs!C218)*Calcs!C228","v":3.2281380000000013},{"$f":"(E7*Calcs!D226*Calcs!D227+E18*Calcs!D218)*Calcs!D228","v":2.6336859499999989},{"$f":"(F7*Calcs!E226*Calcs!E227+F18*Calcs!E218)*Calcs!E228","v":1.8462774525000007},{"$f":"(G7*Calcs!F226*Calcs!F227+G18*Calcs!F218)*Calcs!F228","v":10.159331092312499},{"$f":"(H7*Calcs!G226*Calcs!G227+H18*Calcs!G218)*Calcs!G228","v":6.1334622000000012},{"$f":"(I7*Calcs!H226*Calcs!H227+I18*Calcs!H218)*Calcs!H228","v":5.2673718999999979},{"$f":"(J7*Calcs!I226*Calcs!I227+J18*Calcs!I218)*Calcs!I228","v":3.6925549050000015},{"$f":"(K7*Calcs!J226*Calcs!J227+K18*Calcs!J218)*Calcs!J228","v":20.318662184624998},{"$f":"(L7*Calcs!K226*Calcs!K227+L18*Calcs!K218)*Calcs!K228","v":12.266924400000002},{"$f":"(M7*Calcs!L226*Calcs!L227+M18*Calcs!L218)*Calcs!L228","v":10.158502949999995},null,{"$f":"O7+14","v":"2001-06-15"},{"$f":"'Bio results'!D8","v":3.2281380000000013},{"$f":"Q7","v":12.852000000000002},null,"2001-06-15",null,null,null,"2001-06-15"]
[null,null,"Mature ryegrass plants setting seed",{"$f":"D8","v":3.2281380000000013},{"$f":"E8","v":2.6336859499999989},1.8462774525000007,10.159331092312499,6.1334622000000012,5.2673718999999979,3.6925549050000015,20.318662184624998,12.266924400000002,10.158502949999995,"2000-10-01","2001-07-01",{"$f":"'Bio results'!D9","v":3.2281380000000013},{"$f":"'Bio results'!D20","v":95.458419076204677},null,"2001-07-01",null,null,null,"2001-07-01"]
[null,null,null,null,null,null,null,null,null,null,null,null,null,null,"2001-08-01",0,{"$f":"'Bio results'!D21","v":108.31041907620468},null,"2001-08-01",null,null,null,"2001-08-01"]
[null,null,null,null,null,null,null,null,null,null,null,null,null,null,"2002-09-01",0,{"$f":"'Bio results'!E13","v":70},null,"2002-09-01",null,null,null,"2002-09-01"]
[null,null,"Table 2B. Ryegrass seeds per m2","cover crops have been added to reduce seed carry over where used, A and S",null,null,null,null,null,null,null,null,null,null,"2002-09-15",{"$f":"'Bio results'!E3","v":17.5},{"$f":"'Bio results'!E14","v":52.5},null,"2002-09-15",null,null,null,"2002-09-15"]
[null,null,"Period for early sowing 1.-15. sep /before 20. Mar.",{"$f":"'+Options'!$AG$96*'+Options'!AG123","v":100},{"$f":"D22*IF(Calcs!C$22<> \"\",(1-'1.Profile'!$O$8),1)*IF(Calcs!C$49<>\"\",(1-'1.Profile'!$O$8),1)","v":70},{"$f":"E22*IF(Calcs!D$22<> \"\",(1-'1.Profile'!$O$8),1)*IF(Calcs!D$49<>\"\",(1-'1.Profile'!$O$8),1)","v":130},{"$f":"F22*IF(Calcs!E$22<> \"\",(1-'1.Profile'!$O$8),1)*IF(Calcs!E$49<>\"\",(1-'1.Profile'!$O$8),1)","v":180},{"$f":"G22*IF(Calcs!F$22<> \"\",(1-'1.Profile'!$O$8),1)*IF(Calcs!F$49<>\"\",(1-'1.Profile'!$O$8),1)","v":190},{"$f":"H22*IF(Calcs!G$22<> \"\",(1-'1.Profile'!$O$8),1)*IF(Calcs!G$49<>\"\",(1-'1.Profile'!$O$8),1)","v":140},{"$f":"I22*IF(Calcs!H$22<> \"\",(1-'1.Profile'!$O$8),1)*IF(Calcs!H$49<>\"\",(1-'1.Profile'!$O$8),1)","v":260},{"$f":"J22*IF(Calcs!I$22<> \"\",(1-'1.Profile'!$O$8),1)*IF(Calcs!I$49<>\"\",(1-'1.Profile'!$O$8),1)","v":360},{"$f":"K22*IF(Calcs!J$22<> \"\",(1-'1.Profile'!$O$8),1)*IF(Calcs!J$49<>\"\",(1-'1.Profile'!$O$8),1)","v":380},{"$f":"L22*IF(Calcs!K$22<> \"\",(1-'1.Profile'!$O$8),1)*IF(Calcs!K$49<>\"\",(1-'1.Profile'!$O$8),1)","v":270},"2000-04-01","2002-09-20",{"$f":"'Bio results'!E4","v":20.125},{"$f":"'Bio results'!E15","v":34.125},null,"2002-09-20",null,null,null,"2002-09-20"]
[null,null,"Period for medium sowing 15.-20. sep /20. mar - 15. apr",{"$f":"D13*(1-Calcs!C213)","v":28.000000000000004},{"$f":"E13*(1-Calcs!D213)","v":52.5},{"$f":"F13*(1-Calcs!E213)","v":97.5},{"$f":"G13*(1-Calcs!F213)","v":135},{"$f":"H13*(1-Calcs!G213)","v":53.2},{"$f":"I13*(1-Calcs!H213)","v":105},{"$f":"J13*(1-Calcs!I213)","v":195},{"$f":"K13*(1-Calcs!J213)","v":270},{"$f":"L13*(1-Calcs!K213)","v":106.4},{"$f":"M13*(1-Calcs!L213)","v":202.5},"2000-05-01","2002-10-01",{"$f":"'Bio results'!E5","v":28.65625},{"$f":"'Bio results'!E16","v":25.59375},null,"2002-10-01",null,null,null,"2002-10-01"]
[null,null,"Period for late sowing after 20. sep / after 15. apr.",{"$f":"D14*(1-Calcs!C214)","v":21.000000000000004},{"$f":"E14*(1-Calcs!D214)","v":34.125},{"$f":"F14*(1-Calcs!E214)","v":63.375},{"$f":"G14*(1-Calcs!F214)","v":87.75},{"$f":"H14*(1-Calcs!G214)","v":39.900000000000006},{"$f":"I14*(1-Calcs!H214)","v":68.25},{"$f":"J14*(1-Calcs!I214)","v":126.75},{"$f":"K14*(1-Calcs!J214)","v":175.5},{"$f":"L14*(1-Calcs!K214)","v":79.800000000000011},{"$f":"M14*(1-Calcs!L214)","v":131.625},"2000-05-10","2002-11-01",{"$f":"'Bio results'!E6","v":31.215624999999999},{"$f":"'Bio results'!E17","v":23.034375000000001},null,"2002-11-01",null,null,null,"2002-11-01"]
[null,null,"Before Pre-E spraying (late emerging ) /not relevant in spring",{"$f":"D15*(1-Calcs!C215)","v":17.850000000000001},{"$f":"E15*(1-Calcs!D215)","v":25.59375},{"$f":"F15*(1-Calcs!E215)","v":47.53125},{"$f":"G15*(1-Calcs!F215)","v":65.8125},{"$f":"H15*(1-Calcs!G215)","v":33.915000000000006},{"$f":"I15*(1-Calcs!H215)","v":51.1875},{"$f":"J15*(1-Calcs!I215)","v":95.0625},{"$f":"K15*(1-Calcs!J215)","v":131.625},{"$f":"L15*(1-Calcs!K215)","v":67.830000000000013},{"$f":"M15*(1-Calcs!L215)","v":98.71875},"2000-05-20","2002-06-01",{"$f":"'Bio results'!E7","v":31.958281249999999},{"$f":"'Bio results'!E18","v":16.58475},null,"2002-06-01",null,null,null,"2002-06-01"]
[null,null,"Before Post-E spraying, both seasons",{"$f":"D16*(1-Calcs!C216)","v":17.850000000000001},{"$f":"E16*(1-Calcs!D216)","v":23.034375000000001},{"$f":"F16*(1-Calcs!E216)","v":42.778125000000003},{"$f":"G16*(1-Calcs!F216)","v":59.231250000000003},{"$f":"H16*(1-Calcs!G216)","v":33.915000000000006},{"$f":"I16*(1-Calcs!H216)","v":46.068750000000001},{"$f":"J16*(1-Calcs!I216)","v":85.556250000000006},{"$f":"K16*(1-Calcs!J216)","v":118.46250000000001},{"$f":"L16*(1-Calcs!K216)","v":67.830000000000013},{"$f":"M16*(1-Calcs!L216)","v":88.846874999999997},"2000-06-10",{"$f":"O16+14","v":"2002-06-15"},{"$f":"'Bio results'!E8","v":2.6336859499999989},{"$f":"Q16","v":16.58475},null,"2002-06-15",null,null,null,"2002-06-15"]
[null,null,"End of spring,  both winter and spring crop",{"$f":"D17*(1-Calcs!C217)*(1-'+Options'!$AG$127)*IF(COUNTIF(Calcs!C$39,\">=1\"),(1-'+Options'!$AG$140),1)","v":12.852000000000002},{"$f":"E17*(1-Calcs!D217)*(1-'+Options'!$AG$127)*IF(COUNTIF(Calcs!D$39,\">=1\"),(1-'+Options'!$AG$140),1)","v":16.58475},{"$f":"F17*(1-Calcs!E217)*(1-'+Options'!$AG$127)*IF(COUNTIF(Calcs!E$39,\">=1\"),(1-'+Options'!$AG$140),1)","v":30.800250000000005},{"$f":"G17*(1-Calcs!F217)*(1-'+Options'!$AG$127)*IF(COUNTIF(Calcs!F$39,\">=1\"),(1-'+Options'!$AG$140),1)","v":42.646500000000003},{"$f":"H17*(1-Calcs!G217)*(1-'+Options'!$AG$127)*IF(COUNTIF(Calcs!G$39,\">=1\"),(1-'+Options'!$AG$140),1)","v":24.418800000000005},{"$f":"I17*(1-Calcs!H217)*(1-'+Options'!$AG$127)*IF(COUNTIF(Calcs!H$39,\">=1\"),(1-'+Options'!$AG$140),1)","v":33.169499999999999},{"$f":"J17*(1-Calcs!I217)*(1-'+Options'!$AG$127)*IF(COUNTIF(Calcs!I$39,\">=1\"),(1-'+Options'!$AG$140),1)","v":61.600500000000011},{"$f":"K17*(1-Calcs!J217)*(1-'+Options'!$AG$127)*IF(COUNTIF(Calcs!J$39,\">=1\"),(1-'+Options'!$AG$140),1)","v":85.293000000000006},{"$f":"L17*(1-Calcs!K217)*(1-'+Options'!$AG$127)*IF(COUNTIF(Calcs!K$39,\">=1\"),(1-'+Options'!$AG$140),1)","v":48.837600000000009},{"$f":"M17*(1-Calcs!L217)*(1-'+Options'!$AG$127)*IF(COUNTIF(Calcs!L$39,\">=1\"),(1-'+Options'!$AG$140),1)","v":63.969750000000005},"2000-09-01","2002-07-01",{"$f":"'Bio results'!E9","v":2.6336859499999989},{"$f":"'Bio results'!E20","v":176.13946999681667},null,"2002-07-01",null,null,null,"2002-07-01"]
[null,null,"Spring, seed produced per m2",{"$f":"('+Options'!$AG$131*'+Options'!$AG$134*Calcs!C236*(IF(Calcs!E242=1,1/(1+('+Options'!$AG$134*Calcs!C236)+('+Options'!$AG$87*Calcs!C207)),0)+IF(Calcs!E242=2,1/(1+('+Options'!$AG$134*Calcs!C236)+('+Options'!$AH$87*Calcs!C207)),0)+IF(Calcs!E242=3,1/(1+('+Options'!$AG$134*Calcs!C236)+('+Options'!$AI$87*Calcs!C207)),0)+IF(Calcs!E242=4,1/(1+('+Options'!$AG$134*Calcs!C236)+('+Options'!$AM$87*Calcs!C207)),0)+IF(Calcs!E242=5,1/(1+('+Options'!$AG$134*Calcs!C236)+('+Options'!$AJ$87*Calcs!C207)),0)+IF(Calcs!E242=6,1/(1+('+Options'!$AG$134*Calcs!C236)+('+Options'!$AK$87*Calcs!C207)),0)+IF(Calcs!E242=7,1/(1+('+Options'!$AG$134*Calcs!C236)+('+Options'!$AL$87*Calcs!C207)),0)+IF(Calcs!E242=8,1/(1+('+Options'!$AG$134*Calcs!C236)+('+Options'!$AN$87*Calcs!C207)),0)+IF(Calcs!E242>8,1/(1+('+Options'!$AG$134+Calcs!C236)+'+Options'!$AG$139))))*IF(Calcs!P46>0,1-'+Options'!$AG$129,1)*IF(Calcs!P47>0,1-'+Options'!$AG$130,1)","v":95.458419076204677},{"$f":"('+Options'!$AG$131*'+Options'!$AG$134*Calcs!D236*(IF(Calcs!F242=1,1/(1+('+Options'!$AG$134*Calcs!D236)+('+Options'!$AG$87*Calcs!D207)),0)+IF(Calcs!F242=2,1/(1+('+Options'!$AG$134*Calcs!D236)+('+Options'!$AH$87*Calcs!D207)),0)+IF(Calcs!F242=3,1/(1+('+Options'!$AG$134*Calcs!D236)+('+Options'!$AI$87*Calcs!D207)),0)+IF(Calcs!F242=4,1/(1+('+Options'!$AG$134*Calcs!D236)+('+Options'!$AM$87*Calcs!D207)),0)+IF(Calcs!F242=5,1/(1+('+Options'!$AG$134*Calcs!D236)+('+Options'!$AJ$87*Calcs!D207)),0)+IF(Calcs!F242=6,1/(1+('+Options'!$AG$134*Calcs!D236)+('+Options'!$AK$87*Calcs!D207)),0)+IF(Calcs!F242=7,1/(1+('+Options'!$AG$134*Calcs!D236)+('+Options'!$AL$87*Calcs!D207)),0)+IF(Calcs!F242=8,1/(1+('+Options'!$AG$134*Calcs!D236)+('+Options'!$AN$87*Calcs!D207)),0)+IF(Calcs!F242>8,1/(1+('+Options'!$AG$134+Calcs!D236)+'+Options'!$AG$139))))*IF(Calcs!Q46>0,1-'+Options'!$AG$129,1)*IF(Calcs!Q47>0,1-'+Options'!$AG$130,1)","v":176.13946999681667},{"$f":"('+Options'!$AG$131*'+Options'!$AG$134*Calcs!E236*(IF(Calcs!G242=1,1/(1+('+Options'!$AG$134*Calcs!E236)+('+Options'!$AG$87*Calcs!E207)),0)+IF(Calcs!G242=2,1/(1+('+Options'!$AG$134*Calcs!E236)+('+Options'!$AH$87*Calcs!E207)),0)+IF(Calcs!G242=3,1/(1+('+Options'!$AG$134*Calcs!E236)+('+Options'!$AI$87*Calcs!E207)),0)+IF(Calcs!G242=4,1/(1+('+Options'!$AG$134*Calcs!E236)+('+Options'!$AM$87*Calcs!E207)),0)+IF(Calcs!G242=5,1/(1+('+Options'!$AG$134*Calcs!E236)+('+Options'!$AJ$87*Calcs!E207)),0)+IF(Calcs!G242=6,1/(1+('+Options'!$AG$134*Calcs!E236)+('+Options'!$AK$87*Calcs!E207)),0)+IF(Calcs!G242=7,1/(1+('+Options'!$AG$134*Calcs!E236)+('+Options'!$AL$87*Calcs!E207)),0)+IF(Calcs!G242=8,1/(1+('+Options'!$AG$134*Calcs!E236)+('+Options'!$AN$87*Calcs!E207)),0)+IF(Calcs!G242>8,1/(1+('+Options'!$AG$134+Calcs!E236)+'+Options'!$AG$139))))*IF(Calcs!R46>0,1-'+Options'!$AG$129,1)*IF(Calcs!R47>0,1-'+Options'!$AG$130,1)","v":237.94939952611395},{"$f":"('+Options'!$AG$131*'+Options'!$AG$134*Calcs!F236*(IF(Calcs!H242=1,1/(1+('+Options'!$AG$134*Calcs!F236)+('+Options'!$AG$87*Calcs!F207)),0)+IF(Calcs!H242=2,1/(1+('+Options'!$AG$134*Calcs!F236)+('+Options'!$AH$87*Calcs!F207)),0)+IF(Calcs!H242=3,1/(1+('+Options'!$AG$134*Calcs!F236)+('+Options'!$AI$87*Calcs!F207)),0)+IF(Calcs!H242=4,1/(1+('+Options'!$AG$134*Calcs!F236)+('+Options'!$AM$87*Calcs!F207)),0)+IF(Calcs!H242=5,1/(1+('+Options'!$AG$134*Calcs!F236)+('+Options'!$AJ$87*Calcs!F207)),0)+IF(Calcs!H242=6,1/(1+('+Options'!$AG$134*Calcs!F236)+('+Options'!$AK$87*Calcs!F207)),0)+IF(Calcs!H242=7,1/(1+('+Options'!$AG$134*Calcs!F236)+('+Options'!$AL$87*Calcs!F207)),0)+IF(Calcs!H242=8,1/(1+('+Options'!$AG$134*Calcs!F236)+('+Options'!$AN$87*Calcs!F207)),0)+IF(Calcs!H242>8,1/(1+('+Options'!$AG$134+Calcs!F236)+'+Options'!$AG$139))))*IF(Calcs!S46>0,1-'+Options'!$AG$129,1)*IF(Calcs!S47>0,1-'+Options'!$AG$130,1)","v":243.84744755655421},{"$f":"('+Options'!$AG$131*'+Options'!$AG$134*Calcs!G236*(IF(Calcs!I242=1,1/(1+('+Options'!$AG$134*Calcs!G236)+('+Options'!$AG$87*Calcs!G207)),0)+IF(Calcs!I242=2,1/(1+('+Options'!$AG$134*Calcs!G236)+('+Options'!$AH$87*Calcs!G207)),0)+IF(Calcs!I242=3,1/(1+('+Options'!$AG$134*Calcs!G236)+('+Options'!$AI$87*Calcs!G207)),0)+IF(Calcs!I242=4,1/(1+('+Options'!$AG$134*Calcs!G236)+('+Options'!$AM$87*Calcs!G207)),0)+IF(Calcs!I242=5,1/(1+('+Options'!$AG$134*Calcs!G236)+('+Options'!$AJ$87*Calcs!G207)),0)+IF(Calcs!I242=6,1/(1+('+Options'!$AG$134*Calcs!G236)+('+Options'!$AK$87*Calcs!G207)),0)+IF(Calcs!I242=7,1/(1+('+Options'!$AG$134*Calcs!G236)+('+Options'!$AL$87*Calcs!G207)),0)+IF(Calcs!I242=8,1/(1+('+Options'!$AG$134*Calcs!G236)+('+Options'!$AN$87*Calcs!G207)),0)+IF(Calcs!I242>8,1/(1+('+Options'!$AG$134+Calcs!G236)+'+Options'!$AG$139))))*IF(Calcs!T46>0,1-'+Options'!$AG$129,1)*IF(Calcs!T47>0,1-'+Options'!$AG$130,1)","v":180.70894204740293},{"$f":"('+Options'!$AG$131*'+Options'!$AG$134*Calcs!H236*(IF(Calcs!J242=1,1/(1+('+Options'!$AG$134*Calcs!H236)+('+Options'!$AG$87*Calcs!H207)),0)+IF(Calcs!J242=2,1/(1+('+Options'!$AG$134*Calcs!H236)+('+Options'!$AH$87*Calcs!H207)),0)+IF(Calcs!J242=3,1/(1+('+Options'!$AG$134*Calcs!H236)+('+Options'!$AI$87*Calcs!H207)),0)+IF(Calcs!J242=4,1/(1+('+Options'!$AG$134*Calcs!H236)+('+Options'!$AM$87*Calcs!H207)),0)+IF(Calcs!J242=5,1/(1+('+Options'!$AG$134*Calcs!H236)+('+Options'!$AJ$87*Calcs!H207)),0)+IF(Calcs!J242=6,1/(1+('+Options'!$AG$134*Calcs!H236)+('+Options'!$AK$87*Calcs!H207)),0)+IF(Calcs!J242=7,1/(1+('+Options'!$AG$134*Calcs!H236)+('+Options'!$AL$87*Calcs!H207)),0)+IF(Calcs!J242=8,1/(1+('+Options'!$AG$134*Calcs!H236)+('+Options'!$AN$87*Calcs!H207)),0)+IF(Calcs!J242>8,1/(1+('+Options'!$AG$134+Calcs!H236)+'+Options'!$AG$139))))*IF(Calcs!U46>0,1-'+Options'!$AG$129,1)*IF(Calcs!U47>0,1-'+Options'!$AG$130,1)","v":348.76854532364092},{"$f":"('+Options'!$AG$131*'+Options'!$AG$134*Calcs!I236*(IF(Calcs!K242=1,1/(1+('+Options'!$AG$134*Calcs!I236)+('+Options'!$AG$87*Calcs!I207)),0)+IF(Calcs!K242=2,1/(1+('+Options'!$AG$134*Calcs!I236)+('+Options'!$AH$87*Calcs!I207)),0)+IF(Calcs!K242=3,1/(1+('+Options'!$AG$134*Calcs!I236)+('+Options'!$AI$87*Calcs!I207)),0)+IF(Calcs!K242=4,1/(1+('+Options'!$AG$134*Calcs!I236)+('+Options'!$AM$87*Calcs!I207)),0)+IF(Calcs!K242=5,1/(1+('+Options'!$AG$134*Calcs!I236)+('+Options'!$AJ$87*Calcs!I207)),0)+IF(Calcs!K242=6,1/(1+('+Options'!$AG$134*Calcs!I236)+('+Options'!$AK$87*Calcs!I207)),0)+IF(Calcs!K242=7,1/(1+('+Options'!$AG$134*Calcs!I236)+('+Options'!$AL$87*Calcs!I207)),0)+IF(Calcs!K242=8,1/(1+('+Options'!$AG$134*Calcs!I236)+('+Options'!$AN$87*Calcs!I207)),0)+IF(Calcs!K242>8,1/(1+('+Options'!$AG$134+Calcs!I236)+'+Options'!$AG$139))))*IF(Calcs!V46>0,1-'+Options'!$AG$129,1)*IF(Calcs!V47>0,1-'+Options'!$AG$130,1)","v":471.11831630297218},{"$f":"('+Options'!$AG$131*'+Options'!$AG$134*Calcs!J236*(IF(Calcs!L242=1,1/(1+('+Options'!$AG$134*Calcs!J236)+('+Options'!$AG$87*Calcs!J207)),0)+IF(Calcs!L242=2,1/(1+('+Options'!$AG$134*Calcs!J236)+('+Options'!$AH$87*Calcs!J207)),0)+IF(Calcs!L242=3,1/(1+('+Options'!$AG$134*Calcs!J236)+('+Options'!$AI$87*Calcs!J207)),0)+IF(Calcs!L242=4,1/(1+('+Options'!$AG$134*Calcs!J236)+('+Options'!$AM$87*Calcs!J207)),0)+IF(Calcs!L242=5,1/(1+('+Options'!$AG$134*Calcs!J236)+('+Options'!$AJ$87*Calcs!J207)),0)+IF(Calcs!L242=6,1/(1+('+Options'!$AG$134*Calcs!J236)+('+Options'!$AK$87*Calcs!J207)),0)+IF(Calcs!L242=7,1/(1+('+Options'!$AG$134*Calcs!J236)+('+Options'!$AL$87*Calcs!J207)),0)+IF(Calcs!L242=8,1/(1+('+Options'!$AG$134*Calcs!J236)+('+Options'!$AN$87*Calcs!J207)),0)+IF(Calcs!L242>8,1/(1+('+Options'!$AG$134+Calcs!J236)+'+Options'!$AG$139))))*IF(Calcs!W46>0,1-'+Options'!$AG$129,1)*IF(Calcs!W47>0,1-'+Options'!$AG$130,1)","v":477.75883770400759},{"$f":"('+Options'!$AG$131*'+Options'!$AG$134*Calcs!K236*(IF(Calcs!M242=1,1/(1+('+Options'!$AG$134*Calcs!K236)+('+Options'!$AG$87*Calcs!K207)),0)+IF(Calcs!M242=2,1/(1+('+Options'!$AG$134*Calcs!K236)+('+Options'!$AH$87*Calcs!K207)),0)+IF(Calcs!M242=3,1/(1+('+Options'!$AG$134*Calcs!K236)+('+Options'!$AI$87*Calcs!K207)),0)+IF(Calcs!M242=4,1/(1+('+Options'!$AG$134*Calcs!K236)+('+Options'!$AM$87*Calcs!K207)),0)+IF(Calcs!M242=5,1/(1+('+Options'!$AG$134*Calcs!K236)+('+Options'!$AJ$87*Calcs!K207)),0)+IF(Calcs!M242=6,1/(1+('+Options'!$AG$134*Calcs!K236)+('+Options'!$AK$87*Calcs!K207)),0)+IF(Calcs!M242=7,1/(1+('+Options'!$AG$134*Calcs!K236)+('+Options'!$AL$87*Calcs!K207)),0)+IF(Calcs!M242=8,1/(1+('+Options'!$AG$134*Calcs!K236)+('+Options'!$AN$87*Calcs!K207)),0)+IF(Calcs!M242>8,1/(1+('+Options'!$AG$134+Calcs!K236)+'+Options'!$AG$139))))*IF(Calcs!X46>0,1-'+Options'!$AG$129,1)*IF(Calcs!X47>0,1-'+Options'!$AG$130,1)","v":358.65404642781272},{"$f":"('+Options'!$AG$131*'+Options'!$AG$134*Calcs!L236*(IF(Calcs!N242=1,1/(1+('+Options'!$AG$134*Calcs!L236)+('+Options'!$AG$87*Calcs!L207)),0)+IF(Calcs!N242=2,1/(1+('+Options'!$AG$134*Calcs!L236)+('+Options'!$AH$87*Calcs!L207)),0)+IF(Calcs!N242=3,1/(1+('+Options'!$AG$134*Calcs!L236)+('+Options'!$AI$87*Calcs!L207)),0)+IF(Calcs!N242=4,1/(1+('+Options'!$AG$134*Calcs!L236)+('+Options'!$AM$87*Calcs!L207)),0)+IF(Calcs!N242=5,1/(1+('+Options'!$AG$134*Calcs!L236)+('+Options'!$AJ$87*Calcs!L207)),0)+IF(Calcs!N242=6,1/(1+('+Options'!$AG$134*Calcs!L236)+('+Options'!$AK$87*Calcs!L207)),0)+IF(Calcs!N242=7,1/(1+('+Options'!$AG$134*Calcs!L236)+('+Options'!$AL$87*Calcs!L207)),0)+IF(Calcs!N242=8,1/(1+('+Options'!$AG$134*Calcs!L236)+('+Options'!$AN$87*Calcs!L207)),0)+IF(Calcs!N242>8,1/(1+('+Options'!$AG$134+Calcs!L236)+'+Options'!$AG$139))))*IF(Calcs!Y46>0,1-'+Options'!$AG$129,1)*IF(Calcs!Y47>0,1-'+Options'!$AG$130,1)","v":660.40356644841825},null,"2002-08-01",0,{"$f":"'Bio results'!E21","v":192.72421999681666},null,"2002-08-01",null,null,null,"2002-08-01"]
[null,null,"Spring, seed produced per m2",{"$f":"D19","v":95.458419076204677},{"$f":"E19","v":176.13946999681667},237.94939952611395,243.84744755655421,180.70894204740293,348.76854532364092,471.11831630297218,477.75883770400759,358.65404642781272,660.40356644841825,"2000-10-01","2003-09-01",0,{"$f":"'Bio results'!F13","v":130},null,"2003-09-01",null,null,null,"2003-09-01"]
[null,null,"Just before harvest",{"$f":"D20+D18","v":108.31041907620468},192.72421999681666,268.74964952611396,286.49394755655419,205.12774204740293,381.93804532364095,532.71881630297219,563.05183770400754,407.49164642781273,724.37331644841822,"2000-11-01","2003-09-15",{"$f":"'Bio results'!F3","v":32.5},{"$f":"'Bio results'!F14","v":97.5},null,"2003-09-15",null,null,null,"2003-09-15"]
[null,null,"Seeds in soil after cover crop (/m2)",{"$f":"ROUND((D18+D20*Calcs!C228)*(1-'+Options'!$AG$128),-1)","v":70},{"$f":"ROUND((E18+E20*Calcs!D228)*(1-'+Options'!$AG$128),-1)","v":130},{"$f":"ROUND((F18+F20*Calcs!E228)*(1-'+Options'!$AG$128),-1)","v":180},{"$f":"ROUND((G18+G20*Calcs!F228)*(1-'+Options'!$AG$128),-1)","v":190},{"$f":"ROUND((H18+H20*Calcs!G228)*(1-'+Options'!$AG$128),-1)","v":140},{"$f":"ROUND((I18+I20*Calcs!H228)*(1-'+Options'!$AG$128),-1)","v":260},{"$f":"ROUND((J18+J20*Calcs!I228)*(1-'+Options'!$AG$128),-1)","v":360},{"$f":"ROUND((K18+K20*Calcs!J228)*(1-'+Options'!$AG$128),-1)","v":380},{"$f":"ROUND((L18+L20*Calcs!K228)*(1-'+Options'!$AG$128),-1)","v":270},{"$f":"ROUND((M18+M20*Calcs!L228)*(1-'+Options'!$AG$128),-1)","v":480},null,"2003-09-20",{"$f":"'Bio results'!F4","v":66.625},{"$f":"'Bio results'!F15","v":63.375},null,"2003-09-20",null,null,null,"2003-09-20"]
[null,null,null,null,null,null,null,null,null,null,null,null,null,null,"2003-10-01",{"$f":"'Bio results'!F5","v":82.46875},{"$f":"'Bio results'!F16","v":47.53125},null,"2003-10-01",null,null,null,"2003-10-01"]
[null,null,null,null,null,null,null,null,null,null,null,null,null,null,"2003-11-01",{"$f":"'Bio results'!F6","v":12.999999999999996},{"$f":"'Bio results'!F17","v":42.778125000000003},null,"2003-11-01",null,null,null,"2003-11-01"]
[null,null,null,null,null,null,null,null,null,null,null,null,null,null,"2003-06-01",{"$f":"'Bio results'!F7","v":8.8473124999999992},{"$f":"'Bio results'!F18","v":30.800250000000005},null,"2003-06-01",null,null,null,"2003-06-01"]
[null,null,null,null,null,null,null,null,null,null,null,null,null,null,{"$f":"O25+14","v":"2003-06-15"},{"$f":"'Bio results'!F8","v":1.8462774525000007},{"$f":"Q25","v":30.800250000000005},null,"2003-06-15",null,null,null,"2003-06-15"]
[null,null,"Table 3B. Yields",null,null,null,null,null,null,null,null,null,null,null,"2003-07-01",{"$f":"'Bio results'!F9","v":1.8462774525000007},{"$f":"'Bio results'!F20","v":237.94939952611395},null,"2003-07-01",null,null,null,"2003-07-01"]
[null,null,"Yield penalty from phytotoxicity",{"$f":"('+Options'!$AN$81)*Calcs!P42","v":0.04},{"$f":"('+Options'!$AN$81)*Calcs!Q42","v":0.02},{"$f":"('+Options'!$AN$81)*Calcs!R42","v":0.02},{"$f":"('+Options'!$AN$81)*Calcs!S42","v":0.02},{"$f":"('+Options'!$AN$81)*Calcs!T42","v":0.04},{"$f":"('+Options'!$AN$81)*Calcs!U42","v":0.02},{"$f":"('+Options'!$AN$81)*Calcs!V42","v":0.02},{"$f":"('+Options'!$AN$81)*Calcs!W42","v":0.02},{"$f":"('+Options'!$AN$81)*Calcs!X42","v":0.04},{"$f":"('+Options'!$AN$81)*Calcs!Y42","v":0.02},null,"2003-08-01",0,{"$f":"'Bio results'!F21","v":268.74964952611396},null,"2003-08-01",null,null,null,"2003-08-01"]
[null,null,"Optional, for later added penalty",0,0,0,0,0,0,0,0,0,0,null,"2004-09-01",0,{"$f":"'Bio results'!G13","v":180},null,"2004-09-01",null,null,null,"2004-09-01"]
[null,null,"Optional, for later added penalty",0,0,0,0,0,0,0,0,0,0,null,"2004-09-15",{"$f":"'Bio results'!G3","v":45},{"$f":"'Bio results'!G14","v":135},null,"2004-09-15",null,null,null,"2004-09-15"]
[null,null,"Optional, for later added penalty",0,0,0,0,0,0,0,0,0,0,null,"2004-09-20",{"$f":"'Bio results'!G4","v":51.75},{"$f":"'Bio results'!G15","v":87.75},null,"2004-09-20",null,null,null,"2004-09-20"]
[null,null,"Yield benefit following cover crops",{"$f":"IF(COUNTIF(Calcs!B22,\">=1\"),'+Options'!$AN$71,IF(COUNTIF(Calcs!B49,\">=1\"),'+Options'!$AN$71,0))","v":0},{"$f":"IF(COUNTIF(Calcs!C22,\">=1\"),'+Options'!$AN$71,IF(COUNTIF(Calcs!C49,\">=1\"),'+Options'!$AN$71,0))","v":0},{"$f":"IF(COUNTIF(Calcs!D22,\">=1\"),'+Options'!$AN$71,IF(COUNTIF(Calcs!D49,\">=1\"),'+Options'!$AN$71,0))","v":0},{"$f":"IF(COUNTIF(Calcs!E22,\">=1\"),'+Options'!$AN$71,IF(COUNTIF(Calcs!E49,\">=1\"),'+Options'!$AN$71,0))","v":0},{"$f":"IF(COUNTIF(Calcs!F22,\">=1\"),'+Options'!$AN$71,IF(COUNTIF(Calcs!F49,\">=1\"),'+Options'!$AN$71,0))","v":0},{"$f":"IF(COUNTIF(Calcs!G22,\">=1\"),'+Options'!$AN$71,IF(COUNTIF(Calcs!G49,\">=1\"),'+Options'!$AN$71,0))","v":0},{"$f":"IF(COUNTIF(Calcs!H22,\">=1\"),'+Options'!$AN$71,IF(COUNTIF(Calcs!H49,\">=1\"),'+Options'!$AN$71,0))","v":0},{"$f":"IF(COUNTIF(Calcs!I22,\">=1\"),'+Options'!$AN$71,IF(COUNTIF(Calcs!I49,\">=1\"),'+Options'!$AN$71,0))","v":0},{"$f":"IF(COUNTIF(Calcs!J22,\">=1\"),'+Options'!$AN$71,IF(COUNTIF(Calcs!J49,\">=1\"),'+Options'!$AN$71,0))","v":0},{"$f":"IF(COUNTIF(Calcs!K22,\">=1\"),'+Options'!$AN$71,IF(COUNTIF(Calcs!K49,\">=1\"),'+Options'!$AN$71,0))","v":0},null,"2004-10-01",{"$f":"'Bio results'!G5","v":73.6875},{"$f":"'Bio results'!G16","v":65.8125},null,"2004-10-01",null,null,null,"2004-10-01"]
[null,null,"Optional, for later added benefit",0,0,0,0,0,0,0,0,0,0,null,"2004-11-01",{"$f":"'Bio results'!G6","v":80.268749999999997},{"$f":"'Bio results'!G17","v":59.231250000000003},null,"2004-11-01",null,null,null,"2004-11-01"]
[null,null,"Optional, for later added benefit",0,0,0,0,0,0,0,0,0,0,null,"2004-06-01",{"$f":"'Bio results'!G7","v":34.137590625000001},{"$f":"'Bio results'!G18","v":42.646500000000003},null,"2004-06-01",null,null,null,"2004-06-01"]
[null,null,"Weed-free yield - Winter cereal (t/ha)",{"$f":"IF(Calcs!E242<4,VLOOKUP(Calcs!E251,Calcs!$C253:$L351,3)*(1-D$28-D$29-D$30-D$31+D32+D$33+D$34),0)","v":0},{"$f":"IF(Calcs!F242<4,VLOOKUP(Calcs!F251,Calcs!$C253:$L351,3)*(1-E$28-E$29-E$30-E$31+E32+E$33+E$34),0)","v":0},{"$f":"IF(Calcs!G242<4,VLOOKUP(Calcs!G251,Calcs!$C253:$L351,3)*(1-F$28-F$29-F$30-F$31+F32+F$33+F$34),0)","v":10.29},{"$f":"IF(Calcs!H242<4,VLOOKUP(Calcs!H251,Calcs!$C253:$L351,3)*(1-G$28-G$29-G$30-G$31+G32+G$33+G$34),0)","v":7.84},{"$f":"IF(Calcs!I242<4,VLOOKUP(Calcs!I251,Calcs!$C253:$L351,3)*(1-H$28-H$29-H$30-H$31+H32+H$33+H$34),0)","v":0},{"$f":"IF(Calcs!J242<4,VLOOKUP(Calcs!J251,Calcs!$C253:$L351,3)*(1-I$28-I$29-I$30-I$31+I32+I$33+I$34),0)","v":0},{"$f":"IF(Calcs!K242<4,VLOOKUP(Calcs!K251,Calcs!$C253:$L351,3)*(1-J$28-J$29-J$30-J$31+J32+J$33+J$34),0)","v":10.29},{"$f":"IF(Calcs!L242<4,VLOOKUP(Calcs!L251,Calcs!$C253:$L351,3)*(1-K$28-K$29-K$30-K$31+K32+K$33+K$34),0)","v":7.84},{"$f":"IF(Calcs!M242<4,VLOOKUP(Calcs!M251,Calcs!$C253:$L351,3)*(1-L$28-L$29-L$30-L$31+L32+L$33+L$34),0)","v":0},{"$f":"IF(Calcs!N242<4,VLOOKUP(Calcs!N251,Calcs!$C253:$L351,3)*(1-M$28-M$29-M$30-M$31+M32+M$33+M$34),0)","v":0},null,{"$f":"O34+14","v":"2004-06-15"},{"$f":"'Bio results'!G8","v":10.159331092312499},{"$f":"Q34","v":42.646500000000003},null,"2004-06-15",null,null,null,"2004-06-15"]
[null,null,"Weed-free yield - Spring cereal (t/ha)",{"$f":"IF(OR(Calcs!E242=5,Calcs!E242=6,Calcs!E242=7),VLOOKUP(Calcs!E251,Calcs!$C253:$L351,3)*(1-D$28-D$29-D$30-D$31+D32+D$33+D$34),0)","v":6.72},{"$f":"IF(OR(Calcs!F242=5,Calcs!F242=6,Calcs!F242=7),VLOOKUP(Calcs!F251,Calcs!$C253:$L351,3)*(1-E$28-E$29-E$30-E$31+E32+E$33+E$34),0)","v":0},{"$f":"IF(OR(Calcs!G242=5,Calcs!G242=6,Calcs!G242=7),VLOOKUP(Calcs!G251,Calcs!$C253:$L351,3)*(1-F$28-F$29-F$30-F$31+F32+F$33+F$34),0)","v":0},{"$f":"IF(OR(Calcs!H242=5,Calcs!H242=6,Calcs!H242=7),VLOOKUP(Calcs!H251,Calcs!$C253:$L351,3)*(1-G$28-G$29-G$30-G$31+G32+G$33+G$34),0)","v":0},{"$f":"IF(OR(Calcs!I242=5,Calcs!I242=6,Calcs!I242=7),VLOOKUP(Calcs!I251,Calcs!$C253:$L351,3)*(1-H$28-H$29-H$30-H$31+H32+H$33+H$34),0)","v":6.72},{"$f":"IF(OR(Calcs!J242=5,Calcs!J242=6,Calcs!J242=7),VLOOKUP(Calcs!J251,Calcs!$C253:$L351,3)*(1-I$28-I$29-I$30-I$31+I32+I$33+I$34),0)","v":0},{"$f":"IF(OR(Calcs!K242=5,Calcs!K242=6,Calcs!K242=7),VLOOKUP(Calcs!K251,Calcs!$C253:$L351,3)*(1-J$28-J$29-J$30-J$31+J32+J$33+J$34),0)","v":0},{"$f":"IF(OR(Calcs!L242=5,Calcs!L242=6,Calcs!L242=7),VLOOKUP(Calcs!L251,Calcs!$C253:$L351,3)*(1-K$28-K$29-K$30-K$31+K32+K$33+K$34),0)","v":0},{"$f":"IF(OR(Calcs!M242=5,Calcs!M242=6,Calcs!M242=7),VLOOKUP(Calcs!M251,Calcs!$C253:$L351,3)*(1-L$28-L$29-L$30-L$31+L32+L$33+L$34),0)","v":6.72},{"$f":"IF(OR(Calcs!N242=5,Calcs!N242=6,Calcs!N242=7),VLOOKUP(Calcs!N251,Calcs!$C253:$L351,3)*(1-M$28-M$29-M$30-M$31+M32+M$33+M$34),0)","v":0},null,"2004-07-01",{"$f":"'Bio results'!G9","v":10.159331092312499},{"$f":"'Bio results'!G20","v":243.84744755655421},null,"2004-07-01",null,null,null,"2004-07-01"]
[null,null,"Weed-free yield - Oilseed (t/ha)",{"$f":"IF(Calcs!E$242=4,VLOOKUP(Calcs!E$251,Calcs!$C253:$L351,3)*(1-D$28-D$29-D$30-D$31+D34+D$33+D$34),0)","v":0},{"$f":"IF(Calcs!F$242=4,VLOOKUP(Calcs!F$251,Calcs!$C253:$L351,3)*(1-E$28-E$29-E$30-E$31+E34+E$33+E$34),0)","v":4.41},{"$f":"IF(Calcs!G$242=4,VLOOKUP(Calcs!G$251,Calcs!$C253:$L351,3)*(1-F$28-F$29-F$30-F$31+F34+F$33+F$34),0)","v":0},{"$f":"IF(Calcs!H$242=4,VLOOKUP(Calcs!H$251,Calcs!$C253:$L351,3)*(1-G$28-G$29-G$30-G$31+G34+G$33+G$34),0)","v":0},{"$f":"IF(Calcs!I$242=4,VLOOKUP(Calcs!I$251,Calcs!$C253:$L351,3)*(1-H$28-H$29-H$30-H$31+H34+H$33+H$34),0)","v":0},{"$f":"IF(Calcs!J$242=4,VLOOKUP(Calcs!J$251,Calcs!$C253:$L351,3)*(1-I$28-I$29-I$30-I$31+I34+I$33+I$34),0)","v":4.41},{"$f":"IF(Calcs!K$242=4,VLOOKUP(Calcs!K$251,Calcs!$C253:$L351,3)*(1-J$28-J$29-J$30-J$31+J34+J$33+J$34),0)","v":0},{"$f":"IF(Calcs!L$242=4,VLOOKUP(Calcs!L$251,Calcs!$C253:$L351,3)*(1-K$28-K$29-K$30-K$31+K34+K$33+K$34),0)","v":0},{"$f":"IF(Calcs!M$242=4,VLOOKUP(Calcs!M$251,Calcs!$C253:$L351,3)*(1-L$28-L$29-L$30-L$31+L34+L$33+L$34),0)","v":0},{"$f":"IF(Calcs!N$242=4,VLOOKUP(Calcs!N$251,Calcs!$C253:$L351,3)*(1-M$28-M$29-M$30-M$31+M34+M$33+M$34),0)","v":4.41},null,"2004-08-01",0,{"$f":"'Bio results'!G21","v":286.49394755655419},null,"2004-08-01",null,null,null,"2004-08-01"]
[null,null,"Weed-free yield - Legumes (t/ha)",{"$f":"IF(Calcs!E$242=8,VLOOKUP(Calcs!E$251,Calcs!$C254:$L352,3)*(1-D$28-D$29-D$30-D$31+D35+D$33+D$34),0)","v":0},{"$f":"IF(Calcs!F$242=8,VLOOKUP(Calcs!F$251,Calcs!$C254:$L352,3)*(1-E$28-E$29-E$30-E$31+E35+E$33+E$34),0)","v":0},{"$f":"IF(Calcs!G$242=8,VLOOKUP(Calcs!G$251,Calcs!$C254:$L352,3)*(1-F$28-F$29-F$30-F$31+F35+F$33+F$34),0)","v":0},{"$f":"IF(Calcs!H$242=8,VLOOKUP(Calcs!H$251,Calcs!$C254:$L352,3)*(1-G$28-G$29-G$30-G$31+G35+G$33+G$34),0)","v":0},{"$f":"IF(Calcs!I$242=8,VLOOKUP(Calcs!I$251,Calcs!$C254:$L352,3)*(1-H$28-H$29-H$30-H$31+H35+H$33+H$34),0)","v":0},{"$f":"IF(Calcs!J$242=8,VLOOKUP(Calcs!J$251,Calcs!$C254:$L352,3)*(1-I$28-I$29-I$30-I$31+I35+I$33+I$34),0)","v":0},{"$f":"IF(Calcs!K$242=8,VLOOKUP(Calcs!K$251,Calcs!$C254:$L352,3)*(1-J$28-J$29-J$30-J$31+J35+J$33+J$34),0)","v":0},{"$f":"IF(Calcs!L$242=8,VLOOKUP(Calcs!L$251,Calcs!$C254:$L352,3)*(1-K$28-K$29-K$30-K$31+K35+K$33+K$34),0)","v":0},{"$f":"IF(Calcs!M$242=8,VLOOKUP(Calcs!M$251,Calcs!$C254:$L352,3)*(1-L$28-L$29-L$30-L$31+L35+L$33+L$34),0)","v":0},{"$f":"IF(Calcs!N$242=8,VLOOKUP(Calcs!N$251,Calcs!$C254:$L352,3)*(1-M$28-M$29-M$30-M$31+M35+M$33+M$34),0)","v":0},null,"2005-09-01",0,{"$f":"'Bio results'!H13","v":190},null,"2005-09-01",null,null,null,"2005-09-01"]
[null,"Not currently used for calcualtions","Crop plant density - Winter cereals (plants/m2)",{"$f":"IF(Calcs!E242<4,IF(Calcs!C21<>\"\",'+Options'!$AG$61,IF(Calcs!C20<>\"\",'+Options'!$AG$60,'+Options'!$AG$59)),0)","v":0},{"$f":"IF(Calcs!F242<4,IF(Calcs!D21<>\"\",'+Options'!$AG$61,IF(Calcs!D20<>\"\",'+Options'!$AG$60,'+Options'!$AG$59)),0)","v":0},{"$f":"IF(Calcs!G242<4,IF(Calcs!E21<>\"\",'+Options'!$AG$61,IF(Calcs!E20<>\"\",'+Options'!$AG$60,'+Options'!$AG$59)),0)","v":396.42857142857144},{"$f":"IF(Calcs!H242<4,IF(Calcs!F21<>\"\",'+Options'!$AG$61,IF(Calcs!F20<>\"\",'+Options'!$AG$60,'+Options'!$AG$59)),0)","v":226.19047619047618},{"$f":"IF(Calcs!I242<4,IF(Calcs!G21<>\"\",'+Options'!$AG$61,IF(Calcs!G20<>\"\",'+Options'!$AG$60,'+Options'!$AG$59)),0)","v":0},{"$f":"IF(Calcs!J242<4,IF(Calcs!H21<>\"\",'+Options'!$AG$61,IF(Calcs!H20<>\"\",'+Options'!$AG$60,'+Options'!$AG$59)),0)","v":0},{"$f":"IF(Calcs!K242<4,IF(Calcs!I21<>\"\",'+Options'!$AG$61,IF(Calcs!I20<>\"\",'+Options'!$AG$60,'+Options'!$AG$59)),0)","v":396.42857142857144},{"$f":"IF(Calcs!L242<4,IF(Calcs!J21<>\"\",'+Options'!$AG$61,IF(Calcs!J20<>\"\",'+Options'!$AG$60,'+Options'!$AG$59)),0)","v":226.19047619047618},{"$f":"IF(Calcs!M242<4,IF(Calcs!K21<>\"\",'+Options'!$AG$61,IF(Calcs!K20<>\"\",'+Options'!$AG$60,'+Options'!$AG$59)),0)","v":0},{"$f":"IF(Calcs!N242<4,IF(Calcs!L21<>\"\",'+Options'!$AG$61,IF(Calcs!L20<>\"\",'+Options'!$AG$60,'+Options'!$AG$59)),0)","v":0},null,"2005-09-15",{"$f":"'Bio results'!H3","v":136.79999999999998},{"$f":"'Bio results'!H14","v":53.2},null,"2005-09-15",null,null,null,"2005-09-15"]
[null,"Not currently used for calcualtions","Crop plant density - Spring cereals (plants/m2)",{"$f":"IF(OR(Calcs!E242=5,Calcs!E242=6,Calcs!E242=7),IF(Calcs!C48<>\"\",'+Options'!$AJ$61,IF(Calcs!C47<>\"\",'+Options'!$AJ$60,'+Options'!$AJ$59)),0)","v":266},{"$f":"IF(OR(Calcs!F242=5,Calcs!F242=6,Calcs!F242=7),IF(Calcs!D48<>\"\",'+Options'!$AJ$61,IF(Calcs!D47<>\"\",'+Options'!$AJ$60,'+Options'!$AJ$59)),0)","v":0},{"$f":"IF(OR(Calcs!G242=5,Calcs!G242=6,Calcs!G242=7),IF(Calcs!E48<>\"\",'+Options'!$AJ$61,IF(Calcs!E47<>\"\",'+Options'!$AJ$60,'+Options'!$AJ$59)),0)","v":0},{"$f":"IF(OR(Calcs!H242=5,Calcs!H242=6,Calcs!H242=7),IF(Calcs!F48<>\"\",'+Options'!$AJ$61,IF(Calcs!F47<>\"\",'+Options'!$AJ$60,'+Options'!$AJ$59)),0)","v":0},{"$f":"IF(OR(Calcs!I242=5,Calcs!I242=6,Calcs!I242=7),IF(Calcs!G48<>\"\",'+Options'!$AJ$61,IF(Calcs!G47<>\"\",'+Options'!$AJ$60,'+Options'!$AJ$59)),0)","v":266},{"$f":"IF(OR(Calcs!J242=5,Calcs!J242=6,Calcs!J242=7),IF(Calcs!H48<>\"\",'+Options'!$AJ$61,IF(Calcs!H47<>\"\",'+Options'!$AJ$60,'+Options'!$AJ$59)),0)","v":0},{"$f":"IF(OR(Calcs!K242=5,Calcs!K242=6,Calcs!K242=7),IF(Calcs!I48<>\"\",'+Options'!$AJ$61,IF(Calcs!I47<>\"\",'+Options'!$AJ$60,'+Options'!$AJ$59)),0)","v":0},{"$f":"IF(OR(Calcs!L242=5,Calcs!L242=6,Calcs!L242=7),IF(Calcs!J48<>\"\",'+Options'!$AJ$61,IF(Calcs!J47<>\"\",'+Options'!$AJ$60,'+Options'!$AJ$59)),0)","v":0},{"$f":"IF(OR(Calcs!M242=5,Calcs!M242=6,Calcs!M242=7),IF(Calcs!K48<>\"\",'+Options'!$AJ$61,IF(Calcs!K47<>\"\",'+Options'!$AJ$60,'+Options'!$AJ$59)),0)","v":266},{"$f":"IF(OR(Calcs!N242=5,Calcs!N242=6,Calcs!N242=7),IF(Calcs!L48<>\"\",'+Options'!$AJ$61,IF(Calcs!L47<>\"\",'+Options'!$AJ$60,'+Options'!$AJ$59)),0)","v":0},null,"2005-09-20",{"$f":"'Bio results'!H4","v":26.979999999999997},{"$f":"'Bio results'!H15","v":39.900000000000006},null,"2005-09-20",null,null,null,"2005-09-20"]
[null,"Not currently used for calcualtions","Crop plant density - Oilseed (plants/m2)",{"$f":"IF(Calcs!E242=4,IF(Calcs!C21<>\"\",'+Options'!$AM$61,IF(Calcs!C20<>\"\",'+Options'!$AM$60,'+Options'!$AM$59)),0)","v":0},{"$f":"IF(Calcs!F242=4,IF(Calcs!D21<>\"\",'+Options'!$AM$61,IF(Calcs!D20<>\"\",'+Options'!$AM$60,'+Options'!$AM$59)),0)","v":49.999999999999993},{"$f":"IF(Calcs!G242=4,IF(Calcs!E21<>\"\",'+Options'!$AM$61,IF(Calcs!E20<>\"\",'+Options'!$AM$60,'+Options'!$AM$59)),0)","v":0},{"$f":"IF(Calcs!H242=4,IF(Calcs!F21<>\"\",'+Options'!$AM$61,IF(Calcs!F20<>\"\",'+Options'!$AM$60,'+Options'!$AM$59)),0)","v":0},{"$f":"IF(Calcs!I242=4,IF(Calcs!G21<>\"\",'+Options'!$AM$61,IF(Calcs!G20<>\"\",'+Options'!$AM$60,'+Options'!$AM$59)),0)","v":0},{"$f":"IF(Calcs!J242=4,IF(Calcs!H21<>\"\",'+Options'!$AM$61,IF(Calcs!H20<>\"\",'+Options'!$AM$60,'+Options'!$AM$59)),0)","v":49.999999999999993},{"$f":"IF(Calcs!K242=4,IF(Calcs!I21<>\"\",'+Options'!$AM$61,IF(Calcs!I20<>\"\",'+Options'!$AM$60,'+Options'!$AM$59)),0)","v":0},{"$f":"IF(Calcs!L242=4,IF(Calcs!J21<>\"\",'+Options'!$AM$61,IF(Calcs!J20<>\"\",'+Options'!$AM$60,'+Options'!$AM$59)),0)","v":0},{"$f":"IF(Calcs!M242=4,IF(Calcs!K21<>\"\",'+Options'!$AM$61,IF(Calcs!K20<>\"\",'+Options'!$AM$60,'+Options'!$AM$59)),0)","v":0},{"$f":"IF(Calcs!N242=4,IF(Calcs!L21<>\"\",'+Options'!$AM$61,IF(Calcs!L20<>\"\",'+Options'!$AM$60,'+Options'!$AM$59)),0)","v":49.999999999999993},null,"2005-10-01",{"$f":"'Bio results'!H5","v":32.964999999999996},{"$f":"'Bio results'!H16","v":33.915000000000006},null,"2005-10-01",null,null,null,"2005-10-01"]
[null,"Not currently used for calcualtions","Crop plant density - Legumes (plants/m2)",{"$f":"IF(Calcs!E242=8,IF(Calcs!C48<>\"\",'+Options'!$AN$61,IF(Calcs!C47<>\"\",'+Options'!$AN$60,'+Options'!$AN$59)),0)","v":0},{"$f":"IF(Calcs!F242=8,IF(Calcs!D48<>\"\",'+Options'!$AN$61,IF(Calcs!D47<>\"\",'+Options'!$AN$60,'+Options'!$AN$59)),0)","v":0},{"$f":"IF(Calcs!G242=8,IF(Calcs!E48<>\"\",'+Options'!$AN$61,IF(Calcs!E47<>\"\",'+Options'!$AN$60,'+Options'!$AN$59)),0)","v":0},{"$f":"IF(Calcs!H242=8,IF(Calcs!F48<>\"\",'+Options'!$AN$61,IF(Calcs!F47<>\"\",'+Options'!$AN$60,'+Options'!$AN$59)),0)","v":0},{"$f":"IF(Calcs!I242=8,IF(Calcs!G48<>\"\",'+Options'!$AN$61,IF(Calcs!G47<>\"\",'+Options'!$AN$60,'+Options'!$AN$59)),0)","v":0},{"$f":"IF(Calcs!J242=8,IF(Calcs!H48<>\"\",'+Options'!$AN$61,IF(Calcs!H47<>\"\",'+Options'!$AN$60,'+Options'!$AN$59)),0)","v":0},{"$f":"IF(Calcs!K242=8,IF(Calcs!I48<>\"\",'+Options'!$AN$61,IF(Calcs!I47<>\"\",'+Options'!$AN$60,'+Options'!$AN$59)),0)","v":0},{"$f":"IF(Calcs!L242=8,IF(Calcs!J48<>\"\",'+Options'!$AN$61,IF(Calcs!J47<>\"\",'+Options'!$AN$60,'+Options'!$AN$59)),0)","v":0},{"$f":"IF(Calcs!M242=8,IF(Calcs!K48<>\"\",'+Options'!$AN$61,IF(Calcs!K47<>\"\",'+Options'!$AN$60,'+Options'!$AN$59)),0)","v":0},{"$f":"IF(Calcs!N242=8,IF(Calcs!L48<>\"\",'+Options'!$AN$61,IF(Calcs!L47<>\"\",'+Options'!$AN$60,'+Options'!$AN$59)),0)","v":0},null,"2005-11-01",{"$f":"'Bio results'!H6","v":32.964999999999996},{"$f":"'Bio results'!H17","v":33.915000000000006},null,"2005-11-01",null,null,null,"2005-11-01"]
[null,null,"Prop'n of weed-free yield with weeds - Winter cereals",{"$f":"IF(Calcs!E242=1,1-('+Options'!$AG$90*D8/(1+'+Options'!$AG$90*D8/'+Options'!$AG$86)),IF(Calcs!E242=2,1-('+Options'!$AH$90*D8/(1+'+Options'!$AH$90*D8/'+Options'!$AH$86)),IF(Calcs!E242=3,1-('+Options'!$AI$90*D8/(1+'+Options'!$AI$90*D8/'+Options'!$AI$86)),0)))","v":0},{"$f":"IF(Calcs!F242=1,1-('+Options'!$AG$90*E8/(1+'+Options'!$AG$90*E8/'+Options'!$AG$86)),IF(Calcs!F242=2,1-('+Options'!$AH$90*E8/(1+'+Options'!$AH$90*E8/'+Options'!$AH$86)),IF(Calcs!F242=3,1-('+Options'!$AI$90*E8/(1+'+Options'!$AI$90*E8/'+Options'!$AI$86)),0)))","v":0},{"$f":"IF(Calcs!G242=1,1-('+Options'!$AG$90*F8/(1+'+Options'!$AG$90*F8/'+Options'!$AG$86)),IF(Calcs!G242=2,1-('+Options'!$AH$90*F8/(1+'+Options'!$AH$90*F8/'+Options'!$AH$86)),IF(Calcs!G242=3,1-('+Options'!$AI$90*F8/(1+'+Options'!$AI$90*F8/'+Options'!$AI$86)),0)))","v":0.98208838887108763},{"$f":"IF(Calcs!H242=1,1-('+Options'!$AG$90*G8/(1+'+Options'!$AG$90*G8/'+Options'!$AG$86)),IF(Calcs!H242=2,1-('+Options'!$AH$90*G8/(1+'+Options'!$AH$90*G8/'+Options'!$AH$86)),IF(Calcs!H242=3,1-('+Options'!$AI$90*G8/(1+'+Options'!$AI$90*G8/'+Options'!$AI$86)),0)))","v":0.91311777691598595},{"$f":"IF(Calcs!I242=1,1-('+Options'!$AG$90*H8/(1+'+Options'!$AG$90*H8/'+Options'!$AG$86)),IF(Calcs!I242=2,1-('+Options'!$AH$90*H8/(1+'+Options'!$AH$90*H8/'+Options'!$AH$86)),IF(Calcs!I242=3,1-('+Options'!$AI$90*H8/(1+'+Options'!$AI$90*H8/'+Options'!$AI$86)),0)))","v":0},{"$f":"IF(Calcs!J242=1,1-('+Options'!$AG$90*I8/(1+'+Options'!$AG$90*I8/'+Options'!$AG$86)),IF(Calcs!J242=2,1-('+Options'!$AH$90*I8/(1+'+Options'!$AH$90*I8/'+Options'!$AH$86)),IF(Calcs!J242=3,1-('+Options'!$AI$90*I8/(1+'+Options'!$AI$90*I8/'+Options'!$AI$86)),0)))","v":0},{"$f":"IF(Calcs!K242=1,1-('+Options'!$AG$90*J8/(1+'+Options'!$AG$90*J8/'+Options'!$AG$86)),IF(Calcs!K242=2,1-('+Options'!$AH$90*J8/(1+'+Options'!$AH$90*J8/'+Options'!$AH$86)),IF(Calcs!K242=3,1-('+Options'!$AI$90*J8/(1+'+Options'!$AI$90*J8/'+Options'!$AI$86)),0)))","v":0.96521519750142604},{"$f":"IF(Calcs!L242=1,1-('+Options'!$AG$90*K8/(1+'+Options'!$AG$90*K8/'+Options'!$AG$86)),IF(Calcs!L242=2,1-('+Options'!$AH$90*K8/(1+'+Options'!$AH$90*K8/'+Options'!$AH$86)),IF(Calcs!L242=3,1-('+Options'!$AI$90*K8/(1+'+Options'!$AI$90*K8/'+Options'!$AI$86)),0)))","v":0.84821463680817266},{"$f":"IF(Calcs!M242=1,1-('+Options'!$AG$90*L8/(1+'+Options'!$AG$90*L8/'+Options'!$AG$86)),IF(Calcs!M242=2,1-('+Options'!$AH$90*L8/(1+'+Options'!$AH$90*L8/'+Options'!$AH$86)),IF(Calcs!M242=3,1-('+Options'!$AI$90*L8/(1+'+Options'!$AI$90*L8/'+Options'!$AI$86)),0)))","v":0},{"$f":"IF(Calcs!N242=1,1-('+Options'!$AG$90*M8/(1+'+Options'!$AG$90*M8/'+Options'!$AG$86)),IF(Calcs!N242=2,1-('+Options'!$AH$90*M8/(1+'+Options'!$AH$90*M8/'+Options'!$AH$86)),IF(Calcs!N242=3,1-('+Options'!$AI$90*M8/(1+'+Options'!$AI$90*M8/'+Options'!$AI$86)),0)))","v":0},null,"2005-06-01",{"$f":"'Bio results'!H7","v":36.356499999999997},{"$f":"'Bio results'!H18","v":24.418800000000005},null,"2005-06-01",null,null,null,"2005-06-01"]
[null,null,"Prop'n of weed-free yield with weeds - Spring cereals",{"$f":"IF(Calcs!E243=5,1-('+Options'!$AJ$90*D8/(1+'+Options'!$AJ$90*D8/'+Options'!$AJ$86)),IF(Calcs!E243=6,1-('+Options'!$AK$90*D8/(1+'+Options'!$AK$90*D8/'+Options'!$AK$86)),IF(Calcs!E243=7,1-('+Options'!$AL$90*D8/(1+'+Options'!$AL$90*D8/'+Options'!$AL$86)),0)))","v":0.96987936585899293},{"$f":"IF(Calcs!F243=5,1-('+Options'!$AJ$90*E8/(1+'+Options'!$AJ$90*E8/'+Options'!$AJ$86)),IF(Calcs!F243=6,1-('+Options'!$AK$90*E8/(1+'+Options'!$AK$90*E8/'+Options'!$AK$86)),IF(Calcs!F243=7,1-('+Options'!$AL$90*E8/(1+'+Options'!$AL$90*E8/'+Options'!$AL$86)),0)))","v":0},{"$f":"IF(Calcs!G243=5,1-('+Options'!$AJ$90*F8/(1+'+Options'!$AJ$90*F8/'+Options'!$AJ$86)),IF(Calcs!G243=6,1-('+Options'!$AK$90*F8/(1+'+Options'!$AK$90*F8/'+Options'!$AK$86)),IF(Calcs!G243=7,1-('+Options'!$AL$90*F8/(1+'+Options'!$AL$90*F8/'+Options'!$AL$86)),0)))","v":0},{"$f":"IF(Calcs!H243=5,1-('+Options'!$AJ$90*G8/(1+'+Options'!$AJ$90*G8/'+Options'!$AJ$86)),IF(Calcs!H243=6,1-('+Options'!$AK$90*G8/(1+'+Options'!$AK$90*G8/'+Options'!$AK$86)),IF(Calcs!H243=7,1-('+Options'!$AL$90*G8/(1+'+Options'!$AL$90*G8/'+Options'!$AL$86)),0)))","v":0},{"$f":"IF(Calcs!I243=5,1-('+Options'!$AJ$90*H8/(1+'+Options'!$AJ$90*H8/'+Options'!$AJ$86)),IF(Calcs!I243=6,1-('+Options'!$AK$90*H8/(1+'+Options'!$AK$90*H8/'+Options'!$AK$86)),IF(Calcs!I243=7,1-('+Options'!$AL$90*H8/(1+'+Options'!$AL$90*H8/'+Options'!$AL$86)),0)))","v":0.94602246999812967},{"$f":"IF(Calcs!J243=5,1-('+Options'!$AJ$90*I8/(1+'+Options'!$AJ$90*I8/'+Options'!$AJ$86)),IF(Calcs!J243=6,1-('+Options'!$AK$90*I8/(1+'+Options'!$AK$90*I8/'+Options'!$AK$86)),IF(Calcs!J243=7,1-('+Options'!$AL$90*I8/(1+'+Options'!$AL$90*I8/'+Options'!$AL$86)),0)))","v":0},{"$f":"IF(Calcs!K243=5,1-('+Options'!$AJ$90*J8/(1+'+Options'!$AJ$90*J8/'+Options'!$AJ$86)),IF(Calcs!K243=6,1-('+Options'!$AK$90*J8/(1+'+Options'!$AK$90*J8/'+Options'!$AK$86)),IF(Calcs!K243=7,1-('+Options'!$AL$90*J8/(1+'+Options'!$AL$90*J8/'+Options'!$AL$86)),0)))","v":0},{"$f":"IF(Calcs!L243=5,1-('+Options'!$AJ$90*K8/(1+'+Options'!$AJ$90*K8/'+Options'!$AJ$86)),IF(Calcs!L243=6,1-('+Options'!$AK$90*K8/(1+'+Options'!$AK$90*K8/'+Options'!$AK$86)),IF(Calcs!L243=7,1-('+Options'!$AL$90*K8/(1+'+Options'!$AL$90*K8/'+Options'!$AL$86)),0)))","v":0},{"$f":"IF(Calcs!M243=5,1-('+Options'!$AJ$90*L8/(1+'+Options'!$AJ$90*L8/'+Options'!$AJ$86)),IF(Calcs!M243=6,1-('+Options'!$AK$90*L8/(1+'+Options'!$AK$90*L8/'+Options'!$AK$86)),IF(Calcs!M243=7,1-('+Options'!$AL$90*L8/(1+'+Options'!$AL$90*L8/'+Options'!$AL$86)),0)))","v":0.90360725605861236},{"$f":"IF(Calcs!N243=5,1-('+Options'!$AJ$90*M8/(1+'+Options'!$AJ$90*M8/'+Options'!$AJ$86)),IF(Calcs!N243=6,1-('+Options'!$AK$90*M8/(1+'+Options'!$AK$90*M8/'+Options'!$AK$86)),IF(Calcs!N243=7,1-('+Options'!$AL$90*M8/(1+'+Options'!$AL$90*M8/'+Options'!$AL$86)),0)))","v":0},null,{"$f":"O43+14","v":"2005-06-15"},{"$f":"'Bio results'!H8","v":6.1334622000000012},{"$f":"Q43","v":24.418800000000005},null,"2005-06-15",null,null,null,"2005-06-15"]
[null,null,"Prop'n of weed-free yield with weeds - Oilseed",{"$f":"IF(Calcs!E244=4,1-('+Options'!$AM$90*D8/(1+'+Options'!$AM$90*D8/'+Options'!$AM$86)),0)","v":0},{"$f":"IF(Calcs!F244=4,1-('+Options'!$AM$90*E8/(1+'+Options'!$AM$90*E8/'+Options'!$AM$86)),0)","v":0.97511931621785397},{"$f":"IF(Calcs!G244=4,1-('+Options'!$AM$90*F8/(1+'+Options'!$AM$90*F8/'+Options'!$AM$86)),0)","v":0},{"$f":"IF(Calcs!H244=4,1-('+Options'!$AM$90*G8/(1+'+Options'!$AM$90*G8/'+Options'!$AM$86)),0)","v":0},{"$f":"IF(Calcs!I244=4,1-('+Options'!$AM$90*H8/(1+'+Options'!$AM$90*H8/'+Options'!$AM$86)),0)","v":0},{"$f":"IF(Calcs!J244=4,1-('+Options'!$AM$90*I8/(1+'+Options'!$AM$90*I8/'+Options'!$AM$86)),0)","v":0.95284580702338251},{"$f":"IF(Calcs!K244=4,1-('+Options'!$AM$90*J8/(1+'+Options'!$AM$90*J8/'+Options'!$AM$86)),0)","v":0},{"$f":"IF(Calcs!L244=4,1-('+Options'!$AM$90*K8/(1+'+Options'!$AM$90*K8/'+Options'!$AM$86)),0)","v":0},{"$f":"IF(Calcs!M244=4,1-('+Options'!$AM$90*L8/(1+'+Options'!$AM$90*L8/'+Options'!$AM$86)),0)","v":0},{"$f":"IF(Calcs!N244=4,1-('+Options'!$AM$90*M8/(1+'+Options'!$AM$90*M8/'+Options'!$AM$86)),0)","v":0.9171238144072944},null,"2005-07-01",{"$f":"'Bio results'!H9","v":6.1334622000000012},{"$f":"'Bio results'!H20","v":180.70894204740293},null,"2005-07-01",null,null,null,"2005-07-01"]
[null,null,"Prop'n of weed-free yield with weeds - Legumes",{"$f":"IF(Calcs!E245=8,1-('+Options'!$AN$90*D8/(1+'+Options'!$AN$90*D8/'+Options'!$AN$86)),0)","v":0},{"$f":"IF(Calcs!F245=8,1-('+Options'!$AN$90*E8/(1+'+Options'!$AN$90*E8/'+Options'!$AN$86)),0)","v":0},{"$f":"IF(Calcs!G245=8,1-('+Options'!$AN$90*F8/(1+'+Options'!$AN$90*F8/'+Options'!$AN$86)),0)","v":0},{"$f":"IF(Calcs!H245=8,1-('+Options'!$AN$90*G8/(1+'+Options'!$AN$90*G8/'+Options'!$AN$86)),0)","v":0},{"$f":"IF(Calcs!I245=8,1-('+Options'!$AN$90*H8/(1+'+Options'!$AN$90*H8/'+Options'!$AN$86)),0)","v":0},{"$f":"IF(Calcs!J245=8,1-('+Options'!$AN$90*I8/(1+'+Options'!$AN$90*I8/'+Options'!$AN$86)),0)","v":0},{"$f":"IF(Calcs!K245=8,1-('+Options'!$AN$90*J8/(1+'+Options'!$AN$90*J8/'+Options'!$AN$86)),0)","v":0},{"$f":"IF(Calcs!L245=8,1-('+Options'!$AN$90*K8/(1+'+Options'!$AN$90*K8/'+Options'!$AN$86)),0)","v":0},{"$f":"IF(Calcs!M245=8,1-('+Options'!$AN$90*L8/(1+'+Options'!$AN$90*L8/'+Options'!$AN$86)),0)","v":0},{"$f":"IF(Calcs!N245=8,1-('+Options'!$AN$90*M8/(1+'+Options'!$AN$90*M8/'+Options'!$AN$86)),0)","v":0},null,"2005-08-01",0,{"$f":"'Bio results'!H21","v":205.12774204740293},null,"2005-08-01",null,null,null,"2005-08-01"]
[null,null,"Winter cereals yield after weeds, haying, etc. (t/ha)",{"$f":"D35*D43","v":0},{"$f":"E35*E43","v":0},10.105689521483491,7.1588433710213293,0,0,9.9320643822896724,6.6500027525760732,0,0,null,"2006-09-01",0,{"$f":"'Bio results'!I13","v":140},null,"2006-09-01",null,null,null,"2006-09-01"]
[null,null,"Spring cereals yield after weeds, haying, etc. (t/ha)",{"$f":"D36*D44","v":6.5175893385724324},{"$f":"E36*E44","v":0},0,0,6.3572709983874311,0,0,0,6.0722407607138749,0,null,"2006-09-15",{"$f":"'Bio results'!I3","v":35},{"$f":"'Bio results'!I14","v":105},null,"2006-09-15",null,null,null,"2006-09-15"]
[null,null,"Oilseed yield after weeds, haying, etc. (t/ha)",{"$f":"D37*D45","v":0},{"$f":"E37*E45","v":4.3002761845207358},0,0,0,4.2020500089731172,0,0,0,4.0445160215361682,null,"2006-09-20",{"$f":"'Bio results'!I4","v":40.25},{"$f":"'Bio results'!I15","v":68.25},null,"2006-09-20",null,null,null,"2006-09-20"]
[null,null,"Legume yield after weeds, haying, etc. (t/ha)",{"$f":"D38*D46","v":0},{"$f":"E38*E46","v":0},0,0,0,0,0,0,0,0,null,"2006-10-01",{"$f":"'Bio results'!I5","v":57.3125},{"$f":"'Bio results'!I16","v":51.1875},null,"2006-10-01",null,null,null,"2006-10-01"]
[null,null,null,null,null,null,null,null,null,null,null,null,null,null,"2006-11-01",{"$f":"'Bio results'!I6","v":62.431249999999999},{"$f":"'Bio results'!I17","v":46.068750000000001},null,"2006-11-01",null,null,null,"2006-11-01"]
[null,null,null,null,null,null,null,null,null,null,null,null,null,null,"2006-06-01",{"$f":"'Bio results'!I7","v":63.916562499999998},{"$f":"'Bio results'!I18","v":33.169499999999999},null,"2006-06-01",null,null,null,"2006-06-01"]
[null,null,null,null,null,null,null,null,null,null,null,null,null,null,{"$f":"O52+14","v":"2006-06-15"},{"$f":"'Bio results'!I8","v":5.2673718999999979},{"$f":"Q52","v":33.169499999999999},null,"2006-06-15",null,null,null,"2006-06-15"]
[null,null,null,null,null,null,null,null,null,null,null,null,null,null,"2006-07-01",{"$f":"'Bio results'!I9","v":5.2673718999999979},{"$f":"'Bio results'!I20","v":348.76854532364092},null,"2006-07-01",null,null,null,"2006-07-01"]
[null,null,null,null,null,null,null,null,null,null,null,null,null,null,"2006-08-01",0,{"$f":"'Bio results'!I21","v":381.93804532364095},null,"2006-08-01",null,null,null,"2006-08-01"]
[null,null,"Table 4. Yield and RG summary for outputs",null,null,null,null,null,null,null,null,null,null,null,"2007-09-01",0,{"$f":"'Bio results'!J13","v":260},null,"2007-09-01",null,null,null,"2007-09-01"]
[null,null,"Weed-free yield - Winter cereal (t/ha)",{"$f":"IF(D35<>0,D35,\"\")","v":""},"",10.29,7.84,"","",10.29,7.84,"","",null,"2007-09-15",{"$f":"'Bio results'!J3","v":65},{"$f":"'Bio results'!J14","v":195},null,"2007-09-15",null,null,null,"2007-09-15"]
[null,null,"Weed-free yield - Spring cereal (t/ha)",{"$f":"IF(D36<>0,D36,\"\")","v":6.72},"","","",6.72,"","","",6.72,"",null,"2007-09-20",{"$f":"'Bio results'!J4","v":133.25},{"$f":"'Bio results'!J15","v":126.75},null,"2007-09-20",null,null,null,"2007-09-20"]
[null,null,"Weed-free yield - Oilseed (t/ha)",{"$f":"IF(D37<>0,D37,\"\")","v":""},4.41,"","","",4.41,"","","",4.41,null,"2007-10-01",{"$f":"'Bio results'!J5","v":164.9375},{"$f":"'Bio results'!J16","v":95.0625},null,"2007-10-01",null,null,null,"2007-10-01"]
[null,null,"Weed-free yield - Legumes (t/ha)",{"$f":"IF(D38<>0,D38,\"\")","v":""},"","","","","","","","","",null,"2007-11-01",{"$f":"'Bio results'!J6","v":25.999999999999993},{"$f":"'Bio results'!J17","v":85.556250000000006},null,"2007-11-01",null,null,null,"2007-11-01"]
[null,null,"Winter cereal yield after weeds (t/ha)",{"$f":"IF(D35*D43<>0,IF(D43>1,D35,D35*D43),\"\")","v":""},"",10.105689521483491,7.1588433710213293,"","",9.9320643822896724,6.6500027525760732,"","",null,"2007-06-01",{"$f":"'Bio results'!J7","v":17.694624999999998},{"$f":"'Bio results'!J18","v":61.600500000000011},null,"2007-06-01",null,null,null,"2007-06-01"]
[null,null,"Spring cereal yield after weeds (t/ha)",{"$f":"IF(D36*D44<>0,IF(D44>1,D36,D36*D44),\"\")","v":6.5175893385724324},"","","",6.3572709983874311,"","","",6.0722407607138749,"",null,{"$f":"O61+14","v":"2007-06-15"},{"$f":"'Bio results'!J8","v":3.6925549050000015},{"$f":"Q61","v":61.600500000000011},null,"2007-06-15",null,null,null,"2007-06-15"]
[null,null,"Oilseed yield after weeds. (t/ha)",{"$f":"IF(D37*D45<>0,IF(D45>1,D37,D37*D45),\"\")","v":""},4.3002761845207358,"","","",4.2020500089731172,"","","",4.0445160215361682,null,"2007-07-01",{"$f":"'Bio results'!J9","v":3.6925549050000015},{"$f":"'Bio results'!J20","v":471.11831630297218},null,"2007-07-01",null,null,null,"2007-07-01"]
[null,null,"Legumes yield after weeds (t/ha)",{"$f":"IF(D38*D46<>0,IF(D46>1,D38,D38*D46),\"\")","v":""},"","","","","","","","","",null,"2007-08-01",0,{"$f":"'Bio results'!J21","v":532.71881630297219},null,"2007-08-01",null,null,null,"2007-08-01"]
[null,null,"number of crops",{"$f":"COUNT(D57:M57)","v":4},{"$f":"COUNT(D58:M58)","v":3},{"$f":"COUNT(D59:M59)","v":3},{"$f":"COUNT(D60:M60)","v":0},null,null,null,null,null,null,null,"2008-09-01",0,{"$f":"'Bio results'!K13","v":360},null,"2008-09-01",null,null,null,"2008-09-01"]
[null,null,"Enterprise (number of crops)",{"$f":"\"Vintersæd (\"&COUNT(D57:M57)&\")\"","v":"Vintersæd (4)"},{"$f":"\"vårsæd (\"&COUNT(D58:M58)&\")\"","v":"vårsæd (3)"},{"$f":"\"Raps (\"&COUNT(D59:M59)&\")\"","v":"Raps (3)"},{"$f":"\"Bælgsæd (\"&COUNT(D60:M60)&\")\"","v":"Bælgsæd (0)"},null,null,null,null,null,null,null,"2008-09-15",{"$f":"'Bio results'!K3","v":90},{"$f":"'Bio results'!K14","v":270},null,"2008-09-15",null,null,null,"2008-09-15"]
[null,null,"  Gennemnitligt ukrudtsfrit udbytte (Som indtastet i Profil)",{"$f":"'1.Profile'!D7","v":10},{"$f":"'1.Profile'!E7","v":8},{"$f":"'1.Profile'!F7","v":8},{"$f":"'1.Profile'!G7","v":4.5},"these texts (C67-69) are used in the graph on Out C&G and therefore translated",null,null,null,null,null,null,"2008-09-20",{"$f":"'Bio results'!K4","v":103.5},{"$f":"'Bio results'!K15","v":175.5},null,"2008-09-20",null,null,null,"2008-09-20"]
[null,null,"  Udbytte efter agronomiske fordele/straf (sædskifte, sådato...)",{"$f":"IF(COUNT(D57:M57)<>0,AVERAGE(D57:M57),D67)","v":9.0649999999999995},{"$f":"IF(COUNT(D58:M58)<>0,AVERAGE(D58:M58),E67)","v":6.72},{"$f":"IF(COUNT(D59:M59)<>0,AVERAGE(D59:M59),F67)","v":4.41},{"$f":"IF(COUNT(D60:M60)<>0,AVERAGE(D60:M60),G67)","v":4.5},null,null,null,null,null,null,null,"2008-10-01",{"$f":"'Bio results'!K5","v":147.375},{"$f":"'Bio results'!K16","v":131.625},null,"2008-10-01",null,null,null,"2008-10-01"]
[null,null,"  Endligt udbytte efter ukrudtsindflydelse",{"$f":"IF(COUNT(D61:M61)<>0,AVERAGE(D61:M61),D67)","v":8.4616500068426408},{"$f":"IF(COUNT(D62:M62)<>0,AVERAGE(D62:M62),E67)","v":6.3157003658912458},{"$f":"IF(COUNT(D63:M63)<>0,AVERAGE(D63:M63),F67)","v":4.1822807383433407},{"$f":"IF(COUNT(D64:M64)<>0,AVERAGE(D64:M64),G67)","v":4.5},null,null,null,null,null,null,null,"2008-11-01",{"$f":"'Bio results'!K6","v":160.53749999999999},{"$f":"'Bio results'!K17","v":118.46250000000001},null,"2008-11-01",null,null,null,"2008-11-01"]
[null,null,null,null,null,null,null,null,null,null,null,null,null,null,"2008-06-01",{"$f":"'Bio results'!K7","v":68.275181250000003},{"$f":"'Bio results'!K18","v":85.293000000000006},null,"2008-06-01",null,null,null,"2008-06-01"]
[null,null,null,{"$f":"(D68-D67)/D67","v":-9.3500000000000055E-2},-0.16000000000000003,-0.44874999999999998,0,null,null,null,null,null,null,null,{"$f":"O70+14","v":"2008-06-15"},{"$f":"'Bio results'!K8","v":20.318662184624998},{"$f":"Q70","v":85.293000000000006},null,"2008-06-15",null,null,null,"2008-06-15"]
[null,null,null,-6.6558190089063288E-2,-6.0163636028088385E-2,-5.1637020783823005E-2,0,null,null,null,null,null,null,null,"2008-07-01",{"$f":"'Bio results'!K9","v":20.318662184624998},{"$f":"'Bio results'!K20","v":477.75883770400759},null,"2008-07-01",null,null,null,"2008-07-01"]
[null,null,"Number transformations for outputs",null,null,null,null,null,null,null,null,null,null,null,"2008-08-01",0,{"$f":"'Bio results'!K21","v":563.05183770400754},null,"2008-08-01",null,null,null,"2008-08-01"]
[null,null,null,{"$f":"TRUNC(D71*100,0)","v":-9},-16,-44,0,null,null,null,null,null,null,null,"2009-09-01",0,{"$f":"'Bio results'!L13","v":380},null,"2009-09-01",null,null,null,"2009-09-01"]
[null,null,null,-6,-6,-5,0,null,null,null,null,null,null,null,"2009-09-15",{"$f":"'Bio results'!L3","v":273.59999999999997},{"$f":"'Bio results'!L14","v":106.4},null,"2009-09-15",null,null,null,"2009-09-15"]
[null,null,null,null,null,null,null,null,null,null,null,null,null,null,"2009-09-20",{"$f":"'Bio results'!L4","v":53.959999999999994},{"$f":"'Bio results'!L15","v":79.800000000000011},null,"2009-09-20",null,null,null,"2009-09-20"]
[null,null,"Agro impact (% initial yield)",{"$f":"IF(D74>0,\"+\"&D74&\"%\",D74&\"%\")","v":"-9%"},"-16%","-44%","0%",null,"Averaged weed burden (%)",null,null,null,null,null,"2009-10-01",{"$f":"'Bio results'!L5","v":65.929999999999993},{"$f":"'Bio results'!L16","v":67.830000000000013},null,"2009-10-01",null,null,null,"2009-10-01"]
[null,null,"Weed burden (%)","-6%","-6%","-5%","0%",null,{"$f":"(D78*D65+E78*E65+F78*F65+G78*G65)/SUM(D65:G65)","v":-5.7000000000000009E-2},null,null,null,null,null,"2009-11-01",{"$f":"'Bio results'!L6","v":65.929999999999993},{"$f":"'Bio results'!L17","v":67.830000000000013},null,"2009-11-01",null,null,null,"2009-11-01"]
[null,null,null,null,null,null,null,null,null,null,null,null,null,null,"2009-06-01",{"$f":"'Bio results'!L7","v":72.712999999999994},{"$f":"'Bio results'!L18","v":48.837600000000009},null,"2009-06-01",null,null,null,"2009-06-01"]
[null,null,"Note:",null,null,null,null,null,null,null,null,null,null,null,{"$f":"O79+14","v":"2009-06-15"},{"$f":"'Bio results'!L8","v":12.266924400000002},{"$f":"Q79","v":48.837600000000009},null,"2009-06-15",null,null,null,"2009-06-15"]
[null,null,"Tables 1, 2 and 4 provide data to the bottom and right tables that are behind the comparisons.",null,null,null,null,null,null,null,null,null,null,null,"2009-07-01",{"$f":"'Bio results'!L9","v":12.266924400000002},{"$f":"'Bio results'!L20","v":358.65404642781272},null,"2009-07-01",null,null,null,"2009-07-01"]
[null,null,null,null,null,null,null,null,null,null,null,null,null,null,"2009-08-01",0,{"$f":"'Bio results'!L21","v":407.49164642781273},null,"2009-08-01",null,null,null,"2009-08-01"]
[null,null,null,null,null,null,null,"Top strategy",null,null,null,null,null,{"$f":"C67","v":"  Gennemnitligt ukrudtsfrit udbytte (Som indtastet i Profil)"},"2010-09-01",0,{"$f":"'Bio results'!M13","v":270},null,"2010-09-01",null,null,null,"2010-09-01"]
[null,null,"Bio results ",null,"summary",null,"(via macros)",null,null,null,null,null,null,{"$f":"C68","v":"  Udbytte efter agronomiske fordele/straf (sædskifte, sådato...)"},"2010-09-15",{"$f":"'Bio results'!M3","v":67.5},{"$f":"'Bio results'!M14","v":202.5},null,"2010-09-15",null,null,null,"2010-09-15"]
[null,null,null,null,null,null,null,"Bottom strategy",null,null,null,null,null,{"$f":"C69","v":"  Endligt udbytte efter ukrudtsindflydelse"},"2010-09-20",{"$f":"'Bio results'!M4","v":77.625},{"$f":"'Bio results'!M15","v":131.625},null,"2010-09-20",null,null,null,"2010-09-20"]
[null,null,null,null,null,null,null,null,null,null,null,null,null,{"$f":"C77","v":"Agro impact (% initial yield)"},"2010-10-01",{"$f":"'Bio results'!M5","v":110.53125},{"$f":"'Bio results'!M16","v":98.71875},null,"2010-10-01",null,null,null,"2010-10-01"]
[null,null,"The same principle applies for the Eco result page.",null,null,null,null,null,null,null,null,null,null,{"$f":"C78","v":"Weed burden (%)"},"2010-11-01",{"$f":"'Bio results'!M6","v":120.403125},{"$f":"'Bio results'!M17","v":88.846874999999997},null,"2010-11-01",null,null,null,"2010-11-01"]
[null,null,null,null,null,null,null,null,null,null,null,null,null,null,"2010-06-01",{"$f":"'Bio results'!M7","v":123.26765625},{"$f":"'Bio results'!M18","v":63.969750000000005},null,"2010-06-01",null,null,null,"2010-06-01"]
[null,null,null,null,null,null,null,null,null,null,null,null,null,null,{"$f":"O88+14","v":"2010-06-15"},{"$f":"'Bio results'!M8","v":10.158502949999995},{"$f":"Q88","v":63.969750000000005},null,"2010-06-15",null,null,null,"2010-06-15"]
[null,null,"Table 1B. Ryegrass plants per m2 ","These numbers refer to the number present at the start of the period listed",null,null,null,null,null,null,null,null,null,null,"2010-07-01",{"$f":"'Bio results'!M9","v":10.158502949999995},{"$f":"'Bio results'!M20","v":660.40356644841825},null,"2010-07-01",null,null,null,"2010-07-01"]
[null,null,"Period for early sowing 1.-15. sep /before 20. Mar.",null,null,null,null,null,null,null,null,null,null,null,"2010-08-01",0,{"$f":"'Bio results'!M21","v":724.37331644841822},{"$f":"I78","v":-5.7000000000000009E-2},"2010-08-01",null,null,null,"2010-08-01"]
[null,null,"Period for medium sowing 15.-20. sep /20. mar - 15. apr",null,null,null,null,null,null,null,null,null,null,null,{"$f":"D66","v":"Vintersæd (4)"},{"$f":"E66","v":"vårsæd (3)"},{"$f":"F66","v":"Raps (3)"},{"$f":"G66","v":"Bælgsæd (0)"},"Vintersæd (4)","vårsæd (3)","Raps (3)","Bælgsæd (0)","Vintersæd (10)","vårsæd (0)","Raps (0)","Bælgsæd (0)"]
[null,null,"Period for late sowing after 20. sep / after 15. apr.",null,null,null,null,null,null,null,null,null,null,null,{"$f":"IF(COUNT(D57:M57)>0,D67,\"\")","v":10},{"$f":"IF(COUNT(D58:M58)>0,E67,\"\")","v":8},{"$f":"IF(COUNT(D59:M59)>0,F67,\"\")","v":8},{"$f":"IF(COUNT(D60:M60)>0,G67,\"\")","v":""},null,null,null,"",null,"","",""]
[null,null,"Time for Pre-E spraying (late emerging ) /not relevant in spring",null,null,null,null,null,null,null,null,null,null,null,{"$f":"IF(COUNT(D57:M57)>0,D68,\"\")","v":9.0649999999999995},{"$f":"IF(COUNT(D58:M58)>0,E68,\"\")","v":6.72},{"$f":"IF(COUNT(D59:M59)>0,F68,\"\")","v":4.41},{"$f":"IF(COUNT(D60:M60)>0,G68,\"\")","v":""},null,null,null,"",null,"","",""]
[null,null,"Time for Post-E spraying, both winter and spring crop",null,null,null,null,null,null,null,null,null,null,null,{"$f":"IF(COUNT(D57:M57)>0,D69,\"\")","v":8.4616500068426408},{"$f":"IF(COUNT(D58:M58)>0,E69,\"\")","v":6.3157003658912458},{"$f":"IF(COUNT(D59:M59)>0,F69,\"\")","v":4.1822807383433407},{"$f":"IF(COUNT(D60:M60)>0,G69,\"\")","v":""},null,null,null,"",null,"","",""]
[null,null,"End of season survival,  both winter and spring crop",null,null,null,null,null,null,null,null,null,null,null,{"$f":"IF(COUNT(D57:M57)>0,D77,\"\")","v":"-9%"},{"$f":"IF(COUNT(D58:M58)>0,E77,\"\")","v":"-16%"},{"$f":"IF(COUNT(D59:M59)>0,F77,\"\")","v":"-44%"},{"$f":"IF(COUNT(D60:M60)>0,G77,\"\")","v":""},null,null,null,"",null,"","",""]
[null,null,"Mature ryegrass plants setting seed",null,null,null,null,null,null,null,null,null,null,null,{"$f":"IF(COUNT(D61:M61)>0,D78,\"\")","v":"-6%"},{"$f":"IF(COUNT(D62:M62)>0,E78,\"\")","v":"-6%"},{"$f":"IF(COUNT(D63:M63)>0,F78,\"\")","v":"-5%"},{"$f":"IF(COUNT(D64:M64)>0,G78,\"\")","v":""},null,null,null,"",null,"","",""]
[]
[]
[null,null,"Table 2B. Ryegrass seeds per m2","cover crops have been added to reduce seed carry over where used, A and S",null,null,null,null,null,null,null,null,null,null,null,null,null,null,"Efter 1. år:",null,{"$f":"U2","v":0},{"$f":"T3","v":0},"Efter 1. år:",null,{"$f":"Y2","v":0},{"$f":"X3","v":0}]
[null,null,"Period for early sowing 1.-15. sep /before 20. Mar.",null,null,null,null,null,null,null,null,null,null,null,null,null,null,null,"Efter 10 år:",null,{"$f":"U83","v":0},{"$f":"T84","v":0},"Efter 10 år:",null,{"$f":"Y83","v":0},{"$f":"X84","v":0}]
[null,null,"Period for medium sowing 15.-20. sep /20. mar - 15. apr"]
[null,null,"Period for late sowing after 20. sep / after 15. apr.",null,null,null,null,null,null,null,null,null,null,null,null,null,null,null,"Gennemsnit før sprøjtning på",null,null,null,"Gennemsnit før sprøjtning på"]
[null,null,"Before Pre-E spraying (late emerging ) /not relevant in spring",null,null,null,null,null,null,null,null,null,null,null,null,null,null,null," fremspirede planter:",null,{"$f":"IF(X3<>\"\",AVERAGE(U6,U15,U24,U33,U42,U51,U60,U69,U78,U87),0)","v":0},{"$f":"IF(Y3<>\"\",AVERAGE(T6,T15,T24,T33,T42,T51,T60,T69,T78,T87),0)","v":0}," fremspirede planter:",null,{"$f":"IF(X3<>\"\",AVERAGE(X6,X15,X24,X33,X42,X51,X60,X69,X78,X87),0)","v":0},{"$f":"IF(Y3<>\"\",AVERAGE(Y6,Y15,Y24,Y33,Y42,Y51,Y60,Y69,Y78,Y87),0)","v":0}]
[null,null,"Before Post-E spraying, both seasons"]
[null,null,"End of spring,  both winter and spring crop",null,null,null,null,null,null,null,null,null,null,null,null,null,null,null,"Gennemsnit ved afslutning",null,null,null,"Gennemsnit ved afslutning"]
[null,null,"Spring, seed produced per m2",null,null,null,null,null,null,null,null,null,null,null,null,null,null,null,"året efter:",null,{"$f":"IF(U3<>\"\",AVERAGE(U3,U12,U21,U30,U39,U48,U57,U66,U75,U84),0)","v":0},{"$f":"IF(T3<>\"\",AVERAGE(T3,T12,T21,T30,T39,T48,T57,T66,T75,T84),0)","v":0},"året efter:",null,{"$f":"IF(Y6<>\"\",AVERAGE(Y3,Y12,Y21,Y30,Y39,Y48,Y57,Y66,Y75,Y84),0)","v":0},{"$f":"IF(X5<>\"\",AVERAGE(X3,X12,X21,X30,X39,X48,X57,X66,X75,X84),0)","v":0}]
[null,null,"Spring, seed produced per m2"]
[null,null,"Just before harvest"]
[null,null,"Seeds in soil after cover crop (/m2)"]
[]
[]
[null,null,"Table 1B. Ryegrass plants per m2 ","These numbers refer to the number present at the start of the period listed"]
[null,null,"Period for early sowing 1.-15. sep /before 20. Mar."]
[null,null,"Period for medium sowing 15.-20. sep /20. mar - 15. apr"]
[null,null,"Period for late sowing after 20. sep / after 15. apr."]
[null,null,"Time for Pre-E spraying (late emerging ) /not relevant in spring"]
[null,null,"Time for Post-E spraying, both winter and spring crop"]
[null,null,"End of season survival,  both winter and spring crop"]
[null,null,"Mature ryegrass plants setting seed"]
[]
[]
[null,null,"Table 2B. Ryegrass seeds per m2","cover crops have been added to reduce seed carry over where used, A and S"]
[null,null,"Period for early sowing 1.-15. sep /before 20. Mar."]
[null,null,"Period for medium sowing 15.-20. sep /20. mar - 15. apr"]
[null,null,"Period for late sowing after 20. sep / after 15. apr."]
[null,null,"Before Pre-E spraying (late emerging ) /not relevant in spring"]
[null,null,"Before Post-E spraying, both seasons"]
[null,null,"End of spring,  both winter and spring crop"]
[null,null,"Spring, seed produced per m2"]
[null,null,"Spring, seed produced per m2"]
[null,null,"Just before harvest"]
[null,null,"Seeds in soil after cover crop (/m2)"]

{"sheet":"3. Out Eco","index":10,"n_rows":39,"n_cols":46,"rows_kept":39,"cut":false,"hidden":false,"merged":[]}
["3. Sammenlign strategier"]
[]
[]
[]
[]
[]
[]
[null,null,null,null,null,null,null,null,null,null,null,null,null,null,null,null,null,null,"Auto"]
[]
[null,{"$f":"IF(AND('Eco results'!Q5='Eco results'!Q25,'Eco results'!P5='Eco results'!P25),\"Aktiv\",\"\")","v":""},{"$f":"ROUND(('Eco results'!P25),-2)","v":0},"kr/ha ",null,{"$f":"IF('Eco results'!Q25<>\"\",'Eco results'!Q25,\"\")","v":"Ingen resistens, Danmark - "},null,null,null,null,null,null,null,null,null,null,null,null,null,{"$f":"IF(AND('Eco results'!Q5='Eco results'!Q23,'Eco results'!P5='Eco results'!P23),\"Current paddock and strategy\",\"\")","v":""}]
[]
[]
[]
[]
[]
[]
[]
[]
[]
[]
[]
[]
[]
[]
[null,{"$f":"IF(AND('Eco results'!Q5='Eco results'!Q43,'Eco results'!P5='Eco results'!P43),\"Aktiv\",\"\")","v":""},{"$f":"ROUND(('Eco results'!P43),-2)","v":0},"kr/ha",null,{"$f":"IF('Eco results'!Q43<>\"\",'Eco results'!Q43,\"\")","v":"Ingen resistens, Danmark - "},null,null,null,null,null,null,null,null,null,null,null,null,null,{"$f":"IF(AND('Eco results'!Q5='Eco results'!Q41,'Eco results'!P5='Eco results'!P41),\"Current paddock and strategy\",\"\")","v":""}]
[]
[]
[]
[]
[]
[]
[]
[]
[]
[]
[]
[]
[null,null,null,null,null,null,null,null,null,null,null,null,null,null,null,null,null,null,null,null,null,null,null,null,null,null,null,null,null,null,null,null,null,null,null,null,null,null,null,null,null,null,null,null,null,false]
[null,null,null,null,null,null,null,null,null,null,null,null,null,null,null,null,null,null,null,null,null,null,null,null,null,null,null,null,null,null,null,null,null,null,null,null,null,null,null,null,null,null,null,{"$f":"P_31Eco","v":false}]

{"sheet":"3. Out Pop","index":11,"n_rows":39,"n_cols":46,"rows_kept":39,"cut":false,"hidden":false,"merged":[]}
["3. Sammenlign strategier"]
[]
[]
[]
[]
[]
[]
[null,null,null,null,null,null,null,null,null,null,null,null,null,null,null,null,null,null,"Auto"]
[]
[null,{"$f":"IF(AND('Eco results'!Q5='Eco results'!Q25,'Eco results'!P5='Eco results'!P25),\"Aktiv\",\"\")","v":""},{"$f":"'Eco results'!P25","v":0}," /ha /år",null,{"$f":"IF('Eco results'!Q25<>\"\",'Eco results'!Q25,\"\")","v":"Ingen resistens, Danmark - "},null,null,null,null,null,null,null,null,null,null,null,null,null,{"$f":"IF(AND('Eco results'!Q5='Eco results'!Q23,'Eco results'!P5='Eco results'!P23),\"Current paddock and strategy\",\"\")","v":""}]
[]
[]
[]
[null,null,null,null,null,null,null,null,null,null,null,null,null,null,null,null,"Efter 1. år:",null,{"$f":"IF('Bio results'!$T$4=\"\",\"\",IF('Bio results'!U100>10000,\">10000\",IF('Bio results'!U100>1000,ROUND('Bio results'!U100,-2), IF('Bio results'!U100>100,ROUND('Bio results'!U100,-1),'Bio results'!U100))))","v":""},{"$f":"IF('Bio results'!$T$4=\"\",\"\",IF('Bio results'!V100>10000,\">10000\",IF('Bio results'!V100>1000,ROUND('Bio results'!V100,-2), IF('Bio results'!V100>100,ROUND('Bio results'!V100,-1),'Bio results'!V100))))","v":""}]
[null,null,null,null,null,null,null,null,null,null,null,null,null,null,null,null,"Efter 10 år:",null,{"$f":"IF('Bio results'!$T$4=\"\",\"\",IF('Bio results'!U101>10000,\">10000\",IF('Bio results'!U101>1000,ROUND('Bio results'!U101,-2), IF('Bio results'!U101>100,ROUND('Bio results'!U101,-1),'Bio results'!U101))))","v":""},{"$f":"IF('Bio results'!$T$4=\"\",\"\",IF('Bio results'!V101>10000,\">10000\",IF('Bio results'!V101>1000,ROUND('Bio results'!V101,-2), IF('Bio results'!V101>100,ROUND('Bio results'!V101,-1),'Bio results'!V101))))","v":""}]
[]
[null,null,null,null,null,null,null,null,null,null,null,null,null,null,null,null,"Gennemsnit før sprøjtning på"]
[null,null,null,null,null,null,null,null,null,null,null,null,null,null,null,null," fremspirede planter:",null,{"$f":"IF('Bio results'!$T$4=\"\",\"\",IF('Bio results'!U104>10000,\">10000\",IF('Bio results'!U104>1000,ROUND('Bio results'!U104,-2), IF('Bio results'!U104>100,ROUND('Bio results'!U104,-1),'Bio results'!U104))))","v":""},{"$f":"IF('Bio results'!$T$4=\"\",\"\",IF('Bio results'!V104>10000,\">10000\",IF('Bio results'!V104>1000,ROUND('Bio results'!V104,-2), IF('Bio results'!V104>100,ROUND('Bio results'!V104,-1),'Bio results'!V104))))","v":""}]
[]
[null,null,null,null,null,null,null,null,null,null,null,null,null,null,null,null,"Gennemsnit ved afslutning"]
[null,null,null,null,null,null,null,null,null,null,null,null,null,null,null,null,"året efter:",null,{"$f":"IF('Bio results'!$T$4=\"\",\"\",IF('Bio results'!U107>10000,\">10000\",IF('Bio results'!U107>1000,ROUND('Bio results'!U107,-2), IF('Bio results'!U107>100,ROUND('Bio results'!U107,-1),'Bio results'!U107))))","v":""},{"$f":"IF('Bio results'!$T$4=\"\",\"\",IF('Bio results'!V107>10000,\">10000\",IF('Bio results'!V107>1000,ROUND('Bio results'!V107,-2), IF('Bio results'!V107>100,ROUND('Bio results'!V107,-1),'Bio results'!V107))))","v":""}]
[]
[null,null,null,null,null,null,null,null,{"$f":"'Eco results'!Q24&\"       \"&'Eco results'!R24&\"       \"&'Eco results'!S24&\"       \"&'Eco results'!T24&\"       \"&'Eco results'!U24&\"       \"&'Eco results'!V24&\"       \"&'Eco results'!W24&\"       \"&'Eco results'!X24&\"       \"&'Eco results'!Y24&\"       \"&'Eco results'!Z24","v":"                                                               "}]
[]
[null,{"$f":"IF(AND('Eco results'!Q5='Eco results'!Q43,'Eco results'!P5='Eco results'!P43),\"Aktiv\",\"\")","v":""},{"$f":"'Eco results'!P43","v":0}," /ha /år",null,{"$f":"IF('Eco results'!Q43<>\"\",'Eco results'!Q43,\"\")","v":"Ingen resistens, Danmark - "},null,null,null,null,null,null,null,null,null,null,null,null,null,{"$f":"IF(AND('Eco results'!Q5='Eco results'!Q41,'Eco results'!P5='Eco results'!P41),\"Current paddock and strategy\",\"\")","v":""}]
[]
[]
[]
[null,null,null,null,null,null,null,null,null,null,null,null,null,null,null,null,"Efter 1. år:",null,{"$f":"IF('Bio results'!$X$4=\"\",\"\",IF('Bio results'!Y100>10000,\">10000\",IF('Bio results'!Y100>1000,ROUND('Bio results'!Y100,-2), IF('Bio results'!Y100>100,ROUND('Bio results'!Y100,-1),'Bio results'!Y100))))","v":""},{"$f":"IF('Bio results'!$X$4=\"\",\"\",IF('Bio results'!Z100>10000,\">10000\",IF('Bio results'!Z100>1000,ROUND('Bio results'!Z100,-2), IF('Bio results'!Z100>100,ROUND('Bio results'!Z100,-1),'Bio results'!Z100))))","v":""}]
[null,null,null,null,null,null,null,null,null,null,null,null,null,null,null,null,"Efter 10 år:",null,{"$f":"IF('Bio results'!$X$4=\"\",\"\",IF('Bio results'!Y101>10000,\">10000\",IF('Bio results'!Y101>1000,ROUND('Bio results'!Y101,-2), IF('Bio results'!Y101>100,ROUND('Bio results'!Y101,-1),'Bio results'!Y101))))","v":""},{"$f":"IF('Bio results'!$X$4=\"\",\"\",IF('Bio results'!Z101>10000,\">10000\",IF('Bio results'!Z101>1000,ROUND('Bio results'!Z101,-2), IF('Bio results'!Z101>100,ROUND('Bio results'!Z101,-1),'Bio results'!Z101))))","v":""}]
[]
[null,null,null,null,null,null,null,null,null,null,null,null,null,null,null,null,"Gennemsnit før sprøjtning på"]
[null,null,null,null,null,null,null,null,null,null,null,null,null,null,null,null," fremspirede planter:",null,{"$f":"IF('Bio results'!$X$4=\"\",\"\",IF('Bio results'!Y104>10000,\">10000\",IF('Bio results'!Y104>1000,ROUND('Bio results'!Y104,-2), IF('Bio results'!Y104>100,ROUND('Bio results'!Y104,-1),'Bio results'!Y104))))","v":""},{"$f":"IF('Bio results'!$X$4=\"\",\"\",IF('Bio results'!Z104>10000,\">10000\",IF('Bio results'!Z104>1000,ROUND('Bio results'!Z104,-2), IF('Bio results'!Z104>100,ROUND('Bio results'!Z104,-1),'Bio results'!Z104))))","v":""}]
[]
[null,null,null,null,null,null,null,null,null,null,null,null,null,null,null,null,"Gennemsnit ved afslutning"]
[null,null,null,null,null,null,null,null,null,null,null,null,null,null,null,null,"året efter:",null,{"$f":"IF('Bio results'!$X$4=\"\",\"\",IF('Bio results'!Y107>10000,\">10000\",IF('Bio results'!Y107>1000,ROUND('Bio results'!Y107,-2), IF('Bio results'!Y107>100,ROUND('Bio results'!Y107,-1),'Bio results'!Y107))))","v":""},{"$f":"IF('Bio results'!$X$4=\"\",\"\",IF('Bio results'!Z107>10000,\">10000\",IF('Bio results'!Z107>1000,ROUND('Bio results'!Z107,-2), IF('Bio results'!Z107>100,ROUND('Bio results'!Z107,-1),'Bio results'!Z107))))","v":""}]
[]
[null,null,null,null,null,null,null,null,{"$f":"'Eco results'!Q42&\"       \"&'Eco results'!R42&\"       \"&'Eco results'!S42&\"       \"&'Eco results'!T42&\"       \"&'Eco results'!U42&\"       \"&'Eco results'!V42&\"       \"&'Eco results'!W42&\"       \"&'Eco results'!X42&\"       \"&'Eco results'!Y42&\"       \"&'Eco results'!Z42","v":"                                                               "},null,null,null,null,null,null,null,null,null,null,null,null,null,null,null,null,null,null,null,null,null,null,null,null,null,null,null,null,null,null,null,null,null,null,null,null,false]
[null,null,null,null,null,null,null,null,null,null,null,null,null,null,null,null,null,null,null,null,null,null,null,null,null,null,null,null,null,null,null,null,null,null,null,null,null,null,null,null,null,null,null,{"$f":"P_32Pop","v":true}]

{"sheet":"3. Out C&G","index":12,"n_rows":39,"n_cols":46,"rows_kept":39,"cut":false,"hidden":false,"merged":[]}
["3. Sammenlign strategier"]
[]
[]
[]
[]
[]
[]
[]
[]
[null,{"$f":"IF(AND('Eco results'!Q5='Eco results'!Q25,'Eco results'!P5='Eco results'!P25),\"Aktiv\",\"\")","v":""},{"$f":"'Eco results'!P25","v":0}," /ha /år",null,{"$f":"IF('Eco results'!Q25<>\"\",'Eco results'!Q25,\"\")","v":"Ingen resistens, Danmark - "},null,null,null,null,null,null,null,null,{"$f":"IF(AND('Eco results'!Q5='Eco results'!Q23,'Eco results'!P5='Eco results'!P23),\"Current paddock and strategy\",\"\")","v":""}]
[]
[]
[null,null,null,null,{"$f":"'Bio results'!S96&\"  \"&'Bio results'!S97","v":"  "},null,{"$f":"'Bio results'!T96&\" \"&'Bio results'!T97","v":" "}]
[]
[null,null,null,null,null,null,null,null,null,{"$f":"'Bio results'!U96&\"   \"&'Bio results'!U97","v":"   "},null,null,{"$f":"'Bio results'!V96&\"  \"&'Bio results'!V97","v":"  "}]
[]
[]
[]
[null,null,null,null,null,null,null,null,null,null,null,null,null,null,null,"Effekt af rajgræs-tæthed på udbytte"]
[null,null,null,null,null,null,null,null,null,null,null,null,null," "]
[]
[]
[]
[]
[null,{"$f":"IF(AND('Eco results'!Q5='Eco results'!Q43,'Eco results'!P5='Eco results'!P43),\"Aktiv\",\"\")","v":""},{"$f":"'Eco results'!P43","v":0}," /ha /år",null,{"$f":"IF('Eco results'!Q43<>\"\",'Eco results'!Q43,\"\")","v":"Ingen resistens, Danmark - "},null,null,null,null,null,null,null,null,{"$f":"IF(AND('Eco results'!Q5='Eco results'!Q41,'Eco results'!P5='Eco results'!P41),\"Current paddock and strategy\",\"\")","v":""}]
[]
[]
[null,null,null,null,{"$f":"'Bio results'!W96&\"   \"&'Bio results'!W97","v":"   "},null,{"$f":"'Bio results'!X96&\"  \"&'Bio results'!X97","v":"  "}]
[]
[null,null,null,null,null,null,null,null,null,{"$f":"'Bio results'!Y96&\"   \"&'Bio results'!Y97","v":"   "},null,null,{"$f":"'Bio results'!Z96&\"  \"&'Bio results'!Z97","v":"  "}]
[]
[]
[]
[null,null,null,null,null,null,null,null,null,null,null,null,null,null,null,null,null,"Gennemnitligt udbyttetab "]
[null,null,null,null,null,null,null,null,null,null,null,null,null," ",null,null,null,"på grund af rajgræs:"]
[]
[null,null,null,null,null,null,null,null,null,null,null,null,null,null,null,null,{"$f":"'Bio results'!V91","v":0},null,{"$f":"'Bio results'!Z91","v":0}]
[null,null,null,null,null,null,null,null,null,null,null,null,null,null,null,null,null,null,null,null,null,null,null,null,null,null,null,null,null,null,null,null,null,null,null,null,null,null,null,null,null,null,null,null,null,false]
[null,null,null,null,null,null,null,null,null,null,null,null,null,null,null,null,null,null,null,null,null,null,null,null,null,null,null,null,null,null,null,null,null,null,null,null,null,null,null,null,null,null,null,{"$f":"P_33CG","v":false}]

{"sheet":"3. Out Tab","index":13,"n_rows":80,"n_cols":46,"rows_kept":80,"cut":false,"hidden":false,"merged":[]}
["3. Sammenlign strategier"]
[]
[]
[]
[null,null,null,null,null,{"$f":"IF(AND('Eco results'!Q5='Eco results'!Q25,'Eco results'!P5='Eco results'!P25),\"Aktiv\",\"\")","v":""},{"$f":"IF('Eco results'!Q23<>\"\",'Eco results'!Q23,\"\")","v":""},"Strategi 1",null,null,null,null,null,null,null,null,{"$f":"IF(AND('Eco results'!Q5='Eco results'!Q43,'Eco results'!P5='Eco results'!P43),\"Aktiv\",\"\")","v":""},{"$f":"IF('Eco results'!Q41<>\"\",'Eco results'!Q41,\"\")","v":""},"Strategi 2"]
[null,"Økonomiske resultater (kr/ha)",null,null,"År",1,2,3,4,5,6,7,8,9,10,null,1,2,3,4,5,6,7,8,9,10]
[null,{"$f":"'Eco results'!P7","v":"Udbytte + hektarstøtte"},null,null,null,{"$f":"'Eco results'!Q27","v":0},{"$f":"'Eco results'!R27","v":0},{"$f":"'Eco results'!S27","v":0},{"$f":"'Eco results'!T27","v":0},{"$f":"'Eco results'!U27","v":0},{"$f":"'Eco results'!V27","v":0},{"$f":"'Eco results'!W27","v":0},{"$f":"'Eco results'!X27","v":0},{"$f":"'Eco results'!Y27","v":0},{"$f":"'Eco results'!Z27","v":0},null,{"$f":"'Eco results'!Q45","v":0},{"$f":"'Eco results'!R45","v":0},{"$f":"'Eco results'!S45","v":0},{"$f":"'Eco results'!T45","v":0},{"$f":"'Eco results'!U45","v":0},{"$f":"'Eco results'!V45","v":0},{"$f":"'Eco results'!W45","v":0},{"$f":"'Eco results'!X45","v":0},{"$f":"'Eco results'!Y45","v":0},{"$f":"'Eco results'!Z45","v":0}]
[null,null,null,"Bruttoudbytte",null,{"$f":"F7","v":0},{"$f":"G7","v":0},0,0,0,0,0,0,0,0,null,{"$f":"Q7","v":0},{"$f":"R7","v":0},0,0,0,0,0,0,0,0]
[null,{"$f":"'Eco results'!P8","v":"Konkurrence fra afgrøde"},null,null,null,{"$f":"'Eco results'!Q28","v":0},{"$f":"'Eco results'!R28","v":0},{"$f":"'Eco results'!S28","v":0},{"$f":"'Eco results'!T28","v":0},{"$f":"'Eco results'!U28","v":0},{"$f":"'Eco results'!V28","v":0},{"$f":"'Eco results'!W28","v":0},{"$f":"'Eco results'!X28","v":0},{"$f":"'Eco results'!Y28","v":0},{"$f":"'Eco results'!Z28","v":0},null,{"$f":"'Eco results'!Q46","v":0},{"$f":"'Eco results'!R46","v":0},{"$f":"'Eco results'!S46","v":0},{"$f":"'Eco results'!T46","v":0},{"$f":"'Eco results'!U46","v":0},{"$f":"'Eco results'!V46","v":0},{"$f":"'Eco results'!W46","v":0},{"$f":"'Eco results'!X46","v":0},{"$f":"'Eco results'!Y46","v":0},{"$f":"'Eco results'!Z46","v":0}]
[null,{"$f":"'Eco results'!P9","v":"Herbicider"},null,null,null,{"$f":"'Eco results'!Q29","v":0},{"$f":"'Eco results'!R29","v":0},{"$f":"'Eco results'!S29","v":0},{"$f":"'Eco results'!T29","v":0},{"$f":"'Eco results'!U29","v":0},{"$f":"'Eco results'!V29","v":0},{"$f":"'Eco results'!W29","v":0},{"$f":"'Eco results'!X29","v":0},{"$f":"'Eco results'!Y29","v":0},{"$f":"'Eco results'!Z29","v":0},null,{"$f":"'Eco results'!Q47","v":0},{"$f":"'Eco results'!R47","v":0},{"$f":"'Eco results'!S47","v":0},{"$f":"'Eco results'!T47","v":0},{"$f":"'Eco results'!U47","v":0},{"$f":"'Eco results'!V47","v":0},{"$f":"'Eco results'!W47","v":0},{"$f":"'Eco results'!X47","v":0},{"$f":"'Eco results'!Y47","v":0},{"$f":"'Eco results'!Z47","v":0}]
[null,{"$f":"'Eco results'!P10","v":"Kulturtekniske tiltag"},null,null,null,{"$f":"'Eco results'!Q30","v":0},{"$f":"'Eco results'!R30","v":0},{"$f":"'Eco results'!S30","v":0},{"$f":"'Eco results'!T30","v":0},{"$f":"'Eco results'!U30","v":0},{"$f":"'Eco results'!V30","v":0},{"$f":"'Eco results'!W30","v":0},{"$f":"'Eco results'!X30","v":0},{"$f":"'Eco results'!Y30","v":0},{"$f":"'Eco results'!Z30","v":0},null,{"$f":"'Eco results'!Q48","v":0},{"$f":"'Eco results'!R48","v":0},{"$f":"'Eco results'!S48","v":0},{"$f":"'Eco results'!T48","v":0},{"$f":"'Eco results'!U48","v":0},{"$f":"'Eco results'!V48","v":0},{"$f":"'Eco results'!W48","v":0},{"$f":"'Eco results'!X48","v":0},{"$f":"'Eco results'!Y48","v":0},{"$f":"'Eco results'!Z48","v":0}]
[null,{"$f":"'Eco results'!P11","v":"Brugervalgte muligheder"},null,null,null,{"$f":"'Eco results'!Q31","v":0},{"$f":"'Eco results'!R31","v":0},{"$f":"'Eco results'!S31","v":0},{"$f":"'Eco results'!T31","v":0},{"$f":"'Eco results'!U31","v":0},{"$f":"'Eco results'!V31","v":0},{"$f":"'Eco results'!W31","v":0},{"$f":"'Eco results'!X31","v":0},{"$f":"'Eco results'!Y31","v":0},{"$f":"'Eco results'!Z31","v":0},null,{"$f":"'Eco results'!Q49","v":0},{"$f":"'Eco results'!R49","v":0},{"$f":"'Eco results'!S49","v":0},{"$f":"'Eco results'!T49","v":0},{"$f":"'Eco results'!U49","v":0},{"$f":"'Eco results'!V49","v":0},{"$f":"'Eco results'!W49","v":0},{"$f":"'Eco results'!X49","v":0},{"$f":"'Eco results'!Y49","v":0},{"$f":"'Eco results'!Z49","v":0}]
[null,null,null,"Totale udgifter ",null,{"$f":"F9+F10+F11+F12","v":0},{"$f":"G9+G10+G11+G12","v":0},0,0,0,0,0,0,0,0,null,{"$f":"Q9+Q10+Q11+Q12","v":0},{"$f":"R9+R10+R11+R12","v":0},0,0,0,0,0,0,0,0]
[null,"Afgrøde Kr/ha",null,null,null,{"$f":"'Eco results'!Q34","v":0},{"$f":"'Eco results'!R34","v":0},{"$f":"'Eco results'!S34","v":0},{"$f":"'Eco results'!T34","v":0},{"$f":"'Eco results'!U34","v":0},{"$f":"'Eco results'!V34","v":0},{"$f":"'Eco results'!W34","v":0},{"$f":"'Eco results'!X34","v":0},{"$f":"'Eco results'!Y34","v":0},{"$f":"'Eco results'!Z34","v":0},null,{"$f":"'Eco results'!Q52","v":0},{"$f":"'Eco results'!R52","v":0},{"$f":"'Eco results'!S52","v":0},{"$f":"'Eco results'!T52","v":0},{"$f":"'Eco results'!U52","v":0},{"$f":"'Eco results'!V52","v":0},{"$f":"'Eco results'!W52","v":0},{"$f":"'Eco results'!X52","v":0},{"$f":"'Eco results'!Y52","v":0},{"$f":"'Eco results'!Z52","v":0}]
[null,null,null,"Andre udgifter",null,{"$f":"F14","v":0},{"$f":"G14","v":0},0,0,0,0,0,0,0,0,null,{"$f":"Q14","v":0},{"$f":"R14","v":0},0,0,0,0,0,0,0,0]
[null,"Nettoudbytte",null,null,null,{"$f":"'Eco results'!Q35","v":0},{"$f":"'Eco results'!R35","v":0},{"$f":"'Eco results'!S35","v":0},{"$f":"'Eco results'!T35","v":0},{"$f":"'Eco results'!U35","v":0},{"$f":"'Eco results'!V35","v":0},{"$f":"'Eco results'!W35","v":0},{"$f":"'Eco results'!X35","v":0},{"$f":"'Eco results'!Y35","v":0},{"$f":"'Eco results'!Z34","v":0},null,{"$f":"'Eco results'!Q52","v":0},{"$f":"'Eco results'!R52","v":0},{"$f":"'Eco results'!S52","v":0},{"$f":"'Eco results'!T52","v":0},{"$f":"'Eco results'!U52","v":0},{"$f":"'Eco results'!V52","v":0},{"$f":"'Eco results'!W52","v":0},{"$f":"'Eco results'!X52","v":0},{"$f":"'Eco results'!Y52","v":0},{"$f":"'Eco results'!Z52","v":0}]
[]
[null,null,null,null,null,{"$f":"LEFT('Eco results'!Q24,1)","v":""},{"$f":"LEFT('Eco results'!R24,1)","v":""},{"$f":"LEFT('Eco results'!S24,1)","v":""},{"$f":"LEFT('Eco results'!T24,1)","v":""},{"$f":"LEFT('Eco results'!U24,1)","v":""},{"$f":"LEFT('Eco results'!V24,1)","v":""},{"$f":"LEFT('Eco results'!W24,1)","v":""},{"$f":"LEFT('Eco results'!X24,1)","v":""},{"$f":"LEFT('Eco results'!Y24,1)","v":""},{"$f":"LEFT('Eco results'!Z24,1)","v":""},null,{"$f":"LEFT('Eco results'!Q42,1)","v":""},{"$f":"LEFT('Eco results'!R24,1)","v":""},{"$f":"LEFT('Eco results'!S24,1)","v":""},{"$f":"LEFT('Eco results'!T24,1)","v":""},{"$f":"LEFT('Eco results'!U24,1)","v":""},{"$f":"LEFT('Eco results'!V24,1)","v":""},{"$f":"LEFT('Eco results'!W24,1)","v":""},{"$f":"LEFT('Eco results'!X24,1)","v":""},{"$f":"LEFT('Eco results'!Y24,1)","v":""},{"$f":"LEFT('Eco results'!Z24,1)","v":""}]
[null,"Biologiske resultater",null,null,"År",1,2,3,4,5,6,7,8,9,10,null,1,2,3,4,5,6,7,8,9,10]
[null,"Rajgræsplanter i perioden (/m2)"]
[null,"Tidlig såning 1.-15. sep /før 20. mar.",null,null,null,{"$f":"'Bio results'!D91","v":0},{"$f":"'Bio results'!E91","v":0},{"$f":"'Bio results'!F91","v":0},{"$f":"'Bio results'!G91","v":0},{"$f":"'Bio results'!H91","v":0},{"$f":"'Bio results'!I91","v":0},{"$f":"'Bio results'!J91","v":0},{"$f":"'Bio results'!K91","v":0},{"$f":"'Bio results'!L91","v":0},{"$f":"'Bio results'!M91","v":0},null,{"$f":"'Bio results'!D114","v":0},{"$f":"'Bio results'!E114","v":0},{"$f":"'Bio results'!F114","v":0},{"$f":"'Bio results'!G114","v":0},{"$f":"'Bio results'!H114","v":0},{"$f":"'Bio results'!I114","v":0},{"$f":"'Bio results'!J114","v":0},{"$f":"'Bio results'!K114","v":0},{"$f":"'Bio results'!L114","v":0},{"$f":"'Bio results'!M114","v":0}]
[null,"Medium såning 15.-20. sep /20. mar - 15. apr",null,null,null,{"$f":"'Bio results'!D92","v":0},{"$f":"'Bio results'!E92","v":0},{"$f":"'Bio results'!F92","v":0},{"$f":"'Bio results'!G92","v":0},{"$f":"'Bio results'!H92","v":0},{"$f":"'Bio results'!I92","v":0},{"$f":"'Bio results'!J92","v":0},{"$f":"'Bio results'!K92","v":0},{"$f":"'Bio results'!L92","v":0},{"$f":"'Bio results'!M92","v":0},null,{"$f":"'Bio results'!D115","v":0},{"$f":"'Bio results'!E115","v":0},{"$f":"'Bio results'!F115","v":0},{"$f":"'Bio results'!G115","v":0},{"$f":"'Bio results'!H115","v":0},{"$f":"'Bio results'!I115","v":0},{"$f":"'Bio results'!J115","v":0},{"$f":"'Bio results'!K115","v":0},{"$f":"'Bio results'!L115","v":0},{"$f":"'Bio results'!M115","v":0}]
[null,"Sen såning efter 20. sep / efter 15. apr.",null,null,null,{"$f":"'Bio results'!D93","v":0},{"$f":"'Bio results'!E93","v":0},{"$f":"'Bio results'!F93","v":0},{"$f":"'Bio results'!G93","v":0},{"$f":"'Bio results'!H93","v":0},{"$f":"'Bio results'!I93","v":0},{"$f":"'Bio results'!J93","v":0},{"$f":"'Bio results'!K93","v":0},{"$f":"'Bio results'!L93","v":0},{"$f":"'Bio results'!M93","v":0},null,{"$f":"'Bio results'!D116","v":0},{"$f":"'Bio results'!E116","v":0},{"$f":"'Bio results'!F116","v":0},{"$f":"'Bio results'!G116","v":0},{"$f":"'Bio results'!H116","v":0},{"$f":"'Bio results'!I116","v":0},{"$f":"'Bio results'!J116","v":0},{"$f":"'Bio results'!K116","v":0},{"$f":"'Bio results'!L116","v":0},{"$f":"'Bio results'!M116","v":0}]
[null,"Tid for Pre-E sprøjtning (sent fremspiret) /ikke relevant for vårsæd",null,null,null,{"$f":"'Bio results'!D94","v":0},{"$f":"'Bio results'!E94","v":0},{"$f":"'Bio results'!F94","v":0},{"$f":"'Bio results'!G94","v":0},{"$f":"'Bio results'!H94","v":0},{"$f":"'Bio results'!I94","v":0},{"$f":"'Bio results'!J94","v":0},{"$f":"'Bio results'!K94","v":0},{"$f":"'Bio results'!L94","v":0},{"$f":"'Bio results'!M94","v":0},null,{"$f":"'Bio results'!D117","v":0},{"$f":"'Bio results'!E117","v":0},{"$f":"'Bio results'!F117","v":0},{"$f":"'Bio results'!G117","v":0},{"$f":"'Bio results'!H117","v":0},{"$f":"'Bio results'!I117","v":0},{"$f":"'Bio results'!J117","v":0},{"$f":"'Bio results'!K117","v":0},{"$f":"'Bio results'!L117","v":0},{"$f":"'Bio results'!M117","v":0}]
[null,"Tid for Post-E sprøjtning",null,null,null,{"$f":"'Bio results'!D95","v":0},{"$f":"'Bio results'!E95","v":0},{"$f":"'Bio results'!F95","v":0},{"$f":"'Bio results'!G95","v":0},{"$f":"'Bio results'!H95","v":0},{"$f":"'Bio results'!I95","v":0},{"$f":"'Bio results'!J95","v":0},{"$f":"'Bio results'!K95","v":0},{"$f":"'Bio results'!L95","v":0},{"$f":"'Bio results'!M95","v":0},null,{"$f":"'Bio results'!D118","v":0},{"$f":"'Bio results'!E118","v":0},{"$f":"'Bio results'!F118","v":0},{"$f":"'Bio results'!G118","v":0},{"$f":"'Bio results'!H118","v":0},{"$f":"'Bio results'!I118","v":0},{"$f":"'Bio results'!J118","v":0},{"$f":"'Bio results'!K118","v":0},{"$f":"'Bio results'!L118","v":0},{"$f":"'Bio results'!M118","v":0}]
[null,"Slutning af sæson",null,null,null,{"$f":"'Bio results'!D96","v":0},{"$f":"'Bio results'!E96","v":0},{"$f":"'Bio results'!F96","v":0},{"$f":"'Bio results'!G96","v":0},{"$f":"'Bio results'!H96","v":0},{"$f":"'Bio results'!I96","v":0},{"$f":"'Bio results'!J96","v":0},{"$f":"'Bio results'!K96","v":0},{"$f":"'Bio results'!L96","v":0},{"$f":"'Bio results'!M96","v":0},null,{"$f":"'Bio results'!D119","v":0},{"$f":"'Bio results'!E119","v":0},{"$f":"'Bio results'!F119","v":0},{"$f":"'Bio results'!G119","v":0},{"$f":"'Bio results'!H119","v":0},{"$f":"'Bio results'!I119","v":0},{"$f":"'Bio results'!J119","v":0},{"$f":"'Bio results'!K119","v":0},{"$f":"'Bio results'!L119","v":0},{"$f":"'Bio results'!M119","v":0}]
[null,"Modne rajgræs, sætter frø",null,null,null,{"$f":"'Bio results'!D97","v":0},{"$f":"'Bio results'!E97","v":0},{"$f":"'Bio results'!F97","v":0},{"$f":"'Bio results'!G97","v":0},{"$f":"'Bio results'!H97","v":0},{"$f":"'Bio results'!I97","v":0},{"$f":"'Bio results'!J97","v":0},{"$f":"'Bio results'!K97","v":0},{"$f":"'Bio results'!L97","v":0},{"$f":"'Bio results'!M97","v":0},null,{"$f":"'Bio results'!D120","v":0},{"$f":"'Bio results'!E120","v":0},{"$f":"'Bio results'!F120","v":0},{"$f":"'Bio results'!G120","v":0},{"$f":"'Bio results'!H120","v":0},{"$f":"'Bio results'!I120","v":0},{"$f":"'Bio results'!J120","v":0},{"$f":"'Bio results'!K120","v":0},{"$f":"'Bio results'!L120","v":0},{"$f":"'Bio results'!M120","v":0}]
[]
[null,"Rajgræsfrø pr m2"]
[null,"Tidlig såning 1.-15. sep /før 20. mar.",null,null,null,{"$f":"'Bio results'!D101","v":0},{"$f":"'Bio results'!E101","v":0},{"$f":"'Bio results'!F101","v":0},{"$f":"'Bio results'!G101","v":0},{"$f":"'Bio results'!H101","v":0},{"$f":"'Bio results'!I101","v":0},{"$f":"'Bio results'!J101","v":0},{"$f":"'Bio results'!K101","v":0},{"$f":"'Bio results'!L101","v":0},{"$f":"'Bio results'!M101","v":0},null,{"$f":"'Bio results'!D124","v":0},{"$f":"'Bio results'!E124","v":0},{"$f":"'Bio results'!F124","v":0},{"$f":"'Bio results'!G124","v":0},{"$f":"'Bio results'!H124","v":0},{"$f":"'Bio results'!I124","v":0},{"$f":"'Bio results'!J124","v":0},{"$f":"'Bio results'!K124","v":0},{"$f":"'Bio results'!L124","v":0},{"$f":"'Bio results'!M124","v":0}]
[null,"Medium såning 15.-20. sep /20. mar - 15. apr",null,null,null,{"$f":"'Bio results'!D102","v":0},{"$f":"'Bio results'!E102","v":0},{"$f":"'Bio results'!F102","v":0},{"$f":"'Bio results'!G102","v":0},{"$f":"'Bio results'!H102","v":0},{"$f":"'Bio results'!I102","v":0},{"$f":"'Bio results'!J102","v":0},{"$f":"'Bio results'!K102","v":0},{"$f":"'Bio results'!L102","v":0},{"$f":"'Bio results'!M102","v":0},null,{"$f":"'Bio results'!D125","v":0},{"$f":"'Bio results'!E125","v":0},{"$f":"'Bio results'!F125","v":0},{"$f":"'Bio results'!G125","v":0},{"$f":"'Bio results'!H125","v":0},{"$f":"'Bio results'!I125","v":0},{"$f":"'Bio results'!J125","v":0},{"$f":"'Bio results'!K125","v":0},{"$f":"'Bio results'!L125","v":0},{"$f":"'Bio results'!M125","v":0}]
[null,"Sen såning efter 20. sep / efter 15. apr.",null,null,null,{"$f":"'Bio results'!D103","v":0},{"$f":"'Bio results'!E103","v":0},{"$f":"'Bio results'!F103","v":0},{"$f":"'Bio results'!G103","v":0},{"$f":"'Bio results'!H103","v":0},{"$f":"'Bio results'!I103","v":0},{"$f":"'Bio results'!J103","v":0},{"$f":"'Bio results'!K103","v":0},{"$f":"'Bio results'!L103","v":0},{"$f":"'Bio results'!M103","v":0},null,{"$f":"'Bio results'!D126","v":0},{"$f":"'Bio results'!E126","v":0},{"$f":"'Bio results'!F126","v":0},{"$f":"'Bio results'!G126","v":0},{"$f":"'Bio results'!H126","v":0},{"$f":"'Bio results'!I126","v":0},{"$f":"'Bio results'!J126","v":0},{"$f":"'Bio results'!K126","v":0},{"$f":"'Bio results'!L126","v":0},{"$f":"'Bio results'!M126","v":0}]
[null,"Tid for Post-E sprøjtning",null,null,null,{"$f":"'Bio results'!D105","v":0},{"$f":"'Bio results'!E105","v":0},{"$f":"'Bio results'!F105","v":0},{"$f":"'Bio results'!G105","v":0},{"$f":"'Bio results'!H105","v":0},{"$f":"'Bio results'!I105","v":0},{"$f":"'Bio results'!J105","v":0},{"$f":"'Bio results'!K105","v":0},{"$f":"'Bio results'!L105","v":0},{"$f":"'Bio results'!M105","v":0},null,{"$f":"'Bio results'!D127","v":0},{"$f":"'Bio results'!E127","v":0},{"$f":"'Bio results'!F127","v":0},{"$f":"'Bio results'!G127","v":0},{"$f":"'Bio results'!H127","v":0},{"$f":"'Bio results'!I127","v":0},{"$f":"'Bio results'!J127","v":0},{"$f":"'Bio results'!K127","v":0},{"$f":"'Bio results'!L127","v":0},{"$f":"'Bio results'!M127","v":0}]
[null,"   frø produceret pr m2",null,null,null,{"$f":"'Bio results'!D108","v":0},{"$f":"'Bio results'!E108","v":0},{"$f":"'Bio results'!F108","v":0},{"$f":"'Bio results'!G108","v":0},{"$f":"'Bio results'!H108","v":0},{"$f":"'Bio results'!I108","v":0},{"$f":"'Bio results'!J108","v":0},{"$f":"'Bio results'!K108","v":0},{"$f":"'Bio results'!L108","v":0},{"$f":"'Bio results'!M108","v":0},null,{"$f":"'Bio results'!D131","v":0},{"$f":"'Bio results'!E131","v":0},{"$f":"'Bio results'!F131","v":0},{"$f":"'Bio results'!G131","v":0},{"$f":"'Bio results'!H131","v":0},{"$f":"'Bio results'!I131","v":0},{"$f":"'Bio results'!J131","v":0},{"$f":"'Bio results'!K131","v":0},{"$f":"'Bio results'!L131","v":0},{"$f":"'Bio results'!M131","v":0}]
[null,"Lige før høst",null,null,null,{"$f":"'Bio results'!D109","v":0},{"$f":"'Bio results'!E109","v":0},{"$f":"'Bio results'!F109","v":0},{"$f":"'Bio results'!G109","v":0},{"$f":"'Bio results'!H109","v":0},{"$f":"'Bio results'!I109","v":0},{"$f":"'Bio results'!J109","v":0},{"$f":"'Bio results'!K109","v":0},{"$f":"'Bio results'!L109","v":0},{"$f":"'Bio results'!M109","v":0},null,{"$f":"'Bio results'!D132","v":0},{"$f":"'Bio results'!E132","v":0},{"$f":"'Bio results'!F132","v":0},{"$f":"'Bio results'!G132","v":0},{"$f":"'Bio results'!H132","v":0},{"$f":"'Bio results'!I132","v":0},{"$f":"'Bio results'!J132","v":0},{"$f":"'Bio results'!K132","v":0},{"$f":"'Bio results'!L132","v":0},{"$f":"'Bio results'!M132","v":0}]
[null,"Frø i jorden ved start af næste sæson (/m2)",null,null,null,{"$f":"'Bio results'!D110","v":0},{"$f":"'Bio results'!E110","v":0},{"$f":"'Bio results'!F110","v":0},{"$f":"'Bio results'!G110","v":0},{"$f":"'Bio results'!H110","v":0},{"$f":"'Bio results'!I110","v":0},{"$f":"'Bio results'!J110","v":0},{"$f":"'Bio results'!K110","v":0},{"$f":"'Bio results'!L110","v":0},{"$f":"'Bio results'!M110","v":0},null,{"$f":"'Bio results'!D133","v":0},{"$f":"'Bio results'!E133","v":0},{"$f":"'Bio results'!F133","v":0},{"$f":"'Bio results'!G133","v":0},{"$f":"'Bio results'!H133","v":0},{"$f":"'Bio results'!I133","v":0},{"$f":"'Bio results'!J133","v":0},{"$f":"'Bio results'!K133","v":0},{"$f":"'Bio results'!L133","v":0},{"$f":"'Bio results'!M133","v":0}]
[]
[null,null,null,null,null,"Jo mørkere grøn feltet er, des højere mængde rajgræsfrø/planter",null,null,null,null,null,null,null,null,null,null,null,null,null,null,null,null,null,null,null,null,null,null,null,null,null,null,null,null,null,null,null,null,null,null,null,null,null,{"$f":"P_34Tab","v":false}]
[null,null,null,null,null,"Her vises de udregnede tal uden afrunding. Det skal bemærkes at DK-RIM ikke er et præcist beregningsværktøj, men skal bruges til at vise tendenser og udvikling"]
[]
[]
[null,null,null,null,null,null,null,null,null,null,null,null,null,null,null,null,null,null,null,null,null,null,null,null,null,null,null,null,null,null,null,null," "]
[]
[null,null,null,null,null,null,null,null,null,null,null,null,null,null,null,null,null,null,null,null,null,null,null,null,null,null,null,null,null,null,null,null,null,null,null,null,null,null,null,null,null,null,null,null,null,0]
[null,null,null,null,null,null,null,null,null,null,null,null,null,null,null,null,null,null,null,null,null,null,null,null,null,null,null,null,null,null,null,null,null,null,null,null,null,null,null,null,null,null,null,null,null,0]
[null,null,null,null,null,null,null,null,null,null,null,null,null,null,null,null,null,null,null,null,null,null,null,null,null,null,null,null,null,null,null,null,null,null,null,null,null,null,null,null,null,null,null,null,null,0]
[null,null,null,null,null,null,null,null,null,null,null,null,null,null,null,null,null,null,null,null,null,null,null,null,null,null,null,null,null,null,null,null,null,null,null,null,null,null,null,null,null,null,null,null,null,0]
[null,null,"Vil du gerne eksportere dine resultater?",null,null,null,null,null,null,null,null,null,null,null,null,null,null,null,null,null,null,null,null,null,null,null,null,null,null,null,null,null,null,null,null,null,null,null,null,null,null,null,null,null,null,{"$f":"IF(AND(P_1P=FALSE,P_2S=FALSE,P_31Eco=FALSE,P_32Pop=FALSE,P_33CG=FALSE,P_34Tab=FALSE),\"none\",\"ok\")","v":"ok"}]
[]
[]
[]
[]
[null,null,null,null,null,null,"Aktive basis oplysninger",null,null,null,null,null,null,null,null,null,null,null,null,null,null,null,null,null,null,null,null,null,null,null,null,null,null,null,null,null,null,null,null,null,null,null,null,null,null,true]
[]
[]
[]
[null,null,null,null,null,null,"Aktiv strategi",null,null,null,null,null,null,null,null,null,null,null,null,null,null,null,null,null,null,null,null,null,null,null,null,null,null,null,null,null,null,null,null,null,null,null,null,null,null,true]
[]
[]
[]
[null,null,null,null,null,null,"Oversigt og økonomi ",null,null,null,null,null,null,null,null,null,null,null,null,null,null,null,null,null,null,null,null,null,null,null,null,null,null,null,null,null,null,null,null,null,null,null,null,null,null,false]
[]
[]
[]
[null,null,null,null,null,null,"Rajgræs frøpulje og population",null,null,null,null,null,null,null,null,null,null,null,null,null,null,null,null,null,null,null,null,null,null,null,null,null,null,null,null,null,null,null,null,null,null,null,null,null,null,true]
[]
[]
[]
[null,null,null,null,null,null,"Udbytte og konkurrence",null,null,null,null,null,null,null,null,null,null,null,null,null,null,null,null,null,null,null,null,null,null,null,null,null,null,null,null,null,null,null,null,null,null,null,null,null,null,false]
[]
[]
[]
[null,null,null,null,null,null,"Datatabeller",null,null,null,null,null,null,null,null,null,null,null,null,null,null,null,null,null,null,null,null,null,null,null,null,null,null,null,null,null,null,null,null,null,null,null,null,null,null,false]
[]
[]
[]
[]
[]
[]
[null,null,null,null,null,null,null,null,null,null,null,null,null,null,null,null,null,null,null,null,null,null,null,null,null,null,null,null,null,null,null,null,null,null,null,null,null,null,null,null,null,null,null,null,null,false]

{"sheet":"Eco results","index":14,"n_rows":96,"n_cols":28,"rows_kept":96,"cut":false,"hidden":false,"merged":[]}
[null,null,null,null,{"$f":"'2.Strategy'!D4","v":"Vårbyg"},{"$f":"'2.Strategy'!E4","v":"Raps"},{"$f":"'2.Strategy'!F4","v":"V.hvede"},{"$f":"'2.Strategy'!G4","v":"V.hvede"},{"$f":"'2.Strategy'!H4","v":"Vårbyg"},{"$f":"'2.Strategy'!I4","v":"Raps"},{"$f":"'2.Strategy'!J4","v":"V.hvede"},{"$f":"'2.Strategy'!K4","v":"V.hvede"},{"$f":"'2.Strategy'!L4","v":"Vårbyg"},{"$f":"'2.Strategy'!M4","v":"Raps"}]
[null,"Table 1. Receipts"]
[null,"Grain gross receipts (kr/ha)",null,null,{"$f":"IF(Calcs!C60<>\"\",0,IF(Calcs!E242=1,'Bio results'!D47*'1.Profile'!$D$8,IF(Calcs!E242=2,'Bio results'!D47*'1.Profile'!$E$8,IF(Calcs!E242=3,'Bio results'!D47*'1.Profile'!$F$8,IF(Calcs!E242=4,'Bio results'!D49*'1.Profile'!$G$8,IF(Calcs!E242=5,'Bio results'!D48*'1.Profile'!$H$8,IF(Calcs!E242=6,'Bio results'!D48*'1.Profile'!$I$8,IF(Calcs!E242=7,'Bio results'!D48*'1.Profile'!$J$8,IF(Calcs!E242=8,'Bio results'!D50*'1.Profile'!$K$8,0)))))))))","v":7821.1072062869189},{"$f":"IF(Calcs!D60<>\"\",0,IF(Calcs!F242=1,'Bio results'!E47*'1.Profile'!$D$8,IF(Calcs!F242=2,'Bio results'!E47*'1.Profile'!$E$8,IF(Calcs!F242=3,'Bio results'!E47*'1.Profile'!$F$8,IF(Calcs!F242=4,'Bio results'!E49*'1.Profile'!$G$8,IF(Calcs!F242=5,'Bio results'!E48*'1.Profile'!$H$8,IF(Calcs!F242=6,'Bio results'!E48*'1.Profile'!$I$8,IF(Calcs!F242=7,'Bio results'!E48*'1.Profile'!$J$8,IF(Calcs!F242=8,'Bio results'!E50*'1.Profile'!$K$8,0)))))))))","v":11180.718079753913},{"$f":"IF(Calcs!E60<>\"\",0,IF(Calcs!G242=1,'Bio results'!F47*'1.Profile'!$D$8,IF(Calcs!G242=2,'Bio results'!F47*'1.Profile'!$E$8,IF(Calcs!G242=3,'Bio results'!F47*'1.Profile'!$F$8,IF(Calcs!G242=4,'Bio results'!F49*'1.Profile'!$G$8,IF(Calcs!G242=5,'Bio results'!F48*'1.Profile'!$H$8,IF(Calcs!G242=6,'Bio results'!F48*'1.Profile'!$I$8,IF(Calcs!G242=7,'Bio results'!F48*'1.Profile'!$J$8,IF(Calcs!G242=8,'Bio results'!F50*'1.Profile'!$K$8,0)))))))))","v":12126.82742578019},{"$f":"IF(Calcs!F60<>\"\",0,IF(Calcs!H242=1,'Bio results'!G47*'1.Profile'!$D$8,IF(Calcs!H242=2,'Bio results'!G47*'1.Profile'!$E$8,IF(Calcs!H242=3,'Bio results'!G47*'1.Profile'!$F$8,IF(Calcs!H242=4,'Bio results'!G49*'1.Profile'!$G$8,IF(Calcs!H242=5,'Bio results'!G48*'1.Profile'!$H$8,IF(Calcs!H242=6,'Bio results'!G48*'1.Profile'!$I$8,IF(Calcs!H242=7,'Bio results'!G48*'1.Profile'!$J$8,IF(Calcs!H242=8,'Bio results'!G50*'1.Profile'!$K$8,0)))))))))","v":8590.6120452255946},{"$f":"IF(Calcs!G60<>\"\",0,IF(Calcs!I242=1,'Bio results'!H47*'1.Profile'!$D$8,IF(Calcs!I242=2,'Bio results'!H47*'1.Profile'!$E$8,IF(Calcs!I242=3,'Bio results'!H47*'1.Profile'!$F$8,IF(Calcs!I242=4,'Bio results'!H49*'1.Profile'!$G$8,IF(Calcs!I242=5,'Bio results'!H48*'1.Profile'!$H$8,IF(Calcs!I242=6,'Bio results'!H48*'1.Profile'!$I$8,IF(Calcs!I242=7,'Bio results'!H48*'1.Profile'!$J$8,IF(Calcs!I242=8,'Bio results'!H50*'1.Profile'!$K$8,0)))))))))","v":7628.7251980649171},{"$f":"IF(Calcs!H60<>\"\",0,IF(Calcs!J242=1,'Bio results'!I47*'1.Profile'!$D$8,IF(Calcs!J242=2,'Bio results'!I47*'1.Profile'!$E$8,IF(Calcs!J242=3,'Bio results'!I47*'1.Profile'!$F$8,IF(Calcs!J242=4,'Bio results'!I49*'1.Profile'!$G$8,IF(Calcs!J242=5,'Bio results'!I48*'1.Profile'!$H$8,IF(Calcs!J242=6,'Bio results'!I48*'1.Profile'!$I$8,IF(Calcs!J242=7,'Bio results'!I48*'1.Profile'!$J$8,IF(Calcs!J242=8,'Bio results'!I50*'1.Profile'!$K$8,0)))))))))","v":10925.330023330105},{"$f":"IF(Calcs!I60<>\"\",0,IF(Calcs!K242=1,'Bio results'!J47*'1.Profile'!$D$8,IF(Calcs!K242=2,'Bio results'!J47*'1.Profile'!$E$8,IF(Calcs!K242=3,'Bio results'!J47*'1.Profile'!$F$8,IF(Calcs!K242=4,'Bio results'!J49*'1.Profile'!$G$8,IF(Calcs!K242=5,'Bio results'!J48*'1.Profile'!$H$8,IF(Calcs!K242=6,'Bio results'!J48*'1.Profile'!$I$8,IF(Calcs!K242=7,'Bio results'!J48*'1.Profile'!$J$8,IF(Calcs!K242=8,'Bio results'!J50*'1.Profile'!$K$8,0)))))))))","v":11918.477258747607},{"$f":"IF(Calcs!J60<>\"\",0,IF(Calcs!L242=1,'Bio results'!K47*'1.Profile'!$D$8,IF(Calcs!L242=2,'Bio results'!K47*'1.Profile'!$E$8,IF(Calcs!L242=3,'Bio results'!K47*'1.Profile'!$F$8,IF(Calcs!L242=4,'Bio results'!K49*'1.Profile'!$G$8,IF(Calcs!L242=5,'Bio results'!K48*'1.Profile'!$H$8,IF(Calcs!L242=6,'Bio results'!K48*'1.Profile'!$I$8,IF(Calcs!L242=7,'Bio results'!K48*'1.Profile'!$J$8,IF(Calcs!L242=8,'Bio results'!K50*'1.Profile'!$K$8,0)))))))))","v":7980.0033030912882},{"$f":"IF(Calcs!K60<>\"\",0,IF(Calcs!M242=1,'Bio results'!L47*'1.Profile'!$D$8,IF(Calcs!M242=2,'Bio results'!L47*'1.Profile'!$E$8,IF(Calcs!M242=3,'Bio results'!L47*'1.Profile'!$F$8,IF(Calcs!M242=4,'Bio results'!L49*'1.Profile'!$G$8,IF(Calcs!M242=5,'Bio results'!L48*'1.Profile'!$H$8,IF(Calcs!M242=6,'Bio results'!L48*'1.Profile'!$I$8,IF(Calcs!M242=7,'Bio results'!L48*'1.Profile'!$J$8,IF(Calcs!M242=8,'Bio results'!L50*'1.Profile'!$K$8,0)))))))))","v":7286.6889128566499},{"$f":"IF(Calcs!L60<>\"\",0,IF(Calcs!N242=1,'Bio results'!M47*'1.Profile'!$D$8,IF(Calcs!N242=2,'Bio results'!M47*'1.Profile'!$E$8,IF(Calcs!N242=3,'Bio results'!M47*'1.Profile'!$F$8,IF(Calcs!N242=4,'Bio results'!M49*'1.Profile'!$G$8,IF(Calcs!N242=5,'Bio results'!M48*'1.Profile'!$H$8,IF(Calcs!N242=6,'Bio results'!M48*'1.Profile'!$I$8,IF(Calcs!N242=7,'Bio results'!M48*'1.Profile'!$J$8,IF(Calcs!N242=8,'Bio results'!M50*'1.Profile'!$K$8,0)))))))))","v":10515.741655994038}]
[null,"Eu aid per hectare",null,null,{"$f":"'1.Profile'!$K$10","v":0},{"$f":"'1.Profile'!$K$10","v":0},{"$f":"'1.Profile'!$K$10","v":0},{"$f":"'1.Profile'!$K$10","v":0},{"$f":"'1.Profile'!$K$10","v":0},{"$f":"'1.Profile'!$K$10","v":0},{"$f":"'1.Profile'!$K$10","v":0},{"$f":"'1.Profile'!$K$10","v":0},{"$f":"'1.Profile'!$K$10","v":0},{"$f":"'1.Profile'!$K$10","v":0},null,"ACTIVE"]
[null,"Total gross receipts (kr/ha)",null,null,{"$f":"E3+E4","v":7821.1072062869189},{"$f":"F3+F4","v":11180.718079753913},12126.82742578019,8590.6120452255946,7628.7251980649171,10925.330023330105,11918.477258747607,7980.0033030912882,7286.6889128566499,10515.741655994038,null,{"$f":"E91","v":3000},{"$f":"'1.Profile'!$O$27&\", \"&'1.Profile'!$O$26&\" - \"&'2.Strategy'!$O$6","v":"Ingen resistens, Danmark - "}]
[null,null,null,null,null,null,null,null,null,null,null,null,null,null,null,null,{"$f":"E1","v":"Vårbyg"},"Raps","V.hvede","V.hvede","Vårbyg","Raps","V.hvede","V.hvede","Vårbyg","Raps",null,"TOTAL"]
[null,null,null,null,null,null,null,null,null,null,null,null,null,null,null,"Udbytte + hektarstøtte",{"$f":"E5","v":7821.1072062869189},{"$f":"F5","v":11180.718079753913},12126.82742578019,8590.6120452255946,7628.7251980649171,10925.330023330105,11918.477258747607,7980.0033030912882,7286.6889128566499,10515.741655994038,null,{"$f":"SUM(Q7:Z7)+0.1","v":95974.331109131221}]
[null,null,null,null,null,null,null,null,null,null,null,null,null,null,null,"Konkurrence fra afgrøde",{"$f":"SUM(Calcs!C150:C152)+SUM(Calcs!C177:C179)","v":360},{"$f":"SUM(Calcs!D150:D152)+SUM(Calcs!D177:D179)","v":374},{"$f":"SUM(Calcs!E150:E152)+SUM(Calcs!E177:E179)","v":817.7},{"$f":"SUM(Calcs!F150:F152)+SUM(Calcs!F177:F179)","v":442},{"$f":"SUM(Calcs!G150:G152)+SUM(Calcs!G177:G179)","v":360},{"$f":"SUM(Calcs!H150:H152)+SUM(Calcs!H177:H179)","v":374},{"$f":"SUM(Calcs!I150:I152)+SUM(Calcs!I177:I179)","v":817.7},{"$f":"SUM(Calcs!J150:J152)+SUM(Calcs!J177:J179)","v":442},{"$f":"SUM(Calcs!K150:K152)+SUM(Calcs!K177:K179)","v":360},{"$f":"SUM(Calcs!L150:L152)+SUM(Calcs!L177:L179)","v":374},null,{"$f":"SUM(Q8:Z8)+0.1","v":4721.5}]
[null,null,null,null,null,null,null,null,null,null,null,null,null,null,null,"Herbicider",{"$f":"SUM(E15:E17)+SUM(E31:E39)+SUM(E43:E45)+SUM(E57:E63)","v":163},{"$f":"SUM(F15:F17)+SUM(F31:F39)+SUM(F43:F45)+SUM(F57:F63)","v":0},761,833,163,0,761,833,163,0,null,{"$f":"SUM(Q9:Z9)+0.1","v":3677.1}]
[null,"Table 2. Expenses,includes plough, fert and fungicides etc",null,null,null,null,null,null,null,null,null,null,null,null,null,"Kulturtekniske tiltag",{"$f":"SUM(Calcs!C144:C146)+SUM(Calcs!C170:C173)","v":4842},{"$f":"SUM(Calcs!D144:D146)+SUM(Calcs!D170:D173)","v":4842},{"$f":"SUM(Calcs!E144:E146)+SUM(Calcs!E170:E173)","v":4842},{"$f":"SUM(Calcs!F144:F146)+SUM(Calcs!F170:F173)","v":4842},{"$f":"SUM(Calcs!G144:G146)+SUM(Calcs!G170:G173)","v":4842},{"$f":"SUM(Calcs!H144:H146)+SUM(Calcs!H170:H173)","v":4842},{"$f":"SUM(Calcs!I144:I146)+SUM(Calcs!I170:I173)","v":4842},{"$f":"SUM(Calcs!J144:J146)+SUM(Calcs!J170:J173)","v":4842},{"$f":"SUM(Calcs!K144:K146)+SUM(Calcs!K170:K173)","v":4842},{"$f":"SUM(Calcs!L144:L146)+SUM(Calcs!L170:L173)","v":4842},null,{"$f":"SUM(Q10:Z10)+0.1","v":48420.1}]
[null,"Non-weed-control costs, grain (kr/ha)",null,null,{"$f":"Calcs!C358+Calcs!C359+Calcs!C360+Calcs!C361","v":4410},{"$f":"Calcs!D358+Calcs!D359+Calcs!D360+Calcs!D361","v":6024},{"$f":"Calcs!E358+Calcs!E359+Calcs!E360+Calcs!E361","v":5217.7},{"$f":"Calcs!F358+Calcs!F359+Calcs!F360+Calcs!F361","v":4842},{"$f":"Calcs!G358+Calcs!G359+Calcs!G360+Calcs!G361","v":4410},{"$f":"Calcs!H358+Calcs!H359+Calcs!H360+Calcs!H361","v":6024},{"$f":"Calcs!I358+Calcs!I359+Calcs!I360+Calcs!I361","v":5217.7},{"$f":"Calcs!J358+Calcs!J359+Calcs!J360+Calcs!J361","v":4842},{"$f":"Calcs!K358+Calcs!K359+Calcs!K360+Calcs!K361","v":4410},{"$f":"Calcs!L358+Calcs!L359+Calcs!L360+Calcs!L361","v":6024},null,"Brugervalgte muligheder",{"$f":"SUM(E67:E68)","v":0},{"$f":"SUM(F67:F68)","v":0},{"$f":"SUM(G67:G68)","v":0},{"$f":"SUM(H67:H68)","v":0},{"$f":"SUM(I67:I68)","v":0},{"$f":"SUM(J67:J68)","v":0},{"$f":"SUM(K67:K68)","v":0},{"$f":"SUM(L67:L68)","v":0},{"$f":"SUM(M67:M68)","v":0},{"$f":"SUM(N67:N68)","v":0},null,{"$f":"SUM(Q11:Z11)+0.1","v":0.1}]
[null,"Non-weed-control costs, grass or grass/clover (kr/ha)",null,null,{"$f":"Calcs!C362+Calcs!C363","v":0},{"$f":"Calcs!D362+Calcs!D363","v":0},{"$f":"Calcs!E362+Calcs!E363","v":0},{"$f":"Calcs!F362+Calcs!F363","v":0},{"$f":"Calcs!G362+Calcs!G363","v":0},{"$f":"Calcs!H362+Calcs!H363","v":0},{"$f":"Calcs!I362+Calcs!I363","v":0},{"$f":"Calcs!J362+Calcs!J363","v":0},{"$f":"Calcs!K362+Calcs!K363","v":0},{"$f":"Calcs!L362+Calcs!L363","v":0},null,"Non-weed-control costs, grain ($/ha)",{"$f":"E11-((SUM(Calcs!C150:C152)+SUM(Calcs!C177:C179))+SUM(Calcs!C144:C146)+SUM(Calcs!C170:C173)+SUM(E74))","v":-792},{"$f":"F11-((SUM(Calcs!D150:D152)+SUM(Calcs!D177:D179))+SUM(Calcs!D144:D146)+SUM(Calcs!D170:D173)+SUM(F74))","v":808},{"$f":"G11-((SUM(Calcs!E150:E152)+SUM(Calcs!E177:E179))+SUM(Calcs!E144:E146)+SUM(Calcs!E170:E173)+SUM(G74))","v":-442},{"$f":"H11-((SUM(Calcs!F150:F152)+SUM(Calcs!F177:F179))+SUM(Calcs!F144:F146)+SUM(Calcs!F170:F173)+SUM(H74))","v":-442},{"$f":"I11-((SUM(Calcs!G150:G152)+SUM(Calcs!G177:G179))+SUM(Calcs!G144:G146)+SUM(Calcs!G170:G173)+SUM(I74))","v":-792},{"$f":"J11-((SUM(Calcs!H150:H152)+SUM(Calcs!H177:H179))+SUM(Calcs!H144:H146)+SUM(Calcs!H170:H173)+SUM(J74))","v":808},{"$f":"K11-((SUM(Calcs!I150:I152)+SUM(Calcs!I177:I179))+SUM(Calcs!I144:I146)+SUM(Calcs!I170:I173)+SUM(K74))","v":-442},{"$f":"L11-((SUM(Calcs!J150:J152)+SUM(Calcs!J177:J179))+SUM(Calcs!J144:J146)+SUM(Calcs!J170:J173)+SUM(L74))","v":-442},{"$f":"M11-((SUM(Calcs!K150:K152)+SUM(Calcs!K177:K179))+SUM(Calcs!K144:K146)+SUM(Calcs!K170:K173)+SUM(M74))","v":-792},{"$f":"N11-((SUM(Calcs!L150:L152)+SUM(Calcs!L177:L179))+SUM(Calcs!L144:L146)+SUM(Calcs!L170:L173)+SUM(N74))","v":808}]
[null,"Total non-weed-control costs (kr/ha) ",null,null,{"$f":"SUM(E11:E12)","v":4410},6024,5217.7,4842,4410,6024,5217.7,4842,4410,6024,null,"Non-weed-control costs, pasture ($/ha)",{"$f":"E12","v":0},0,0,0,0,0,0,0,0,0]
[null,null,null,null,null,null,null,null,null,null,null,null,null,null,null,"Gross margin (kr/ha)",{"$f":"E81","v":2123.1072062869189},4306.7180797539131,5023.1274257801897,1790.6120452255946,1930.7251980649171,4051.3300233301052,4814.7772587476074,1180.0033030912882,1588.6889128566499,3641.7416559940375]
[{"$f":"Calcs!A7","v":1},{"$f":"Calcs!B138","v":"Glyphosate Early"},null,null,null,null,null,null,null,null,null,null,null,null,null,{"$f":"'Bio results'!C9","v":"Mature ryegrass plants setting seed"},{"$f":"'Bio results'!D9","v":3.2281380000000013},{"$f":"'Bio results'!E9","v":2.6336859499999989},{"$f":"'Bio results'!F9","v":1.8462774525000007},{"$f":"'Bio results'!G9","v":10.159331092312499},{"$f":"'Bio results'!H9","v":6.1334622000000012},{"$f":"'Bio results'!I9","v":5.2673718999999979},{"$f":"'Bio results'!J9","v":3.6925549050000015},{"$f":"'Bio results'!K9","v":20.318662184624998},{"$f":"'Bio results'!L9","v":12.266924400000002},{"$f":"'Bio results'!M9","v":10.158502949999995}]
[{"$f":"Calcs!A8","v":2},{"$f":"Calcs!B139","v":"Glyphosate Intermediate"},null,null,null,"Costs are included in glyphosate rate"]
[{"$f":"Calcs!A9","v":3},{"$f":"Calcs!B140","v":"Glyphosate Late"}]
[{"$f":"Calcs!A10","v":4},{"$f":"Calcs!B10","v":"None"},null,null,{"$f":"Calcs!C141","v":0},{"$f":"Calcs!D141","v":0},{"$f":"Calcs!E141","v":0},{"$f":"Calcs!F141","v":0},{"$f":"Calcs!G141","v":0},{"$f":"Calcs!H141","v":0},{"$f":"Calcs!I141","v":0},{"$f":"Calcs!J141","v":0},{"$f":"Calcs!K141","v":0},{"$f":"Calcs!L141","v":0}]
[{"$f":"Calcs!A11","v":5},{"$f":"Calcs!B11","v":"Glyphosate rate: 540"},null,null,{"$f":"Calcs!C142","v":0},{"$f":"Calcs!D142","v":0},{"$f":"Calcs!E142","v":0},{"$f":"Calcs!F142","v":0},{"$f":"Calcs!G142","v":0},{"$f":"Calcs!H142","v":0},{"$f":"Calcs!I142","v":0},{"$f":"Calcs!J142","v":0},{"$f":"Calcs!K142","v":0},{"$f":"Calcs!L142","v":0}]
[{"$f":"Calcs!A12","v":6},{"$f":"Calcs!B12","v":"Glyphosate rate: 1080"},null,null,{"$f":"Calcs!C143","v":0},{"$f":"Calcs!D143","v":0},{"$f":"Calcs!E143","v":0},{"$f":"Calcs!F143","v":0},{"$f":"Calcs!G143","v":0},{"$f":"Calcs!H143","v":0},{"$f":"Calcs!I143","v":0},{"$f":"Calcs!J143","v":0},{"$f":"Calcs!K143","v":0},{"$f":"Calcs!L143","v":0}]
[{"$f":"Calcs!A13","v":7},{"$f":"Calcs!B13","v":"Plough"},null,null,null,null,null,null,null,null,null,null,null,null,null,null,null,null,null,null,null,null,null,null,null,null," "]
[{"$f":"Calcs!A14","v":8},{"$f":"Calcs!B14","v":"Reduced tillage"},null,null,null,"Costs are included in the non-weed-control costs.",null,null,null,null,null,null,null,null,null,"STRATEGY A"]
[{"$f":"Calcs!A15","v":9},{"$f":"Calcs!B15","v":"No-till"}]
[{"$f":"Calcs!A16","v":10},{"$f":"Calcs!B16","v":"Early sowing"}]
[{"$f":"Calcs!A17","v":11},{"$f":"Calcs!B17","v":"Intermediate sowing"},null,null,null,"Costs are included in the non-weed-control costs.",null,null,null,null,null,null,null,null,null,null,"Ingen resistens, Danmark - "]
[{"$f":"Calcs!A18","v":12},{"$f":"Calcs!B18","v":"Late Sowing"},null,null,null,null,null,null,null,null,null,null,null,null,null,null,"Vårbyg","Raps","V.hvede","V.hvede","Vårbyg","Raps","V.hvede","V.hvede","Vårbyg","Raps",null,"TOTAL"]
[{"$f":"Calcs!A19","v":13},{"$f":"Calcs!B19","v":"Standard seeding rate"},null,null,null,null,null,null,null,null,null,null,null,null,null,"Udbytte + hektarstøtte"]
[{"$f":"Calcs!A20","v":14},{"$f":"Calcs!B21","v":"High seeding rate"},null,null,null,"Costs are included in the non-weed-control costs.",null,null,null,null,null,null,null,null,null,"Konkurrence fra afgrøde"]
[{"$f":"Calcs!A21","v":15},{"$f":"Calcs!B22","v":"Cover crops"},null,null,{"$f":"Calcs!C153","v":0},{"$f":"Calcs!D153","v":0},{"$f":"Calcs!E153","v":0},{"$f":"Calcs!F153","v":0},{"$f":"Calcs!G153","v":0},{"$f":"Calcs!H153","v":0},{"$f":"Calcs!I153","v":0},{"$f":"Calcs!J153","v":0},{"$f":"Calcs!K153","v":0},{"$f":"Calcs!L153","v":0},null,"Herbicider"]
[{"$f":"Calcs!A22","v":16},{"$f":"Calcs!B23","v":"No cover crops"},null,null,{"$f":"Calcs!C154","v":0},{"$f":"Calcs!D154","v":0},{"$f":"Calcs!E154","v":0},{"$f":"Calcs!F154","v":0},{"$f":"Calcs!G154","v":0},{"$f":"Calcs!H154","v":0},{"$f":"Calcs!I154","v":0},{"$f":"Calcs!J154","v":0},{"$f":"Calcs!K154","v":0},{"$f":"Calcs!L154","v":0},null,"Kulturtekniske tiltag"]
[{"$f":"Calcs!A23","v":17},{"$f":"Calcs!B24","v":"Pre-E: Boxer 1 l"},null,null,{"$f":"Calcs!C155","v":0},{"$f":"Calcs!D155","v":0},{"$f":"Calcs!E155","v":255},{"$f":"Calcs!F155","v":255},{"$f":"Calcs!G155","v":0},{"$f":"Calcs!H155","v":0},{"$f":"Calcs!I155","v":255},{"$f":"Calcs!J155","v":255},{"$f":"Calcs!K155","v":0},{"$f":"Calcs!L155","v":0},null,"Brugervalgte muligheder"]
[{"$f":"Calcs!A24","v":18},{"$f":"Calcs!B25","v":"Pre-E: Boxer 2 l"},null,null,{"$f":"Calcs!C156","v":0},{"$f":"Calcs!D156","v":0},{"$f":"Calcs!E156","v":0},{"$f":"Calcs!F156","v":0},{"$f":"Calcs!G156","v":0},{"$f":"Calcs!H156","v":0},{"$f":"Calcs!I156","v":0},{"$f":"Calcs!J156","v":0},{"$f":"Calcs!K156","v":0},{"$f":"Calcs!L156","v":0},null,"Non-weed-control costs, grain ($/ha)"]
[{"$f":"Calcs!A25","v":19},{"$f":"Calcs!B26","v":"Post-E: Topik"},null,null,{"$f":"Calcs!C155","v":0},{"$f":"Calcs!D155","v":0},{"$f":"Calcs!E155","v":255},{"$f":"Calcs!F155","v":255},{"$f":"Calcs!G155","v":0},{"$f":"Calcs!H155","v":0},{"$f":"Calcs!I155","v":255},{"$f":"Calcs!J155","v":255},{"$f":"Calcs!K155","v":0},{"$f":"Calcs!L155","v":0},null,"Non-weed-control costs, pasture ($/ha)"]
[{"$f":"Calcs!A26","v":20},{"$f":"Calcs!B27","v":"Post-E: Atlantis OD"},null,null,{"$f":"Calcs!C156","v":0},{"$f":"Calcs!D156","v":0},{"$f":"Calcs!E156","v":0},{"$f":"Calcs!F156","v":0},{"$f":"Calcs!G156","v":0},{"$f":"Calcs!H156","v":0},{"$f":"Calcs!I156","v":0},{"$f":"Calcs!J156","v":0},{"$f":"Calcs!K156","v":0},{"$f":"Calcs!L156","v":0},null,"Gross margin (kr/ha)"]
[{"$f":"Calcs!A27","v":21},{"$f":"Calcs!B28","v":"Post-E: Hussar Plus OD"},null,null,{"$f":"Calcs!C157","v":0},{"$f":"Calcs!D157","v":0},{"$f":"Calcs!E157","v":0},{"$f":"Calcs!F157","v":323},{"$f":"Calcs!G157","v":0},{"$f":"Calcs!H157","v":0},{"$f":"Calcs!I157","v":0},{"$f":"Calcs!J157","v":323},{"$f":"Calcs!K157","v":0},{"$f":"Calcs!L157","v":0},null,"Mature ryegrass plants setting seed"]
[{"$f":"Calcs!A28","v":22},{"$f":"Calcs!B29","v":"Post-E: Broadway"},null,null,{"$f":"Calcs!C158","v":0},{"$f":"Calcs!D158","v":0},{"$f":"Calcs!E158","v":0},{"$f":"Calcs!F158","v":0},{"$f":"Calcs!G158","v":0},{"$f":"Calcs!H158","v":0},{"$f":"Calcs!I158","v":0},{"$f":"Calcs!J158","v":0},{"$f":"Calcs!K158","v":0},{"$f":"Calcs!L158","v":0}]
[{"$f":"Calcs!A29","v":23},{"$f":"Calcs!B30","v":"Post-E: Cossack OD"},null,null,{"$f":"Calcs!C159","v":0},{"$f":"Calcs!D159","v":0},{"$f":"Calcs!E159","v":0},{"$f":"Calcs!F159","v":0},{"$f":"Calcs!G159","v":0},{"$f":"Calcs!H159","v":0},{"$f":"Calcs!I159","v":0},{"$f":"Calcs!J159","v":0},{"$f":"Calcs!K159","v":0},{"$f":"Calcs!L159","v":0}]
[{"$f":"Calcs!A30","v":24},{"$f":"Calcs!B31","v":"Post-E: Focus Ultra"},null,null,{"$f":"Calcs!C160","v":0},{"$f":"Calcs!D160","v":0},{"$f":"Calcs!E160","v":0},{"$f":"Calcs!F160","v":0},{"$f":"Calcs!G160","v":0},{"$f":"Calcs!H160","v":0},{"$f":"Calcs!I160","v":0},{"$f":"Calcs!J160","v":0},{"$f":"Calcs!K160","v":0},{"$f":"Calcs!L160","v":0}]
[{"$f":"Calcs!A31","v":25},{"$f":"Calcs!B32","v":"Post-E: Kerb"},null,null,{"$f":"Calcs!C161","v":0},{"$f":"Calcs!D161","v":0},{"$f":"Calcs!E161","v":0},{"$f":"Calcs!F161","v":0},{"$f":"Calcs!G161","v":0},{"$f":"Calcs!H161","v":0},{"$f":"Calcs!I161","v":0},{"$f":"Calcs!J161","v":0},{"$f":"Calcs!K161","v":0},{"$f":"Calcs!L161","v":0}]
[{"$f":"Calcs!A32","v":26},{"$f":"Calcs!B164","v":"Glyphosate Early"},null,null,null,null,null,null,null,null,null,null,null,null,null,"STRATEGY B"]
[{"$f":"Calcs!A33","v":27},{"$f":"Calcs!B165","v":"Glyphosate Medium"},null,null,null,"Costs are included in glyphosate rate"]
[{"$f":"Calcs!A34","v":28},{"$f":"Calcs!B166","v":"Glyphosate Late"}]
[{"$f":"Calcs!A35","v":29},{"$f":"Calcs!B36","v":"None"},null,null,{"$f":"Calcs!C167","v":0},{"$f":"Calcs!D167","v":0},{"$f":"Calcs!E167","v":0},{"$f":"Calcs!F167","v":0},{"$f":"Calcs!G167","v":0},{"$f":"Calcs!H167","v":0},{"$f":"Calcs!I167","v":0},{"$f":"Calcs!J167","v":0},{"$f":"Calcs!K167","v":0},{"$f":"Calcs!L167","v":0},null,null,"Ingen resistens, Danmark - "]
[{"$f":"Calcs!A36","v":30},{"$f":"Calcs!B37","v":"Glyphosate rate: 540"},null,null,{"$f":"Calcs!C168","v":0},{"$f":"Calcs!D168","v":0},{"$f":"Calcs!E168","v":0},{"$f":"Calcs!F168","v":0},{"$f":"Calcs!G168","v":0},{"$f":"Calcs!H168","v":0},{"$f":"Calcs!I168","v":0},{"$f":"Calcs!J168","v":0},{"$f":"Calcs!K168","v":0},{"$f":"Calcs!L168","v":0},null,null,"V.hvede","V.hvede","V.hvede","V.hvede","V.hvede","V.hvede","V.hvede","V.hvede","V.hvede","V.hvede",null,"TOTAL"]
[{"$f":"Calcs!A37","v":31},{"$f":"Calcs!B38","v":"Glyphosate rate: 1080"},null,null,{"$f":"Calcs!C169","v":0},{"$f":"Calcs!D169","v":0},{"$f":"Calcs!E169","v":0},{"$f":"Calcs!F169","v":0},{"$f":"Calcs!G169","v":0},{"$f":"Calcs!H169","v":0},{"$f":"Calcs!I169","v":0},{"$f":"Calcs!J169","v":0},{"$f":"Calcs!K169","v":0},{"$f":"Calcs!L169","v":0},null,"Udbytte + hektarstøtte"]
[{"$f":"Calcs!A38","v":32},{"$f":"Calcs!B170","v":"Need-based plough"},null,null,null,null,null,null,null,null,null,null,null,null,null,"Konkurrence fra afgrøde"]
[{"$f":"Calcs!A39","v":33},{"$f":"Calcs!B171","v":"Plough"},null,null,null,null,null,null,null,null,null,null,null,null,null,"Herbicider"]
[{"$f":"Calcs!A40","v":34},{"$f":"Calcs!B172","v":"Reduced tillage"},null,null,null,"Costs are included in the non-weed-control costs.",null,null,null,null,null,null,null,null,null,"Kulturtekniske tiltag"]
[{"$f":"Calcs!A41","v":35},{"$f":"Calcs!B173","v":"No-till"},null,null,null,null,null,null,null,null,null,null,null,null,null,"Brugervalgte muligheder"]
[{"$f":"Calcs!A42","v":36},{"$f":"Calcs!B174","v":"Early sowing"},null,null,null,null,null,null,null,null,null,null,null,null,null,"Non-weed-control costs, grain ($/ha)"]
[{"$f":"Calcs!A43","v":37},{"$f":"Calcs!B175","v":"Intermediate sowing"},null,null,null,"Costs are included in the non-weed-control costs.",null,null,null,null,null,null,null,null,null,"Non-weed-control costs, pasture ($/ha)"]
[{"$f":"Calcs!A44","v":38},{"$f":"Calcs!B176","v":"Late Sowing"},null,null,null,null,null,null,null,null,null,null,null,null,null,"Gross margin (kr/ha)"]
[{"$f":"Calcs!A45","v":39},{"$f":"Calcs!B177","v":"Standard seeding rate"},null,null,null,null,null,null,null,null,null,null,null,null,null,"Mature ryegrass plants setting seed"]
[{"$f":"Calcs!A46","v":40},{"$f":"Calcs!B179","v":"High seeding rate"},null,null,null,"Costs are included in the non-weed-control costs."]
[{"$f":"Calcs!A47","v":41},{"$f":"Calcs!B180","v":"Cover crops"},null,null,{"$f":"Calcs!C180","v":0},{"$f":"Calcs!D180","v":0},{"$f":"Calcs!E180","v":0},{"$f":"Calcs!F180","v":0},{"$f":"Calcs!G180","v":0},{"$f":"Calcs!H180","v":0},{"$f":"Calcs!I180","v":0},{"$f":"Calcs!J180","v":0},{"$f":"Calcs!K180","v":0},{"$f":"Calcs!L180","v":0}]
[{"$f":"Calcs!A48","v":42},{"$f":"Calcs!B181","v":"No cover crops"},null,null,{"$f":"Calcs!C181","v":0},{"$f":"Calcs!D181","v":0},{"$f":"Calcs!E181","v":0},{"$f":"Calcs!F181","v":0},{"$f":"Calcs!G181","v":0},{"$f":"Calcs!H181","v":0},{"$f":"Calcs!I181","v":0},{"$f":"Calcs!J181","v":0},{"$f":"Calcs!K181","v":0},{"$f":"Calcs!L181","v":0}]
[{"$f":"Calcs!A49","v":43},{"$f":"Calcs!B182","v":"Post-E: Topik"},null,null,{"$f":"Calcs!C182","v":0},{"$f":"Calcs!D182","v":0},{"$f":"Calcs!E182","v":0},{"$f":"Calcs!F182","v":0},{"$f":"Calcs!G182","v":0},{"$f":"Calcs!H182","v":0},{"$f":"Calcs!I182","v":0},{"$f":"Calcs!J182","v":0},{"$f":"Calcs!K182","v":0},{"$f":"Calcs!L182","v":0}]
[{"$f":"Calcs!A50","v":44},{"$f":"Calcs!B183","v":"Post-E: Atlantis OD"},null,null,{"$f":"Calcs!C183","v":0},{"$f":"Calcs!D183","v":0},{"$f":"Calcs!E183","v":0},{"$f":"Calcs!F183","v":0},{"$f":"Calcs!G183","v":0},{"$f":"Calcs!H183","v":0},{"$f":"Calcs!I183","v":0},{"$f":"Calcs!J183","v":0},{"$f":"Calcs!K183","v":0},{"$f":"Calcs!L183","v":0}]
[{"$f":"Calcs!A51","v":45},{"$f":"Calcs!B184","v":"Post-E: Hussar Plus OD"},null,null,{"$f":"Calcs!C184","v":163},{"$f":"Calcs!D184","v":0},{"$f":"Calcs!E184","v":251},{"$f":"Calcs!F184","v":0},{"$f":"Calcs!G184","v":163},{"$f":"Calcs!H184","v":0},{"$f":"Calcs!I184","v":251},{"$f":"Calcs!J184","v":0},{"$f":"Calcs!K184","v":163},{"$f":"Calcs!L184","v":0},null,null,null,null,null,null,null,null,null,null,null,null," "]
[{"$f":"Calcs!A52","v":46},{"$f":"Calcs!B185","v":"Post-E: Broadway"},null,null,{"$f":"Calcs!C185","v":0},{"$f":"Calcs!D185","v":0},{"$f":"Calcs!E185","v":0},{"$f":"Calcs!F185","v":0},{"$f":"Calcs!G185","v":0},{"$f":"Calcs!H185","v":0},{"$f":"Calcs!I185","v":0},{"$f":"Calcs!J185","v":0},{"$f":"Calcs!K185","v":0},{"$f":"Calcs!L185","v":0}]
[{"$f":"Calcs!A53","v":47},{"$f":"Calcs!B186","v":"Post-E: Cossack OD"},null,null,{"$f":"Calcs!C186","v":0},{"$f":"Calcs!D186","v":0},{"$f":"Calcs!E186","v":0},{"$f":"Calcs!F186","v":0},{"$f":"Calcs!G186","v":0},{"$f":"Calcs!H186","v":0},{"$f":"Calcs!I186","v":0},{"$f":"Calcs!J186","v":0},{"$f":"Calcs!K186","v":0},{"$f":"Calcs!L186","v":0}]
[{"$f":"Calcs!A54","v":48},{"$f":"Calcs!B187","v":"Post-E: Focus Ultra"},null,null,{"$f":"Calcs!C187","v":0},{"$f":"Calcs!D187","v":0},{"$f":"Calcs!E187","v":0},{"$f":"Calcs!F187","v":0},{"$f":"Calcs!G187","v":0},{"$f":"Calcs!H187","v":0},{"$f":"Calcs!I187","v":0},{"$f":"Calcs!J187","v":0},{"$f":"Calcs!K187","v":0},{"$f":"Calcs!L187","v":0}]
[{"$f":"Calcs!A55","v":49},{"$f":"Calcs!B188","v":"Post-E: Kerb"},null,null,{"$f":"Calcs!C188","v":0},{"$f":"Calcs!D188","v":0},{"$f":"Calcs!E188","v":0},{"$f":"Calcs!F188","v":0},{"$f":"Calcs!G188","v":0},{"$f":"Calcs!H188","v":0},{"$f":"Calcs!I188","v":0},{"$f":"Calcs!J188","v":0},{"$f":"Calcs!K188","v":0},{"$f":"Calcs!L188","v":0}]
[{"$f":"Calcs!A56","v":50},{"$f":"Calcs!B189","v":"Summer option: None"},null,null,{"$f":"Calcs!C189","v":0},{"$f":"Calcs!D189","v":0},{"$f":"Calcs!E189","v":0},{"$f":"Calcs!F189","v":0},{"$f":"Calcs!G189","v":0},{"$f":"Calcs!H189","v":0},{"$f":"Calcs!I189","v":0},{"$f":"Calcs!J189","v":0},{"$f":"Calcs!K189","v":0},{"$f":"Calcs!L189","v":0}]
[{"$f":"Calcs!A57","v":51},{"$f":"Calcs!B190","v":"Summer option: dessication"},null,null,{"$f":"Calcs!C190","v":0},{"$f":"Calcs!D190","v":0},{"$f":"Calcs!E190","v":0},{"$f":"Calcs!F190","v":0},{"$f":"Calcs!G190","v":0},{"$f":"Calcs!H190","v":0},{"$f":"Calcs!I190","v":0},{"$f":"Calcs!J190","v":0},{"$f":"Calcs!K190","v":0},{"$f":"Calcs!L190","v":0}]
[{"$f":"Calcs!A58","v":52},{"$f":"Calcs!B191","v":"Summer option: crop sacrifies"},null,null,null,"Conditions are inluded in eco results for grain gross receipts"]
[{"$f":"Calcs!A59","v":53},{"$f":"Calcs!B192","v":"Summer option: Mulighed 1"},null,null,{"$f":"Calcs!C192","v":0},{"$f":"Calcs!D192","v":0},{"$f":"Calcs!E192","v":0},{"$f":"Calcs!F192","v":0},{"$f":"Calcs!G192","v":0},{"$f":"Calcs!H192","v":0},{"$f":"Calcs!I192","v":0},{"$f":"Calcs!J192","v":0},{"$f":"Calcs!K192","v":0},{"$f":"Calcs!L192","v":0}]
[{"$f":"Calcs!A60","v":54},{"$f":"Calcs!B193","v":"Summer option: Mulighed 2"},null,null,{"$f":"Calcs!C193","v":0},{"$f":"Calcs!D193","v":0},{"$f":"Calcs!E193","v":0},{"$f":"Calcs!F193","v":0},{"$f":"Calcs!G193","v":0},{"$f":"Calcs!H193","v":0},{"$f":"Calcs!I193","v":0},{"$f":"Calcs!J193","v":0},{"$f":"Calcs!K193","v":0},{"$f":"Calcs!L193","v":0}]
[{"$f":"Calcs!A61","v":55},{"$f":"Calcs!B194","v":"Harvester with bale presser"},null,null,{"$f":"Calcs!C194","v":0},{"$f":"Calcs!D194","v":0},{"$f":"Calcs!E194","v":0},{"$f":"Calcs!F194","v":0},{"$f":"Calcs!G194","v":0},{"$f":"Calcs!H194","v":0},{"$f":"Calcs!I194","v":0},{"$f":"Calcs!J194","v":0},{"$f":"Calcs!K194","v":0},{"$f":"Calcs!L194","v":0}]
[{"$f":"Calcs!A62","v":56},{"$f":"Calcs!B195","v":"Harvester with chopping of straws"},null,null,{"$f":"Calcs!C195","v":1125},{"$f":"Calcs!D195","v":0},{"$f":"Calcs!E195","v":1125},{"$f":"Calcs!F195","v":1125},{"$f":"Calcs!G195","v":1125},{"$f":"Calcs!H195","v":0},{"$f":"Calcs!I195","v":1125},{"$f":"Calcs!J195","v":1125},{"$f":"Calcs!K195","v":1125},{"$f":"Calcs!L195","v":0}]
[{"$f":"Calcs!A63","v":57},{"$f":"Calcs!B196","v":"Oilseed rape, harvest"},null,null,{"$f":"Calcs!C196","v":0},{"$f":"Calcs!D196","v":850},{"$f":"Calcs!E196","v":0},{"$f":"Calcs!F196","v":0},{"$f":"Calcs!G196","v":0},{"$f":"Calcs!H196","v":850},{"$f":"Calcs!I196","v":0},{"$f":"Calcs!J196","v":0},{"$f":"Calcs!K196","v":0},{"$f":"Calcs!L196","v":850}]
[{"$f":"Calcs!A64","v":58},{"$f":"Calcs!B197","v":"Oilseed rape, harvest, with swathing"},null,null,{"$f":"Calcs!C197","v":0},{"$f":"Calcs!D197","v":0},{"$f":"Calcs!E197","v":0},{"$f":"Calcs!F197","v":0},{"$f":"Calcs!G197","v":0},{"$f":"Calcs!H197","v":0},{"$f":"Calcs!I197","v":0},{"$f":"Calcs!J197","v":0},{"$f":"Calcs!K197","v":0},{"$f":"Calcs!L197","v":0}]
[59,{"$f":"Calcs!B198","v":"Legumes, harvest with chopping"},null,null,{"$f":"Calcs!C198","v":0},{"$f":"Calcs!D198","v":0},{"$f":"Calcs!E198","v":0},{"$f":"Calcs!F198","v":0},{"$f":"Calcs!G198","v":0},{"$f":"Calcs!H198","v":0},{"$f":"Calcs!I198","v":0},{"$f":"Calcs!J198","v":0},{"$f":"Calcs!K198","v":0},{"$f":"Calcs!L198","v":0}]
[60,{"$f":"Calcs!B199","v":"Seed Catching"}]
[61,"None/grass",null,null,{"$f":"Calcs!C200","v":0},{"$f":"Calcs!D200","v":0},{"$f":"Calcs!E200","v":0},{"$f":"Calcs!F200","v":0},{"$f":"Calcs!G200","v":0},{"$f":"Calcs!H200","v":0},{"$f":"Calcs!I200","v":0},{"$f":"Calcs!J200","v":0},{"$f":"Calcs!K200","v":0},{"$f":"Calcs!L200","v":0}]
[null,{"$f":"Calcs!B373","v":"Machinery repayments (from '+Prices', goes to 'Eco results')"},null,null,{"$f":"Calcs!C373","v":0},{"$f":"Calcs!D373","v":0},{"$f":"Calcs!E373","v":0},{"$f":"Calcs!F373","v":0},{"$f":"Calcs!G373","v":0},{"$f":"Calcs!H373","v":0},{"$f":"Calcs!I373","v":0},{"$f":"Calcs!J373","v":0},{"$f":"Calcs!K373","v":0},{"$f":"Calcs!L373","v":0}]
[null,"Total weed control costs (kr/ha)",null,null,{"$f":"SUM(E15:E76)","v":1288},850,1886,1958,1288,850,1886,1958,1288,850]
[]
[null,"Total variable input costs (kr/ha)",null,null,{"$f":"E13+E77","v":5698},6874,7103.7,6800,5698,6874,7103.7,6800,5698,6874,{"$f":"SUM(E77:N77)-SUM(Q8:Z11)","v":-42716.4}]
[]
[null,"Annual gross margins (kr/ha) ",null,null,{"$f":"E5-E79","v":2123.1072062869189},4306.7180797539131,5023.1274257801897,1790.6120452255946,1930.7251980649171,4051.3300233301052,4814.7772587476074,1180.0033030912882,1588.6889128566499,3641.7416559940375]
[]
[null,"Table 3. Results that allow for inflation, interest and tax"]
[null,"Gross receipts (kr/ha)",null,null,{"$f":"E5*Calcs!C376*Calcs!C377","v":7978.3114611332858},{"$f":"F5*Calcs!D376*Calcs!D377","v":11634.700068471422},{"$f":"G5*Calcs!E376*Calcs!E377","v":12872.871675326522},{"$f":"H5*Calcs!F376*Calcs!F377","v":9302.4018586218917},{"$f":"I5*Calcs!G376*Calcs!G377","v":8426.85864246448},{"$f":"J5*Calcs!H376*Calcs!H377","v":12310.935332740657},{"$f":"K5*Calcs!I376*Calcs!I377","v":13699.982269989394},{"$f":"L5*Calcs!J376*Calcs!J377","v":9357.1814596254189},{"$f":"M5*Calcs!K376*Calcs!K377","v":8715.9545492274901},{"$f":"N5*Calcs!L376*Calcs!L377","v":12831.203231309864}]
[null,"Costs (kr/ha)",null,null,{"$f":"E79*Calcs!C378","v":5868.9400000000005},{"$f":"F79*Calcs!D378","v":7292.6265999999996},{"$f":"G79*Calcs!E378","v":7762.4047898999997},{"$f":"H79*Calcs!F378","v":7653.4599080000007},{"$f":"I79*Calcs!G378","v":6605.5436753614003},{"$f":"J79*Calcs!H378","v":8207.9154863403473},{"$f":"K79*Calcs!I378","v":8736.6549778186509},{"$f":"L79*Calcs!J378","v":8614.0365534357916},{"$f":"M79*Calcs!K378","v":7434.5976014590378},{"$f":"N79*Calcs!L378","v":9238.0811916114963}]
[null,"Interest (kr/ha)",null,null,0,{"$f":"'+Prices'!$AV71*E88","v":0},{"$f":"'+Prices'!$AV71*F88","v":0},{"$f":"'+Prices'!$AV71*G88","v":0},{"$f":"'+Prices'!$AV71*H88","v":0},{"$f":"'+Prices'!$AV71*I88","v":0},{"$f":"'+Prices'!$AV71*J88","v":0},{"$f":"'+Prices'!$AV71*K88","v":0},{"$f":"'+Prices'!$AV71*L88","v":0},{"$f":"'+Prices'!$AV71*M88","v":0}]
[null,"Tax  (kr/ha)",null,null,{"$f":"'+Prices'!$AV72*(E84-E85+E86)","v":0},{"$f":"'+Prices'!$AV72*(F84-F85+F86)","v":0},{"$f":"'+Prices'!$AV72*(G84-G85+G86)","v":0},{"$f":"'+Prices'!$AV72*(H84-H85+H86)","v":0},{"$f":"'+Prices'!$AV72*(I84-I85+I86)","v":0},{"$f":"'+Prices'!$AV72*(J84-J85+J86)","v":0},{"$f":"'+Prices'!$AV72*(K84-K85+K86)","v":0},{"$f":"'+Prices'!$AV72*(L84-L85+L86)","v":0},{"$f":"'+Prices'!$AV72*(M84-M85+M86)","v":0},{"$f":"'+Prices'!$AV72*(N84-N85+N86)","v":0}]
[null,"Running total (kr/ha)",null,null,{"$f":"E84-E85+E86-E87","v":2109.3714611332853},{"$f":"F84-F85+F86-F87+E88","v":6451.4449296047078},{"$f":"G84-G85+G86-G87+F88","v":11561.91181503123},13210.853765653121,15032.168732756199,19135.188579156507,24098.51587132725,24841.660777516878,26123.017725285332,29716.139764983702]
[null,"Final balance after 10 years  (kr/ha)",null,null,{"$f":"N88","v":29716.139764983702}]
[null,"Equivalent opening balance* (kr/ha)",null,null,{"$f":"E89/(1+'+Prices'!$AV$71*(1-'+Prices'!$AV$72))^10","v":29716.139764983702}]
[null,"Equivalent annual profit** (kr/ha)",null,null,{"$f":"ROUND((-PMT('+Prices'!$AV$71*(1-'+Prices'!$AV$72),10,E90)/(1-'+Prices'!$AV$72)),-2)","v":3000}]
[]
[null,"* If you started a bank account at the start of year 1 and earned interest (minus tax) over 10 or 20 years,"]
[null,"   this is the opening balance that would give you the above \"Final balance after 10 or 20 years\"."]
[null,"** If you could earn a constant profit per ha per year over the 10 or 20 years, this is the annual amount "]
[null,"     that would result in the above \"Final balance after 10 or20 years\" after allowing for interest and tax."]